{"text_format":"1","workbook":"xlsx","n_sheets":97,"sheets":["State","County","UI Covered Statewide","UI Covered County","Adams (001)","Allen (003)","Bartholomew (005)","Benton (007)","Blackford (009)","Boone (011)","Brown (013)","Carroll (015)","Cass (017)","Clark (019)","Clay (021)","Clinton (023)","Crawford (025)","Daviess (027)","Dearborn (029)","Decatur (031)","Dekalb (033)","Delaware (035)","Dubois (037)","Elkhart (039)","Fayette (041)","Floyd (43)","Fountain (045)","Franklin (047)","Fulton (049)","Gibson (051)","Grant (053)","Greene (055)","Hamilton (057)","Hancock (059)","Harrison (061)","Hendricks (063)","Henry (065)","Howard (067)","Huntington (069)","Jackson (071)","Jasper (73)","Jay (075)","Jefferson (077)","Jennings (079)","Johnson (081)","Knox (083)","Kosciusko (085)","Lagrange (087)","Lake (089)","Laporte (091)","Lawrence (093)","Madison (095)","Marion (097)","Marshall (099)","Martin (101)","Miami (103)","Monroe (105)","Montgomery (107)","Morgan (109)","Newton (111)","Noble (113)","Ohio (115)","Orange (117)","Owen (119)","Parke (121)","Perry (123)","Pike (125)","Porter (127)","Posey (129)","Pulaski (131)","Putnam (133)","Randolph (135)","Ripley (137)","Rush (139)","St. Joseph (141)","Scott (143)","Shelby (145)","Spencer (147)","Starke (149)","Steuben (151)","Sullivan (153)","Switzerland (155)","Tippecanoe (157)","Tipton (159)","Union (161)","Vanderburgh (163)","Vermillion (165)","Vigo (167)","Wabash (169)","Warren (171)","Warrick (173)","Washington (175)","Wayne (177)","Wells (179)","White (181)","Whitley (183)","Not classified (999)"],"not_rendered":{"charts":93,"images":3,"macros":1,"external_links":0,"defined_names":97,"comments":0,"pivot_tables":0},"unopened":[],"bounds":{"document_bytes":16777216,"sheet_cells":100000,"rows_first":2000,"rows_last":500,"rows_between":2000,"halvings":0,"cell_chars":16384,"cell_head_chars":4096},"cells_cut":0,"cells_raw":0,"read":"whole","date_system":"1900"}

{"sheet":"State","index":0,"n_rows":29,"n_cols":11,"rows_kept":29,"cut":false,"hidden":true,"merged":[[0,8,0,10]]}
[null,null,"2014 Annual Averages",null,null,null,null,null,"DO NOT DELETE FORMULAS!!!!!!!!"]
[null,"Ownership","NAICS Sectors","SuperSector NAICS Code","Reporting Units","AME","Total Annual Wages","AWW","Average Number of Workers","Total Annual Wages Rnd","Average Annual Wages Rnd"]
[0,5,"AGRICULTURE, FORESTRY, FISHING AND HUNTI",11,1655,14591,522655763,689,{"$f":"ROUND((F3*1),-1)","v":14590},{"$f":"ROUND((G3),-2)","v":522655800},{"$f":"ROUND((G3/I3),-2)","v":35800}]
[0,5,"MINING, QUARRYING, AND OIL AND GAS EXTRA",21,349,6893,477896384,1333,{"$f":"ROUND((F4*1),-1)","v":6890},{"$f":"ROUND((G4),-2)","v":477896400},69400]
[0,5,"UTILITIES",22,427,14133,1230987668,1675,14130,1230987700,87100]
[0,5,"CONSTRUCTION",23,14422,123086,6462031879,1010,123090,6462031900,52500]
[0,5,"MANUFACTURING","31-33",8431,507198,29248207720,1109,507200,29248207700,57700]
[0,5,"WHOLESALE TRADE",42,13281,117788,7101075772,1159,117790,7101075800,60300]
[0,5,"RETAIL TRADE","44-45",20361,319060,8005585691,483,319060,8005585700,25100]
[0,5,"TRANSPORTATION AND WAREHOUSING","48-49",5441,116775,4884739330,804,116780,4884739300,41800]
[0,5,"INFORMATION",51,2161,35565,1943943493,1051,35570,1943943500,54700]
[0,5,"FINANCE AND INSURANCE",52,9749,93044,5908123954,1221,93040,5908124000,63500]
[0,5,"REAL ESTATE AND RENTAL AND LEASING",53,5650,32890,1324610691,774,32890,1324610700,40300]
[0,5,"PROFESSIONAL AND TECHNICAL SERVICES",54,17005,105228,6436740365,1176,105230,6436740400,61200]
[0,5,"MANAGEMENT OF COMPANIES AND ENTERPRISES",55,1202,32124,2822123370,1689,32120,2822123400,{"$f":"ROUND((G15/F15/100)*100,-2)","v":87900}]
[0,5,"ADMINISTRATIVE AND WASTE SERVICES",56,8789,183872,5207202047,545,183870,5207202000,{"$f":"ROUND((G16/I16),-2)","v":28300}]
[0,5,"EDUCATIONAL SERVICES",61,1692,49710,1827799230,707,49710,1827799200,36800]
[0,5,"HEALTH CARE AND SOCIAL ASSISTANCE",62,12922,371074,16133777693,836,371070,16133777700,43500]
[0,5,"ARTS, ENTERTAINMENT, AND RECREATION",71,2039,40597,1219384953,578,40600,1219385000,30000]
[0,5,"ACCOMMODATION AND FOOD SERVICES",72,12676,253141,3608046106,274,253140,3608046100,14300]
[0,5,"OTHER SERVICES, EXCEPT PUBLIC ADMIN",81,12980,83192,2427386760,561,83190,2427386800,29200]
[0,3,"LOCAL GOVERNMENT",11,3092,267251,9794736324,705,267250,9794736300,36600]
[0,3,"EDUCATIONAL SERVICES",61,1333,145761,5153216803,680,145760,5153216800,35400]
[0,3,"HEALTH CARE AND SOCIAL ASSISTANCE",62,112,25666,1222854076,916,25670,1222854100,47600]
[0,2,"STATE GOVERNMENT",11,1385,87395,3968540477,873,87400,3968540500,45400]
[0,2,"EDUCATIONAL SERVICES",61,41,55004,2616416643,915,55000,2616416600,47600]
[0,2,"HEALTH CARE AND SOCIAL ASSISTANCE",62,8,2203,86791526,758,2200,86791500,39400]
[0,"U","TOTAL UI COVERED",11,157111,2854651,120556750177,812,2854650,120556750200,42200]
[0,1,"FEDERAL GOVERNMENT",11,1219,36218,2454749259,1303,36220,2454749300,67800]

{"sheet":"County","index":1,"n_rows":2513,"n_cols":12,"rows_kept":2513,"cut":false,"hidden":true,"merged":[[0,9,0,11]]}
[null,null,null,"2014 Annual Averages",null,null,null,null,null,"DO NOT DELETE FORMULAS !!!!"]
["Disclosure",null,"Ownership","NAICS Sectors","SuperSector NAICS Code","Reporting Units","AME","Total Annual Wages","AWW","Average Number of Workers","Total Annual Wages Rnd","Average Annual Wages Rnd"]
[null,1,5,"AGRICULTURE, FORESTRY, FISHING AND HUNTI",11,23,140,4115265,565,{"$f":"IF(County!G3=0,\"0\",IF(County!G3<5,\"*\",ROUND((G3*1),-1)))","v":140},{"$f":"ROUND((H3),-2)","v":4115300},{"$f":"IF(G3=0,0,IF(J3=\"*\",\"*\",ROUND((K3/J3),-2)))","v":29400}]
["D",1,5,"MINING, QUARRYING, AND OIL AND GAS EXTRA",21,1,18,1040661,1112,{"$f":"IF(County!G4=0,\"0\",IF(County!G4<5,\"*\",ROUND((G4*1),-1)))","v":20},1040700,{"$f":"IF(G4=0,0,IF(J4=\"*\",\"*\",ROUND((K4/J4),-2)))","v":52000}]
["D",1,5,"UTILITIES",22,1,14,1281954,1761,{"$f":"IF(County!G5=0,\"0\",IF(County!G5<5,\"*\",ROUND((G5*1),-1)))","v":10},1282000,128200]
[null,1,5,"CONSTRUCTION",23,68,339,12420638,705,{"$f":"IF(County!G6=0,\"0\",IF(County!G6<5,\"*\",ROUND((G6*1),-1)))","v":340},12420600,36500]
[null,1,5,"MANUFACTURING","31-33",63,4835,212086486,844,{"$f":"IF(County!G7=0,\"0\",IF(County!G7<5,\"*\",ROUND((G7*1),-1)))","v":4840},212086500,43800]
[null,1,5,"WHOLESALE TRADE",42,36,379,17316439,879,{"$f":"IF(County!G8=0,\"0\",IF(County!G8<5,\"*\",ROUND((G8*1),-1)))","v":380},17316400,45600]
[null,1,5,"RETAIL TRADE","44-45",129,1347,30643583,437,{"$f":"IF(County!G9=0,\"0\",IF(County!G9<5,\"*\",ROUND((G9*1),-1)))","v":1350},{"$f":"ROUND((H9),-2)","v":30643600},22700]
[null,1,5,"TRANSPORTATION AND WAREHOUSING","48-49",36,350,12468631,685,{"$f":"IF(County!G10=0,\"0\",IF(County!G10<5,\"*\",ROUND((G10*1),-1)))","v":350},12468600,35600]
[null,1,5,"INFORMATION",51,9,239,9414657,758,{"$f":"IF(County!G11=0,\"0\",IF(County!G11<5,\"*\",ROUND((G11*1),-1)))","v":240},9414700,39200]
[null,1,5,"FINANCE AND INSURANCE",52,43,267,10539369,759,{"$f":"IF(County!G12=0,\"0\",IF(County!G12<5,\"*\",ROUND((G12*1),-1)))","v":270},10539400,39000]
[null,1,5,"REAL ESTATE AND RENTAL AND LEASING",53,16,71,2201200,596,{"$f":"IF(County!G13=0,\"0\",IF(County!G13<5,\"*\",ROUND((G13*1),-1)))","v":70},2201200,31400]
[null,1,5,"PROFESSIONAL AND TECHNICAL SERVICES",54,38,151,6931404,883,{"$f":"IF(County!G14=0,\"0\",IF(County!G14<5,\"*\",ROUND((G14*1),-1)))","v":150},6931400,46200]
["D",1,5,"MANAGEMENT OF COMPANIES AND ENTERPRISES",55,2,5,667714,2568,{"$f":"IF(County!G15=0,\"0\",IF(County!G15<5,\"*\",ROUND((G15*1),-1)))","v":10},667700,66800]
[null,1,5,"ADMINISTRATIVE AND WASTE SERVICES",56,44,560,9202084,316,{"$f":"IF(County!G16=0,\"0\",IF(County!G16<5,\"*\",ROUND((G16*1),-1)))","v":560},9202100,16400]
[null,1,5,"EDUCATIONAL SERVICES",61,4,19,201119,204,{"$f":"IF(County!G17=0,\"0\",IF(County!G17<5,\"*\",ROUND((G17*1),-1)))","v":20},201100,10100]
[null,1,5,"HEALTH CARE AND SOCIAL ASSISTANCE",62,36,950,24724756,501,{"$f":"IF(County!G18=0,\"0\",IF(County!G18<5,\"*\",ROUND((G18*1),-1)))","v":950},24724800,26000]
[null,1,5,"ARTS, ENTERTAINMENT, AND RECREATION",71,7,49,482554,189,{"$f":"IF(County!G19=0,\"0\",IF(County!G19<5,\"*\",ROUND((G19*1),-1)))","v":50},482600,9700]
[null,1,5,"ACCOMMODATION AND FOOD SERVICES",72,52,852,8690436,196,{"$f":"IF(County!G20=0,\"0\",IF(County!G20<5,\"*\",ROUND((G20*1),-1)))","v":850},8690400,10200]
[null,1,5,"OTHER SERVICES, EXCEPT PUBLIC ADMIN",81,66,367,7547747,396,{"$f":"IF(County!G21=0,\"0\",IF(County!G21<5,\"*\",ROUND((G21*1),-1)))","v":370},7547700,20400]
[null,1,3,"LOCAL GOVERNMENT",11,19,1996,63938294,616,{"$f":"IF(County!G22=0,\"0\",IF(County!G22<5,\"*\",ROUND((G22*1),-1)))","v":2000},63938300,32000]
[null,1,3,"EDUCATIONAL SERVICES",61,6,858,25324679,568,{"$f":"IF(County!G23=0,\"0\",IF(County!G23<5,\"*\",ROUND((G23*1),-1)))","v":860},25324700,29400]
["D",1,3,"HEALTH CARE AND SOCIAL ASSISTANCE",62,2,664,26957623,781,{"$f":"IF(County!G24=0,\"0\",IF(County!G24<5,\"*\",ROUND((G24*1),-1)))","v":660},26957600,40800]
[null,1,2,"STATE GOVERNMENT",11,11,57,2095816,707,{"$f":"IF(County!G25=0,\"0\",IF(County!G25<5,\"*\",ROUND((G25*1),-1)))","v":60},2095800,34900]
[null,1,2,"EDUCATIONAL SERVICES",61,0,0,0,0,{"$f":"IF(County!G26=0,\"0\",IF(County!G26<5,\"*\",ROUND((G26*1),-1)))","v":"0"},0,0]
[null,1,2,"HEALTH CARE AND SOCIAL ASSISTANCE",62,0,0,0,0,{"$f":"IF(County!G27=0,\"0\",IF(County!G27<5,\"*\",ROUND((G27*1),-1)))","v":"0"},0,0]
[null,1,"U","TOTAL UI COVERED",11,704,13003,438010807,648,{"$f":"IF(County!G28=0,\"0\",IF(County!G28<5,\"*\",ROUND((G28*1),-1)))","v":13000},438010800,33700]
[null,1,1,"FEDERAL GOVERNMENT",11,7,57,2691542,908,{"$f":"IF(County!G29=0,\"0\",IF(County!G29<5,\"*\",ROUND((G29*1),-1)))","v":60},2691500,44900]
[null,3,5,"AGRICULTURE, FORESTRY, FISHING AND HUNTI",11,30,211,6478271,590,{"$f":"IF(County!G30=0,\"0\",IF(County!G30<5,\"*\",ROUND((G30*1),-1)))","v":210},6478300,30800]
[null,3,5,"MINING, QUARRYING, AND OIL AND GAS EXTRA",21,6,91,5884838,1244,{"$f":"IF(County!G31=0,\"0\",IF(County!G31<5,\"*\",ROUND((G31*1),-1)))","v":90},5884800,65400]
[null,3,5,"UTILITIES",22,12,456,40502236,1708,{"$f":"IF(County!G32=0,\"0\",IF(County!G32<5,\"*\",ROUND((G32*1),-1)))","v":460},40502200,88000]
[null,3,5,"CONSTRUCTION",23,860,8092,400367085,951,{"$f":"IF(County!G33=0,\"0\",IF(County!G33<5,\"*\",ROUND((G33*1),-1)))","v":8090},400367100,49500]
[null,3,5,"MANUFACTURING","31-33",487,27278,1539127608,1085,{"$f":"IF(County!G34=0,\"0\",IF(County!G34<5,\"*\",ROUND((G34*1),-1)))","v":27280},1539127600,56400]
[null,3,5,"WHOLESALE TRADE",42,606,8887,454772552,984,{"$f":"IF(County!G35=0,\"0\",IF(County!G35<5,\"*\",ROUND((G35*1),-1)))","v":8890},454772600,51200]
[null,3,5,"RETAIL TRADE","44-45",1153,20442,513377689,483,{"$f":"IF(County!G36=0,\"0\",IF(County!G36<5,\"*\",ROUND((G36*1),-1)))","v":20440},513377700,25100]
[null,3,5,"TRANSPORTATION AND WAREHOUSING","48-49",282,6302,286209440,873,{"$f":"IF(County!G37=0,\"0\",IF(County!G37<5,\"*\",ROUND((G37*1),-1)))","v":6300},286209400,45400]
[null,3,5,"INFORMATION",51,94,2825,155748094,1060,{"$f":"IF(County!G38=0,\"0\",IF(County!G38<5,\"*\",ROUND((G38*1),-1)))","v":2830},155748100,55000]
[null,3,5,"FINANCE AND INSURANCE",52,643,8209,522188358,1223,{"$f":"IF(County!G39=0,\"0\",IF(County!G39<5,\"*\",ROUND((G39*1),-1)))","v":8210},522188400,63600]
[null,3,5,"REAL ESTATE AND RENTAL AND LEASING",53,382,1892,64551337,656,{"$f":"IF(County!G40=0,\"0\",IF(County!G40<5,\"*\",ROUND((G40*1),-1)))","v":1890},64551300,34200]
[null,3,5,"PROFESSIONAL AND TECHNICAL SERVICES",54,928,5515,294424616,1027,{"$f":"IF(County!G41=0,\"0\",IF(County!G41<5,\"*\",ROUND((G41*1),-1)))","v":5520},294424600,53300]
[null,3,5,"MANAGEMENT OF COMPANIES AND ENTERPRISES",55,64,1721,114241799,1277,{"$f":"IF(County!G42=0,\"0\",IF(County!G42<5,\"*\",ROUND((G42*1),-1)))","v":1720},114241800,66400]
[null,3,5,"ADMINISTRATIVE AND WASTE SERVICES",56,497,10889,266359488,470,{"$f":"IF(County!G43=0,\"0\",IF(County!G43<5,\"*\",ROUND((G43*1),-1)))","v":10890},266359500,24500]
[null,3,5,"EDUCATIONAL SERVICES",61,85,3209,95226041,571,{"$f":"IF(County!G44=0,\"0\",IF(County!G44<5,\"*\",ROUND((G44*1),-1)))","v":3210},95226000,29700]
[null,3,5,"HEALTH CARE AND SOCIAL ASSISTANCE",62,755,30271,1377419169,875,{"$f":"IF(County!G45=0,\"0\",IF(County!G45<5,\"*\",ROUND((G45*1),-1)))","v":30270},1377419200,45500]
[null,3,5,"ARTS, ENTERTAINMENT, AND RECREATION",71,142,2387,39788983,321,{"$f":"IF(County!G46=0,\"0\",IF(County!G46<5,\"*\",ROUND((G46*1),-1)))","v":2390},39789000,16600]
[null,3,5,"ACCOMMODATION AND FOOD SERVICES",72,706,15832,222630867,270,{"$f":"IF(County!G47=0,\"0\",IF(County!G47<5,\"*\",ROUND((G47*1),-1)))","v":15830},222630900,14100]
[null,3,5,"OTHER SERVICES, EXCEPT PUBLIC ADMIN",81,719,5015,133076068,510,{"$f":"IF(County!G48=0,\"0\",IF(County!G48<5,\"*\",ROUND((G48*1),-1)))","v":5020},133076100,26500]
[null,3,3,"LOCAL GOVERNMENT",11,191,12773,488955490,736,{"$f":"IF(County!G49=0,\"0\",IF(County!G49<5,\"*\",ROUND((G49*1),-1)))","v":12770},488955500,38300]
[null,3,3,"EDUCATIONAL SERVICES",61,136,7277,270598288,715,{"$f":"IF(County!G50=0,\"0\",IF(County!G50<5,\"*\",ROUND((G50*1),-1)))","v":7280},270598300,37200]
["D",3,3,"HEALTH CARE AND SOCIAL ASSISTANCE",62,3,67,1827780,525,{"$f":"IF(County!G51=0,\"0\",IF(County!G51<5,\"*\",ROUND((G51*1),-1)))","v":70},1827800,26100]
[null,3,2,"STATE GOVERNMENT",11,25,2994,111830575,718,{"$f":"IF(County!G52=0,\"0\",IF(County!G52<5,\"*\",ROUND((G52*1),-1)))","v":2990},111830600,37400]
[null,3,2,"EDUCATIONAL SERVICES",61,3,2297,82222101,688,{"$f":"IF(County!G53=0,\"0\",IF(County!G53<5,\"*\",ROUND((G53*1),-1)))","v":2300},82222100,35700]
[null,3,2,"HEALTH CARE AND SOCIAL ASSISTANCE",62,0,0,0,0,{"$f":"IF(County!G54=0,\"0\",IF(County!G54<5,\"*\",ROUND((G54*1),-1)))","v":"0"},0,0]
[null,3,"U","TOTAL UI COVERED",11,8662,175288,7133160604,783,{"$f":"IF(County!G55=0,\"0\",IF(County!G55<5,\"*\",ROUND((G55*1),-1)))","v":175290},7133160600,40700]
[null,3,1,"FEDERAL GOVERNMENT",11,40,1834,125843672,1320,{"$f":"IF(County!G56=0,\"0\",IF(County!G56<5,\"*\",ROUND((G56*1),-1)))","v":1830},125843700,68800]
[null,5,5,"AGRICULTURE, FORESTRY, FISHING AND HUNTI",11,16,56,2037493,700,{"$f":"IF(County!G57=0,\"0\",IF(County!G57<5,\"*\",ROUND((G57*1),-1)))","v":60},2037500,34000]
["D",5,5,"MINING, QUARRYING, AND OIL AND GAS EXTRA",21,2,28,1693797,1163,{"$f":"IF(County!G58=0,\"0\",IF(County!G58<5,\"*\",ROUND((G58*1),-1)))","v":30},1693800,56500]
[null,5,5,"UTILITIES",22,9,141,10798018,1473,{"$f":"IF(County!G59=0,\"0\",IF(County!G59<5,\"*\",ROUND((G59*1),-1)))","v":140},10798000,77100]
[null,5,5,"CONSTRUCTION",23,150,1439,70142809,937,{"$f":"IF(County!G60=0,\"0\",IF(County!G60<5,\"*\",ROUND((G60*1),-1)))","v":1440},70142800,48700]
[null,5,5,"MANUFACTURING","31-33",142,18544,1244385647,1290,{"$f":"IF(County!G61=0,\"0\",IF(County!G61<5,\"*\",ROUND((G61*1),-1)))","v":18540},1244385600,67100]
[null,5,5,"WHOLESALE TRADE",42,110,1499,115598322,1483,{"$f":"IF(County!G62=0,\"0\",IF(County!G62<5,\"*\",ROUND((G62*1),-1)))","v":1500},115598300,77100]
[null,5,5,"RETAIL TRADE","44-45",284,4644,104686324,434,{"$f":"IF(County!G63=0,\"0\",IF(County!G63<5,\"*\",ROUND((G63*1),-1)))","v":4640},104686300,22600]
[null,5,5,"TRANSPORTATION AND WAREHOUSING","48-49",58,1189,52519719,849,{"$f":"IF(County!G64=0,\"0\",IF(County!G64<5,\"*\",ROUND((G64*1),-1)))","v":1190},52519700,44100]
[null,5,5,"INFORMATION",51,17,457,18025007,759,{"$f":"IF(County!G65=0,\"0\",IF(County!G65<5,\"*\",ROUND((G65*1),-1)))","v":460},18025000,39200]
[null,5,5,"FINANCE AND INSURANCE",52,116,1000,59982705,1154,{"$f":"IF(County!G66=0,\"0\",IF(County!G66<5,\"*\",ROUND((G66*1),-1)))","v":1000},59982700,60000]
[null,5,5,"REAL ESTATE AND RENTAL AND LEASING",53,71,310,9916489,615,{"$f":"IF(County!G67=0,\"0\",IF(County!G67<5,\"*\",ROUND((G67*1),-1)))","v":310},9916500,32000]
[null,5,5,"PROFESSIONAL AND TECHNICAL SERVICES",54,159,1617,93742070,1115,{"$f":"IF(County!G68=0,\"0\",IF(County!G68<5,\"*\",ROUND((G68*1),-1)))","v":1620},93742100,{"$f":"IF(G68=0,0,IF(J68=\"*\",\"*\",ROUND((K68/J68),-2)))","v":57900}]
[null,5,5,"MANAGEMENT OF COMPANIES AND ENTERPRISES",55,28,693,68486900,1901,{"$f":"IF(County!G69=0,\"0\",IF(County!G69<5,\"*\",ROUND((G69*1),-1)))","v":690},68486900,99300]
[null,5,5,"ADMINISTRATIVE AND WASTE SERVICES",56,86,2763,78084468,543,{"$f":"IF(County!G70=0,\"0\",IF(County!G70<5,\"*\",ROUND((G70*1),-1)))","v":2760},78084500,28300]
[null,5,5,"EDUCATIONAL SERVICES",61,17,160,3069637,369,{"$f":"IF(County!G71=0,\"0\",IF(County!G71<5,\"*\",ROUND((G71*1),-1)))","v":160},3069600,19200]
[null,5,5,"HEALTH CARE AND SOCIAL ASSISTANCE",62,200,3601,152365978,814,{"$f":"IF(County!G72=0,\"0\",IF(County!G72<5,\"*\",ROUND((G72*1),-1)))","v":3600},152366000,42300]
[null,5,5,"ARTS, ENTERTAINMENT, AND RECREATION",71,17,221,3363047,293,{"$f":"IF(County!G73=0,\"0\",IF(County!G73<5,\"*\",ROUND((G73*1),-1)))","v":220},{"$f":"ROUND((H73),-2)","v":3363000},15300]
[null,5,5,"ACCOMMODATION AND FOOD SERVICES",72,160,3675,51151135,268,{"$f":"IF(County!G74=0,\"0\",IF(County!G74<5,\"*\",ROUND((G74*1),-1)))","v":3680},51151100,13900]
[null,5,5,"OTHER SERVICES, EXCEPT PUBLIC ADMIN",81,142,842,20665620,472,{"$f":"IF(County!G75=0,\"0\",IF(County!G75<5,\"*\",ROUND((G75*1),-1)))","v":840},20665600,24600]
[null,5,3,"LOCAL GOVERNMENT",11,42,4628,172541264,717,{"$f":"IF(County!G76=0,\"0\",IF(County!G76<5,\"*\",ROUND((G76*1),-1)))","v":4630},172541300,37300]
["D",5,3,"EDUCATIONAL SERVICES",61,23,1862,61468447,635,{"$f":"IF(County!G77=0,\"0\",IF(County!G77<5,\"*\",ROUND((G77*1),-1)))","v":1860},61468400,33000]
["D",5,3,"HEALTH CARE AND SOCIAL ASSISTANCE",62,1,1514,67298310,855,{"$f":"IF(County!G78=0,\"0\",IF(County!G78<5,\"*\",ROUND((G78*1),-1)))","v":1510},67298300,44600]
["D",5,2,"STATE GOVERNMENT",11,18,982,30296652,593,{"$f":"IF(County!G79=0,\"0\",IF(County!G79<5,\"*\",ROUND((G79*1),-1)))","v":980},30296700,30900]
["D",5,2,"EDUCATIONAL SERVICES",61,1,810,23219935,551,{"$f":"IF(County!G80=0,\"0\",IF(County!G80<5,\"*\",ROUND((G80*1),-1)))","v":810},23219900,28700]
[null,5,2,"HEALTH CARE AND SOCIAL ASSISTANCE",62,0,0,0,0,{"$f":"IF(County!G81=0,\"0\",IF(County!G81<5,\"*\",ROUND((G81*1),-1)))","v":"0"},0,0]
[null,5,"U","TOTAL UI COVERED",11,1843,48486,2363553101,937,{"$f":"IF(County!G82=0,\"0\",IF(County!G82<5,\"*\",ROUND((G82*1),-1)))","v":48490},2363553100,48700]
[null,5,1,"FEDERAL GOVERNMENT",11,12,160,9847574,1184,{"$f":"IF(County!G83=0,\"0\",IF(County!G83<5,\"*\",ROUND((G83*1),-1)))","v":160},9847600,61500]
[null,7,5,"AGRICULTURE, FORESTRY, FISHING AND HUNTI",11,17,141,4747545,648,{"$f":"IF(County!G84=0,\"0\",IF(County!G84<5,\"*\",ROUND((G84*1),-1)))","v":140},4747500,33900]
["D",7,5,"MINING, QUARRYING, AND OIL AND GAS EXTRA",21,1,2,43750,421,{"$f":"IF(County!G85=0,\"0\",IF(County!G85<5,\"*\",ROUND((G85*1),-1)))","v":"*"},43800,"*"]
["D",7,5,"UTILITIES",22,2,27,1887009,1344,{"$f":"IF(County!G86=0,\"0\",IF(County!G86<5,\"*\",ROUND((G86*1),-1)))","v":30},1887000,62900]
[null,7,5,"CONSTRUCTION",23,20,63,2179822,665,{"$f":"IF(County!G87=0,\"0\",IF(County!G87<5,\"*\",ROUND((G87*1),-1)))","v":60},2179800,36300]
[null,7,5,"MANUFACTURING","31-33",15,418,18243728,839,{"$f":"IF(County!G88=0,\"0\",IF(County!G88<5,\"*\",ROUND((G88*1),-1)))","v":420},18243700,43400]
[null,7,5,"WHOLESALE TRADE",42,20,271,11303021,802,{"$f":"IF(County!G89=0,\"0\",IF(County!G89<5,\"*\",ROUND((G89*1),-1)))","v":270},11303000,41900]
[null,7,5,"RETAIL TRADE","44-45",29,210,3895078,357,{"$f":"IF(County!G90=0,\"0\",IF(County!G90<5,\"*\",ROUND((G90*1),-1)))","v":210},3895100,18500]
[null,7,5,"TRANSPORTATION AND WAREHOUSING","48-49",21,106,4183425,759,{"$f":"IF(County!G91=0,\"0\",IF(County!G91<5,\"*\",ROUND((G91*1),-1)))","v":110},4183400,38000]
["D",7,5,"INFORMATION",51,2,8,379626,913,{"$f":"IF(County!G92=0,\"0\",IF(County!G92<5,\"*\",ROUND((G92*1),-1)))","v":10},379600,38000]
[null,7,5,"FINANCE AND INSURANCE",52,12,136,6130492,867,{"$f":"IF(County!G93=0,\"0\",IF(County!G93<5,\"*\",ROUND((G93*1),-1)))","v":140},6130500,43800]
[null,7,5,"REAL ESTATE AND RENTAL AND LEASING",53,0,0,0,0,{"$f":"IF(County!G94=0,\"0\",IF(County!G94<5,\"*\",ROUND((G94*1),-1)))","v":"0"},0,0]
[null,7,5,"PROFESSIONAL AND TECHNICAL SERVICES",54,11,34,1460606,826,{"$f":"IF(County!G95=0,\"0\",IF(County!G95<5,\"*\",ROUND((G95*1),-1)))","v":30},1460600,48700]
[null,7,5,"MANAGEMENT OF COMPANIES AND ENTERPRISES",55,0,0,0,0,{"$f":"IF(County!G96=0,\"0\",IF(County!G96<5,\"*\",ROUND((G96*1),-1)))","v":"0"},0,0]
[null,7,5,"ADMINISTRATIVE AND WASTE SERVICES",56,7,14,316858,435,{"$f":"IF(County!G97=0,\"0\",IF(County!G97<5,\"*\",ROUND((G97*1),-1)))","v":10},316900,31700]
["D",7,5,"EDUCATIONAL SERVICES",61,1,8,21652,52,{"$f":"IF(County!G98=0,\"0\",IF(County!G98<5,\"*\",ROUND((G98*1),-1)))","v":10},21700,2200]
[null,7,5,"HEALTH CARE AND SOCIAL ASSISTANCE",62,11,96,2372768,475,{"$f":"IF(County!G99=0,\"0\",IF(County!G99<5,\"*\",ROUND((G99*1),-1)))","v":100},2372800,23700]
["D",7,5,"ARTS, ENTERTAINMENT, AND RECREATION",71,2,19,253244,256,{"$f":"IF(County!G100=0,\"0\",IF(County!G100<5,\"*\",ROUND((G100*1),-1)))","v":20},253200,12700]
[null,7,5,"ACCOMMODATION AND FOOD SERVICES",72,7,49,380037,149,{"$f":"IF(County!G101=0,\"0\",IF(County!G101<5,\"*\",ROUND((G101*1),-1)))","v":50},380000,7600]
[null,7,5,"OTHER SERVICES, EXCEPT PUBLIC ADMIN",81,12,60,2633140,844,{"$f":"IF(County!G102=0,\"0\",IF(County!G102<5,\"*\",ROUND((G102*1),-1)))","v":60},2633100,43900]
[null,7,3,"LOCAL GOVERNMENT",11,20,566,15537621,528,{"$f":"IF(County!G103=0,\"0\",IF(County!G103<5,\"*\",ROUND((G103*1),-1)))","v":570},15537600,27300]
["D",7,3,"EDUCATIONAL SERVICES",61,6,366,10640621,559,{"$f":"IF(County!G104=0,\"0\",IF(County!G104<5,\"*\",ROUND((G104*1),-1)))","v":370},10640600,28800]
[null,7,3,"HEALTH CARE AND SOCIAL ASSISTANCE",62,0,0,0,0,{"$f":"IF(County!G105=0,\"0\",IF(County!G105<5,\"*\",ROUND((G105*1),-1)))","v":"0"},0,0]
[null,7,2,"STATE GOVERNMENT",11,7,39,1424605,702,{"$f":"IF(County!G106=0,\"0\",IF(County!G106<5,\"*\",ROUND((G106*1),-1)))","v":40},1424600,35600]
[null,7,2,"EDUCATIONAL SERVICES",61,0,0,0,0,{"$f":"IF(County!G107=0,\"0\",IF(County!G107<5,\"*\",ROUND((G107*1),-1)))","v":"0"},0,0]
[null,7,2,"HEALTH CARE AND SOCIAL ASSISTANCE",62,0,0,0,0,{"$f":"IF(County!G108=0,\"0\",IF(County!G108<5,\"*\",ROUND((G108*1),-1)))","v":"0"},0,0]
[null,7,"U","TOTAL UI COVERED",11,216,2267,77394027,657,{"$f":"IF(County!G109=0,\"0\",IF(County!G109<5,\"*\",ROUND((G109*1),-1)))","v":2270},77394000,34100]
[null,7,1,"FEDERAL GOVERNMENT",11,7,26,1078932,798,{"$f":"IF(County!G110=0,\"0\",IF(County!G110<5,\"*\",ROUND((G110*1),-1)))","v":30},1078900,36000]
[null,9,5,"AGRICULTURE, FORESTRY, FISHING AND HUNTI",11,6,45,1479633,632,{"$f":"IF(County!G111=0,\"0\",IF(County!G111<5,\"*\",ROUND((G111*1),-1)))","v":50},1479600,29600]
["D",9,5,"MINING, QUARRYING, AND OIL AND GAS EXTRA",21,1,10,327017,629,{"$f":"IF(County!G112=0,\"0\",IF(County!G112<5,\"*\",ROUND((G112*1),-1)))","v":10},327000,32700]
["D",9,5,"UTILITIES",22,1,1,1200,23,{"$f":"IF(County!G113=0,\"0\",IF(County!G113<5,\"*\",ROUND((G113*1),-1)))","v":"*"},1200,"*"]
[null,9,5,"CONSTRUCTION",23,11,23,613906,513,{"$f":"IF(County!G114=0,\"0\",IF(County!G114<5,\"*\",ROUND((G114*1),-1)))","v":20},613900,30700]
[null,9,5,"MANUFACTURING","31-33",19,942,43279317,884,{"$f":"IF(County!G115=0,\"0\",IF(County!G115<5,\"*\",ROUND((G115*1),-1)))","v":940},43279300,46000]
[null,9,5,"WHOLESALE TRADE",42,11,134,5038548,723,{"$f":"IF(County!G116=0,\"0\",IF(County!G116<5,\"*\",ROUND((G116*1),-1)))","v":130},5038500,38800]
[null,9,5,"RETAIL TRADE","44-45",40,345,6562661,366,{"$f":"IF(County!G117=0,\"0\",IF(County!G117<5,\"*\",ROUND((G117*1),-1)))","v":350},6562700,18800]
[null,9,5,"TRANSPORTATION AND WAREHOUSING","48-49",14,128,4771908,717,{"$f":"IF(County!G118=0,\"0\",IF(County!G118<5,\"*\",ROUND((G118*1),-1)))","v":130},4771900,36700]
["D",9,5,"INFORMATION",51,3,9,350472,749,{"$f":"IF(County!G119=0,\"0\",IF(County!G119<5,\"*\",ROUND((G119*1),-1)))","v":10},350500,35100]
[null,9,5,"FINANCE AND INSURANCE",52,20,100,3323104,639,{"$f":"IF(County!G120=0,\"0\",IF(County!G120<5,\"*\",ROUND((G120*1),-1)))","v":100},3323100,33200]
[null,9,5,"REAL ESTATE AND RENTAL AND LEASING",53,5,12,252762,405,{"$f":"IF(County!G121=0,\"0\",IF(County!G121<5,\"*\",ROUND((G121*1),-1)))","v":10},252800,25300]
[null,9,5,"PROFESSIONAL AND TECHNICAL SERVICES",54,10,65,2697216,798,{"$f":"IF(County!G122=0,\"0\",IF(County!G122<5,\"*\",ROUND((G122*1),-1)))","v":70},2697200,38500]
[null,9,5,"MANAGEMENT OF COMPANIES AND ENTERPRISES",55,3,9,824752,1762,{"$f":"IF(County!G123=0,\"0\",IF(County!G123<5,\"*\",ROUND((G123*1),-1)))","v":10},824800,82500]
[null,9,5,"ADMINISTRATIVE AND WASTE SERVICES",56,9,37,934334,486,{"$f":"IF(County!G124=0,\"0\",IF(County!G124<5,\"*\",ROUND((G124*1),-1)))","v":40},934300,23400]
["D",9,5,"EDUCATIONAL SERVICES",61,1,1,11854,228,{"$f":"IF(County!G125=0,\"0\",IF(County!G125<5,\"*\",ROUND((G125*1),-1)))","v":"*"},11900,"*"]
[null,9,5,"HEALTH CARE AND SOCIAL ASSISTANCE",62,18,353,10116526,551,{"$f":"IF(County!G126=0,\"0\",IF(County!G126<5,\"*\",ROUND((G126*1),-1)))","v":350},10116500,28900]
[null,9,5,"ARTS, ENTERTAINMENT, AND RECREATION",71,4,24,210008,168,{"$f":"IF(County!G127=0,\"0\",IF(County!G127<5,\"*\",ROUND((G127*1),-1)))","v":20},210000,10500]
[null,9,5,"ACCOMMODATION AND FOOD SERVICES",72,18,279,3341916,230,{"$f":"IF(County!G128=0,\"0\",IF(County!G128<5,\"*\",ROUND((G128*1),-1)))","v":280},3341900,11900]
[null,9,5,"OTHER SERVICES, EXCEPT PUBLIC ADMIN",81,25,99,1492587,290,{"$f":"IF(County!G129=0,\"0\",IF(County!G129<5,\"*\",ROUND((G129*1),-1)))","v":100},1492600,14900]
[null,9,3,"LOCAL GOVERNMENT",11,9,535,13891728,499,{"$f":"IF(County!G130=0,\"0\",IF(County!G130<5,\"*\",ROUND((G130*1),-1)))","v":540},13891700,25700]
["D",9,3,"EDUCATIONAL SERVICES",61,1,317,8728604,530,{"$f":"IF(County!G131=0,\"0\",IF(County!G131<5,\"*\",ROUND((G131*1),-1)))","v":320},8728600,27300]
[null,9,3,"HEALTH CARE AND SOCIAL ASSISTANCE",62,0,0,0,0,{"$f":"IF(County!G132=0,\"0\",IF(County!G132<5,\"*\",ROUND((G132*1),-1)))","v":"0"},0,{"$f":"IF(G132=0,0,IF(J132=\"*\",\"*\",ROUND((K132/J132),-2)))","v":0}]
[null,9,2,"STATE GOVERNMENT",11,8,25,1023916,788,{"$f":"IF(County!G133=0,\"0\",IF(County!G133<5,\"*\",ROUND((G133*1),-1)))","v":30},1023900,34100]
[null,9,2,"EDUCATIONAL SERVICES",61,0,0,0,0,{"$f":"IF(County!G134=0,\"0\",IF(County!G134<5,\"*\",ROUND((G134*1),-1)))","v":"0"},0,0]
[null,9,2,"HEALTH CARE AND SOCIAL ASSISTANCE",62,0,0,0,0,{"$f":"IF(County!G135=0,\"0\",IF(County!G135<5,\"*\",ROUND((G135*1),-1)))","v":"0"},0,0]
[null,9,"U","TOTAL UI COVERED",11,234,3177,100545365,609,{"$f":"IF(County!G136=0,\"0\",IF(County!G136<5,\"*\",ROUND((G136*1),-1)))","v":3180},100545400,31600]
[null,9,1,"FEDERAL GOVERNMENT",11,3,21,1119743,1025,{"$f":"IF(County!G137=0,\"0\",IF(County!G137<5,\"*\",ROUND((G137*1),-1)))","v":20},{"$f":"ROUND((H137),-2)","v":1119700},56000]
[null,11,5,"AGRICULTURE, FORESTRY, FISHING AND HUNTI",11,34,203,7721570,731,{"$f":"IF(County!G138=0,\"0\",IF(County!G138<5,\"*\",ROUND((G138*1),-1)))","v":200},7721600,38600]
["D",11,5,"MINING, QUARRYING, AND OIL AND GAS EXTRA",21,1,9,485025,1036,{"$f":"IF(County!G139=0,\"0\",IF(County!G139<5,\"*\",ROUND((G139*1),-1)))","v":10},485000,48500]
["D",11,5,"UTILITIES",22,1,36,2761182,1475,{"$f":"IF(County!G140=0,\"0\",IF(County!G140<5,\"*\",ROUND((G140*1),-1)))","v":40},2761200,69000]
[null,11,5,"CONSTRUCTION",23,158,1786,85300371,918,{"$f":"IF(County!G141=0,\"0\",IF(County!G141<5,\"*\",ROUND((G141*1),-1)))","v":1790},85300400,47700]
[null,11,5,"MANUFACTURING","31-33",77,1937,86166822,855,{"$f":"IF(County!G142=0,\"0\",IF(County!G142<5,\"*\",ROUND((G142*1),-1)))","v":1940},86166800,44400]
[null,11,5,"WHOLESALE TRADE",42,151,1339,75808965,1089,{"$f":"IF(County!G143=0,\"0\",IF(County!G143<5,\"*\",ROUND((G143*1),-1)))","v":1340},75809000,56600]
[null,11,5,"RETAIL TRADE","44-45",145,5666,191219897,649,{"$f":"IF(County!G144=0,\"0\",IF(County!G144<5,\"*\",ROUND((G144*1),-1)))","v":5670},191219900,33700]
[null,11,5,"TRANSPORTATION AND WAREHOUSING","48-49",65,2121,79459281,720,{"$f":"IF(County!G145=0,\"0\",IF(County!G145<5,\"*\",ROUND((G145*1),-1)))","v":2120},79459300,37500]
[null,11,5,"INFORMATION",51,19,242,10320506,820,{"$f":"IF(County!G146=0,\"0\",IF(County!G146<5,\"*\",ROUND((G146*1),-1)))","v":240},10320500,43000]
[null,11,5,"FINANCE AND INSURANCE",52,110,398,22066301,1066,{"$f":"IF(County!G147=0,\"0\",IF(County!G147<5,\"*\",ROUND((G147*1),-1)))","v":400},22066300,55200]
[null,11,5,"REAL ESTATE AND RENTAL AND LEASING",53,64,250,12194694,938,{"$f":"IF(County!G148=0,\"0\",IF(County!G148<5,\"*\",ROUND((G148*1),-1)))","v":250},12194700,48800]
[null,11,5,"PROFESSIONAL AND TECHNICAL SERVICES",54,209,899,59043379,1263,{"$f":"IF(County!G149=0,\"0\",IF(County!G149<5,\"*\",ROUND((G149*1),-1)))","v":900},59043400,65600]
[null,11,5,"MANAGEMENT OF COMPANIES AND ENTERPRISES",55,6,85,5404094,1223,{"$f":"IF(County!G150=0,\"0\",IF(County!G150<5,\"*\",ROUND((G150*1),-1)))","v":90},5404100,60000]
[null,11,5,"ADMINISTRATIVE AND WASTE SERVICES",56,94,3052,77924024,491,{"$f":"IF(County!G151=0,\"0\",IF(County!G151<5,\"*\",ROUND((G151*1),-1)))","v":3050},77924000,25500]
[null,11,5,"EDUCATIONAL SERVICES",61,18,244,5278897,416,{"$f":"IF(County!G152=0,\"0\",IF(County!G152<5,\"*\",ROUND((G152*1),-1)))","v":240},5278900,22000]
[null,11,5,"HEALTH CARE AND SOCIAL ASSISTANCE",62,110,1584,67008124,814,{"$f":"IF(County!G153=0,\"0\",IF(County!G153<5,\"*\",ROUND((G153*1),-1)))","v":1580},67008100,42400]
[null,11,5,"ARTS, ENTERTAINMENT, AND RECREATION",71,33,233,6092425,503,{"$f":"IF(County!G154=0,\"0\",IF(County!G154<5,\"*\",ROUND((G154*1),-1)))","v":230},6092400,26500]
[null,11,5,"ACCOMMODATION AND FOOD SERVICES",72,107,1847,25900552,270,{"$f":"IF(County!G155=0,\"0\",IF(County!G155<5,\"*\",ROUND((G155*1),-1)))","v":1850},25900600,14000]
[null,11,5,"OTHER SERVICES, EXCEPT PUBLIC ADMIN",81,163,684,15609528,439,{"$f":"IF(County!G156=0,\"0\",IF(County!G156<5,\"*\",ROUND((G156*1),-1)))","v":680},15609500,23000]
[null,11,3,"LOCAL GOVERNMENT",11,33,3192,127930407,771,{"$f":"IF(County!G157=0,\"0\",IF(County!G157<5,\"*\",ROUND((G157*1),-1)))","v":3190},127930400,40100]
[null,11,3,"EDUCATIONAL SERVICES",61,10,1493,56672591,730,{"$f":"IF(County!G158=0,\"0\",IF(County!G158<5,\"*\",ROUND((G158*1),-1)))","v":1490},56672600,38000]
["D",11,3,"HEALTH CARE AND SOCIAL ASSISTANCE",62,9,726,38701691,1025,{"$f":"IF(County!G159=0,\"0\",IF(County!G159<5,\"*\",ROUND((G159*1),-1)))","v":730},38701700,53000]
[null,11,2,"STATE GOVERNMENT",11,14,54,2421166,862,{"$f":"IF(County!G160=0,\"0\",IF(County!G160<5,\"*\",ROUND((G160*1),-1)))","v":50},2421200,48400]
["D",11,2,"EDUCATIONAL SERVICES",61,1,0,8790,0,{"$f":"IF(County!G161=0,\"0\",IF(County!G161<5,\"*\",ROUND((G161*1),-1)))","v":"0"},8800,0]
[null,11,2,"HEALTH CARE AND SOCIAL ASSISTANCE",62,0,0,0,0,{"$f":"IF(County!G162=0,\"0\",IF(County!G162<5,\"*\",ROUND((G162*1),-1)))","v":"0"},0,0]
[null,11,"U","TOTAL UI COVERED",11,1609,25860,966117210,718,{"$f":"IF(County!G163=0,\"0\",IF(County!G163<5,\"*\",ROUND((G163*1),-1)))","v":25860},966117200,37400]
[null,11,1,"FEDERAL GOVERNMENT",11,9,87,5004859,1106,{"$f":"IF(County!G164=0,\"0\",IF(County!G164<5,\"*\",ROUND((G164*1),-1)))","v":90},5004900,55600]
[null,13,5,"AGRICULTURE, FORESTRY, FISHING AND HUNTI",11,5,44,1112687,486,{"$f":"IF(County!G165=0,\"0\",IF(County!G165<5,\"*\",ROUND((G165*1),-1)))","v":40},1112700,27800]
[null,13,5,"MINING, QUARRYING, AND OIL AND GAS EXTRA",21,0,0,0,0,{"$f":"IF(County!G166=0,\"0\",IF(County!G166<5,\"*\",ROUND((G166*1),-1)))","v":"0"},0,0]
["D",13,5,"UTILITIES",22,1,12,484906,777,{"$f":"IF(County!G167=0,\"0\",IF(County!G167<5,\"*\",ROUND((G167*1),-1)))","v":10},484900,48500]
[null,13,5,"CONSTRUCTION",23,43,149,4388156,566,{"$f":"IF(County!G168=0,\"0\",IF(County!G168<5,\"*\",ROUND((G168*1),-1)))","v":150},4388200,29300]
[null,13,5,"MANUFACTURING","31-33",22,155,3406026,423,{"$f":"IF(County!G169=0,\"0\",IF(County!G169<5,\"*\",ROUND((G169*1),-1)))","v":160},3406000,21300]
[null,13,5,"WHOLESALE TRADE",42,7,14,607987,835,{"$f":"IF(County!G170=0,\"0\",IF(County!G170<5,\"*\",ROUND((G170*1),-1)))","v":10},608000,60800]
[null,13,5,"RETAIL TRADE","44-45",77,386,6554030,327,{"$f":"IF(County!G171=0,\"0\",IF(County!G171<5,\"*\",ROUND((G171*1),-1)))","v":390},6554000,16800]
[null,13,5,"TRANSPORTATION AND WAREHOUSING","48-49",8,30,737795,473,{"$f":"IF(County!G172=0,\"0\",IF(County!G172<5,\"*\",ROUND((G172*1),-1)))","v":30},737800,24600]
[null,13,5,"INFORMATION",51,5,11,407031,712,{"$f":"IF(County!G173=0,\"0\",IF(County!G173<5,\"*\",ROUND((G173*1),-1)))","v":10},407000,40700]
[null,13,5,"FINANCE AND INSURANCE",52,12,42,1448478,663,{"$f":"IF(County!G174=0,\"0\",IF(County!G174<5,\"*\",ROUND((G174*1),-1)))","v":40},1448500,36200]
[null,13,5,"REAL ESTATE AND RENTAL AND LEASING",53,10,29,723835,480,{"$f":"IF(County!G175=0,\"0\",IF(County!G175<5,\"*\",ROUND((G175*1),-1)))","v":30},723800,24100]
[null,13,5,"PROFESSIONAL AND TECHNICAL SERVICES",54,30,99,4741805,921,{"$f":"IF(County!G176=0,\"0\",IF(County!G176<5,\"*\",ROUND((G176*1),-1)))","v":100},4741800,47400]
[null,13,5,"MANAGEMENT OF COMPANIES AND ENTERPRISES",55,0,0,0,0,{"$f":"IF(County!G177=0,\"0\",IF(County!G177<5,\"*\",ROUND((G177*1),-1)))","v":"0"},0,0]
[null,13,5,"ADMINISTRATIVE AND WASTE SERVICES",56,14,111,2338339,405,{"$f":"IF(County!G178=0,\"0\",IF(County!G178<5,\"*\",ROUND((G178*1),-1)))","v":110},2338300,21300]
[null,13,5,"EDUCATIONAL SERVICES",61,0,0,0,0,{"$f":"IF(County!G179=0,\"0\",IF(County!G179<5,\"*\",ROUND((G179*1),-1)))","v":"0"},0,0]
[null,13,5,"HEALTH CARE AND SOCIAL ASSISTANCE",62,19,354,11629495,632,{"$f":"IF(County!G180=0,\"0\",IF(County!G180<5,\"*\",ROUND((G180*1),-1)))","v":350},11629500,33200]
[null,13,5,"ARTS, ENTERTAINMENT, AND RECREATION",71,6,35,869178,478,{"$f":"IF(County!G181=0,\"0\",IF(County!G181<5,\"*\",ROUND((G181*1),-1)))","v":40},869200,21700]
[null,13,5,"ACCOMMODATION AND FOOD SERVICES",72,43,592,8459873,275,{"$f":"IF(County!G182=0,\"0\",IF(County!G182<5,\"*\",ROUND((G182*1),-1)))","v":590},8459900,14300]
[null,13,5,"OTHER SERVICES, EXCEPT PUBLIC ADMIN",81,15,82,1605616,377,{"$f":"IF(County!G183=0,\"0\",IF(County!G183<5,\"*\",ROUND((G183*1),-1)))","v":80},1605600,20100]
[null,13,3,"LOCAL GOVERNMENT",11,7,602,19004708,607,{"$f":"IF(County!G184=0,\"0\",IF(County!G184<5,\"*\",ROUND((G184*1),-1)))","v":600},19004700,31700]
["D",13,3,"EDUCATIONAL SERVICES",61,1,361,12418477,662,{"$f":"IF(County!G185=0,\"0\",IF(County!G185<5,\"*\",ROUND((G185*1),-1)))","v":360},12418500,34500]
[null,13,3,"HEALTH CARE AND SOCIAL ASSISTANCE",62,0,0,0,0,{"$f":"IF(County!G186=0,\"0\",IF(County!G186<5,\"*\",ROUND((G186*1),-1)))","v":"0"},0,0]
[null,13,2,"STATE GOVERNMENT",11,11,216,4118575,367,{"$f":"IF(County!G187=0,\"0\",IF(County!G187<5,\"*\",ROUND((G187*1),-1)))","v":220},4118600,18700]
[null,13,2,"EDUCATIONAL SERVICES",61,0,0,0,0,{"$f":"IF(County!G188=0,\"0\",IF(County!G188<5,\"*\",ROUND((G188*1),-1)))","v":"0"},0,0]
[null,13,2,"HEALTH CARE AND SOCIAL ASSISTANCE",62,0,0,0,0,{"$f":"IF(County!G189=0,\"0\",IF(County!G189<5,\"*\",ROUND((G189*1),-1)))","v":"0"},0,0]
[null,13,"U","TOTAL UI COVERED",11,332,2961,72638520,472,{"$f":"IF(County!G190=0,\"0\",IF(County!G190<5,\"*\",ROUND((G190*1),-1)))","v":2960},72638500,24500]
[null,13,1,"FEDERAL GOVERNMENT",11,2,15,747941,959,{"$f":"IF(County!G191=0,\"0\",IF(County!G191<5,\"*\",ROUND((G191*1),-1)))","v":20},747900,37400]
[null,15,5,"AGRICULTURE, FORESTRY, FISHING AND HUNTI",11,32,192,7894776,791,{"$f":"IF(County!G192=0,\"0\",IF(County!G192<5,\"*\",ROUND((G192*1),-1)))","v":190},7894800,41600]
["D",15,5,"MINING, QUARRYING, AND OIL AND GAS EXTRA",21,1,25,1538931,1184,{"$f":"IF(County!G193=0,\"0\",IF(County!G193<5,\"*\",ROUND((G193*1),-1)))","v":30},1538900,51300]
["D",15,5,"UTILITIES",22,1,18,1136980,1215,{"$f":"IF(County!G194=0,\"0\",IF(County!G194<5,\"*\",ROUND((G194*1),-1)))","v":20},1137000,56900]
[null,15,5,"CONSTRUCTION",23,60,260,8998727,666,{"$f":"IF(County!G195=0,\"0\",IF(County!G195<5,\"*\",ROUND((G195*1),-1)))","v":260},8998700,34600]
["D",15,5,"MANUFACTURING","31-33",18,2236,86288223,742,{"$f":"IF(County!G196=0,\"0\",IF(County!G196<5,\"*\",ROUND((G196*1),-1)))","v":2240},86288200,{"$f":"IF(G196=0,0,IF(J196=\"*\",\"*\",ROUND((K196/J196),-2)))","v":38500}]
[null,15,5,"WHOLESALE TRADE",42,17,177,11108309,1207,{"$f":"IF(County!G197=0,\"0\",IF(County!G197<5,\"*\",ROUND((G197*1),-1)))","v":180},11108300,61700]
[null,15,5,"RETAIL TRADE","44-45",50,394,8746716,427,{"$f":"IF(County!G198=0,\"0\",IF(County!G198<5,\"*\",ROUND((G198*1),-1)))","v":390},8746700,22400]
[null,15,5,"TRANSPORTATION AND WAREHOUSING","48-49",23,99,3580054,695,{"$f":"IF(County!G199=0,\"0\",IF(County!G199<5,\"*\",ROUND((G199*1),-1)))","v":100},3580100,35800]
[null,15,5,"INFORMATION",51,5,18,637578,681,{"$f":"IF(County!G200=0,\"0\",IF(County!G200<5,\"*\",ROUND((G200*1),-1)))","v":20},637600,31900]
[null,15,5,"FINANCE AND INSURANCE",52,20,100,3490741,671,{"$f":"IF(County!G201=0,\"0\",IF(County!G201<5,\"*\",ROUND((G201*1),-1)))","v":100},{"$f":"ROUND((H201),-2)","v":3490700},34900]
[null,15,5,"REAL ESTATE AND RENTAL AND LEASING",53,12,35,793767,436,{"$f":"IF(County!G202=0,\"0\",IF(County!G202<5,\"*\",ROUND((G202*1),-1)))","v":40},793800,19800]
[null,15,5,"PROFESSIONAL AND TECHNICAL SERVICES",54,18,77,2254218,563,{"$f":"IF(County!G203=0,\"0\",IF(County!G203<5,\"*\",ROUND((G203*1),-1)))","v":80},2254200,28200]
[null,15,5,"MANAGEMENT OF COMPANIES AND ENTERPRISES",55,0,0,0,0,{"$f":"IF(County!G204=0,\"0\",IF(County!G204<5,\"*\",ROUND((G204*1),-1)))","v":"0"},0,0]
[null,15,5,"ADMINISTRATIVE AND WASTE SERVICES",56,15,34,1050853,594,{"$f":"IF(County!G205=0,\"0\",IF(County!G205<5,\"*\",ROUND((G205*1),-1)))","v":30},1050900,35000]
["D",15,5,"EDUCATIONAL SERVICES",61,2,8,114668,276,{"$f":"IF(County!G206=0,\"0\",IF(County!G206<5,\"*\",ROUND((G206*1),-1)))","v":10},114700,11500]
[null,15,5,"HEALTH CARE AND SOCIAL ASSISTANCE",62,24,195,5585454,551,{"$f":"IF(County!G207=0,\"0\",IF(County!G207<5,\"*\",ROUND((G207*1),-1)))","v":200},5585500,27900]
[null,15,5,"ARTS, ENTERTAINMENT, AND RECREATION",71,4,8,69747,168,{"$f":"IF(County!G208=0,\"0\",IF(County!G208<5,\"*\",ROUND((G208*1),-1)))","v":10},69700,7000]
[null,15,5,"ACCOMMODATION AND FOOD SERVICES",72,27,479,5984711,240,{"$f":"IF(County!G209=0,\"0\",IF(County!G209<5,\"*\",ROUND((G209*1),-1)))","v":480},5984700,12500]
[null,15,5,"OTHER SERVICES, EXCEPT PUBLIC ADMIN",81,27,80,1735371,417,{"$f":"IF(County!G210=0,\"0\",IF(County!G210<5,\"*\",ROUND((G210*1),-1)))","v":80},1735400,21700]
[null,15,3,"LOCAL GOVERNMENT",11,12,759,19637428,498,{"$f":"IF(County!G211=0,\"0\",IF(County!G211<5,\"*\",ROUND((G211*1),-1)))","v":760},19637400,25800]
["D",15,3,"EDUCATIONAL SERVICES",61,2,465,12937902,535,{"$f":"IF(County!G212=0,\"0\",IF(County!G212<5,\"*\",ROUND((G212*1),-1)))","v":470},12937900,27500]
[null,15,3,"HEALTH CARE AND SOCIAL ASSISTANCE",62,0,0,0,0,{"$f":"IF(County!G213=0,\"0\",IF(County!G213<5,\"*\",ROUND((G213*1),-1)))","v":"0"},0,0]
[null,15,2,"STATE GOVERNMENT",11,8,41,1746235,819,{"$f":"IF(County!G214=0,\"0\",IF(County!G214<5,\"*\",ROUND((G214*1),-1)))","v":40},1746200,43700]
[null,15,2,"EDUCATIONAL SERVICES",61,0,0,0,0,{"$f":"IF(County!G215=0,\"0\",IF(County!G215<5,\"*\",ROUND((G215*1),-1)))","v":"0"},0,0]
[null,15,2,"HEALTH CARE AND SOCIAL ASSISTANCE",62,0,0,0,0,{"$f":"IF(County!G216=0,\"0\",IF(County!G216<5,\"*\",ROUND((G216*1),-1)))","v":"0"},0,0]
[null,15,"U","TOTAL UI COVERED",11,374,5235,172393487,633,{"$f":"IF(County!G217=0,\"0\",IF(County!G217<5,\"*\",ROUND((G217*1),-1)))","v":5240},172393500,32900]
[null,15,1,"FEDERAL GOVERNMENT",11,10,62,3125677,970,{"$f":"IF(County!G218=0,\"0\",IF(County!G218<5,\"*\",ROUND((G218*1),-1)))","v":60},3125700,52100]
[null,17,5,"AGRICULTURE, FORESTRY, FISHING AND HUNTI",11,21,119,3615534,584,{"$f":"IF(County!G219=0,\"0\",IF(County!G219<5,\"*\",ROUND((G219*1),-1)))","v":120},3615500,30100]
["D",17,5,"MINING, QUARRYING, AND OIL AND GAS EXTRA",21,1,31,1599182,992,{"$f":"IF(County!G220=0,\"0\",IF(County!G220<5,\"*\",ROUND((G220*1),-1)))","v":30},1599200,53300]
["D",17,5,"UTILITIES",22,1,23,2241993,1875,{"$f":"IF(County!G221=0,\"0\",IF(County!G221<5,\"*\",ROUND((G221*1),-1)))","v":20},2242000,112100]
[null,17,5,"CONSTRUCTION",23,64,532,24278627,878,{"$f":"IF(County!G222=0,\"0\",IF(County!G222<5,\"*\",ROUND((G222*1),-1)))","v":530},24278600,45800]
[null,17,5,"MANUFACTURING","31-33",51,4314,162389764,724,{"$f":"IF(County!G223=0,\"0\",IF(County!G223<5,\"*\",ROUND((G223*1),-1)))","v":4310},162389800,37700]
[null,17,5,"WHOLESALE TRADE",42,44,531,27375854,991,{"$f":"IF(County!G224=0,\"0\",IF(County!G224<5,\"*\",ROUND((G224*1),-1)))","v":530},27375900,51700]
[null,17,5,"RETAIL TRADE","44-45",121,1583,37059293,450,{"$f":"IF(County!G225=0,\"0\",IF(County!G225<5,\"*\",ROUND((G225*1),-1)))","v":1580},37059300,23500]
[null,17,5,"TRANSPORTATION AND WAREHOUSING","48-49",31,322,11964817,715,{"$f":"IF(County!G226=0,\"0\",IF(County!G226<5,\"*\",ROUND((G226*1),-1)))","v":320},11964800,37400]
[null,17,5,"INFORMATION",51,8,95,2932330,594,{"$f":"IF(County!G227=0,\"0\",IF(County!G227<5,\"*\",ROUND((G227*1),-1)))","v":100},2932300,29300]
[null,17,5,"FINANCE AND INSURANCE",52,44,309,13278978,826,{"$f":"IF(County!G228=0,\"0\",IF(County!G228<5,\"*\",ROUND((G228*1),-1)))","v":310},13279000,42800]
[null,17,5,"REAL ESTATE AND RENTAL AND LEASING",53,21,68,1743350,493,{"$f":"IF(County!G229=0,\"0\",IF(County!G229<5,\"*\",ROUND((G229*1),-1)))","v":70},1743400,24900]
[null,17,5,"PROFESSIONAL AND TECHNICAL SERVICES",54,40,187,6236054,641,{"$f":"IF(County!G230=0,\"0\",IF(County!G230<5,\"*\",ROUND((G230*1),-1)))","v":190},6236100,32800]
[null,17,5,"MANAGEMENT OF COMPANIES AND ENTERPRISES",55,5,88,6057373,1324,{"$f":"IF(County!G231=0,\"0\",IF(County!G231<5,\"*\",ROUND((G231*1),-1)))","v":90},6057400,67300]
[null,17,5,"ADMINISTRATIVE AND WASTE SERVICES",56,38,601,20330623,651,{"$f":"IF(County!G232=0,\"0\",IF(County!G232<5,\"*\",ROUND((G232*1),-1)))","v":600},20330600,33900]
["D",17,5,"EDUCATIONAL SERVICES",61,2,8,93404,225,{"$f":"IF(County!G233=0,\"0\",IF(County!G233<5,\"*\",ROUND((G233*1),-1)))","v":10},93400,9300]
[null,17,5,"HEALTH CARE AND SOCIAL ASSISTANCE",62,57,1301,32951067,487,{"$f":"IF(County!G234=0,\"0\",IF(County!G234<5,\"*\",ROUND((G234*1),-1)))","v":1300},32951100,25300]
[null,17,5,"ARTS, ENTERTAINMENT, AND RECREATION",71,5,22,298997,261,{"$f":"IF(County!G235=0,\"0\",IF(County!G235<5,\"*\",ROUND((G235*1),-1)))","v":20},299000,15000]
[null,17,5,"ACCOMMODATION AND FOOD SERVICES",72,73,963,10880114,217,{"$f":"IF(County!G236=0,\"0\",IF(County!G236<5,\"*\",ROUND((G236*1),-1)))","v":960},10880100,11300]
[null,17,5,"OTHER SERVICES, EXCEPT PUBLIC ADMIN",81,65,256,5154887,387,{"$f":"IF(County!G237=0,\"0\",IF(County!G237<5,\"*\",ROUND((G237*1),-1)))","v":260},5154900,19800]
[null,17,3,"LOCAL GOVERNMENT",11,17,2381,84055370,679,{"$f":"IF(County!G238=0,\"0\",IF(County!G238<5,\"*\",ROUND((G238*1),-1)))","v":2380},84055400,35300]
[null,17,3,"EDUCATIONAL SERVICES",61,3,1189,37168077,601,{"$f":"IF(County!G239=0,\"0\",IF(County!G239<5,\"*\",ROUND((G239*1),-1)))","v":1190},37168100,31200]
["D",17,3,"HEALTH CARE AND SOCIAL ASSISTANCE",62,1,538,26572120,950,{"$f":"IF(County!G240=0,\"0\",IF(County!G240<5,\"*\",ROUND((G240*1),-1)))","v":540},26572100,49200]
[null,17,2,"STATE GOVERNMENT",11,16,696,28084889,776,{"$f":"IF(County!G241=0,\"0\",IF(County!G241<5,\"*\",ROUND((G241*1),-1)))","v":700},28084900,40100]
[null,17,2,"EDUCATIONAL SERVICES",61,0,0,0,0,{"$f":"IF(County!G242=0,\"0\",IF(County!G242<5,\"*\",ROUND((G242*1),-1)))","v":"0"},0,0]
["D",17,2,"HEALTH CARE AND SOCIAL ASSISTANCE",62,1,453,17807858,756,{"$f":"IF(County!G243=0,\"0\",IF(County!G243<5,\"*\",ROUND((G243*1),-1)))","v":450},17807900,39600]
[null,17,"U","TOTAL UI COVERED",11,724,14427,482622500,643,{"$f":"IF(County!G244=0,\"0\",IF(County!G244<5,\"*\",ROUND((G244*1),-1)))","v":14430},482622500,33400]
[null,17,1,"FEDERAL GOVERNMENT",11,10,82,4421320,1037,{"$f":"IF(County!G245=0,\"0\",IF(County!G245<5,\"*\",ROUND((G245*1),-1)))","v":80},4421300,55300]
[null,19,5,"AGRICULTURE, FORESTRY, FISHING AND HUNTI",11,10,68,1010444,286,{"$f":"IF(County!G246=0,\"0\",IF(County!G246<5,\"*\",ROUND((G246*1),-1)))","v":70},1010400,14400]
[null,19,5,"MINING, QUARRYING, AND OIL AND GAS EXTRA",21,6,88,4865717,1063,{"$f":"IF(County!G247=0,\"0\",IF(County!G247<5,\"*\",ROUND((G247*1),-1)))","v":90},4865700,54100]
[null,19,5,"UTILITIES",22,13,190,13374019,1354,{"$f":"IF(County!G248=0,\"0\",IF(County!G248<5,\"*\",ROUND((G248*1),-1)))","v":190},13374000,70400]
[null,19,5,"CONSTRUCTION",23,256,2181,97009230,855,{"$f":"IF(County!G249=0,\"0\",IF(County!G249<5,\"*\",ROUND((G249*1),-1)))","v":2180},97009200,44500]
[null,19,5,"MANUFACTURING","31-33",156,7803,358728108,884,{"$f":"IF(County!G250=0,\"0\",IF(County!G250<5,\"*\",ROUND((G250*1),-1)))","v":7800},358728100,46000]
[null,19,5,"WHOLESALE TRADE",42,144,1373,70881311,993,{"$f":"IF(County!G251=0,\"0\",IF(County!G251<5,\"*\",ROUND((G251*1),-1)))","v":1370},70881300,51700]
[null,19,5,"RETAIL TRADE","44-45",379,7899,198869274,484,{"$f":"IF(County!G252=0,\"0\",IF(County!G252<5,\"*\",ROUND((G252*1),-1)))","v":7900},198869300,25200]
[null,19,5,"TRANSPORTATION AND WAREHOUSING","48-49",130,4237,210907419,957,{"$f":"IF(County!G253=0,\"0\",IF(County!G253<5,\"*\",ROUND((G253*1),-1)))","v":4240},210907400,49700]
[null,19,5,"INFORMATION",51,24,239,7100950,571,{"$f":"IF(County!G254=0,\"0\",IF(County!G254<5,\"*\",ROUND((G254*1),-1)))","v":240},7101000,29600]
[null,19,5,"FINANCE AND INSURANCE",52,155,2142,104473433,938,{"$f":"IF(County!G255=0,\"0\",IF(County!G255<5,\"*\",ROUND((G255*1),-1)))","v":2140},104473400,48800]
[null,19,5,"REAL ESTATE AND RENTAL AND LEASING",53,94,538,16985191,607,{"$f":"IF(County!G256=0,\"0\",IF(County!G256<5,\"*\",ROUND((G256*1),-1)))","v":540},16985200,31500]
[null,19,5,"PROFESSIONAL AND TECHNICAL SERVICES",54,177,838,41772720,959,{"$f":"IF(County!G257=0,\"0\",IF(County!G257<5,\"*\",ROUND((G257*1),-1)))","v":840},41772700,49700]
[null,19,5,"MANAGEMENT OF COMPANIES AND ENTERPRISES",55,25,178,15347995,1658,{"$f":"IF(County!G258=0,\"0\",IF(County!G258<5,\"*\",ROUND((G258*1),-1)))","v":180},15348000,85300]
[null,19,5,"ADMINISTRATIVE AND WASTE SERVICES",56,130,3216,92099030,551,{"$f":"IF(County!G259=0,\"0\",IF(County!G259<5,\"*\",ROUND((G259*1),-1)))","v":3220},92099000,28600]
[null,19,5,"EDUCATIONAL SERVICES",61,23,151,4599317,586,{"$f":"IF(County!G260=0,\"0\",IF(County!G260<5,\"*\",ROUND((G260*1),-1)))","v":150},4599300,{"$f":"IF(G260=0,0,IF(J260=\"*\",\"*\",ROUND((K260/J260),-2)))","v":30700}]
[null,19,5,"HEALTH CARE AND SOCIAL ASSISTANCE",62,205,4229,171330711,779,{"$f":"IF(County!G261=0,\"0\",IF(County!G261<5,\"*\",ROUND((G261*1),-1)))","v":4230},171330700,40500]
[null,19,5,"ARTS, ENTERTAINMENT, AND RECREATION",71,35,508,7842004,297,{"$f":"IF(County!G262=0,\"0\",IF(County!G262<5,\"*\",ROUND((G262*1),-1)))","v":510},7842000,15400]
[null,19,5,"ACCOMMODATION AND FOOD SERVICES",72,222,5402,76051312,271,{"$f":"IF(County!G263=0,\"0\",IF(County!G263<5,\"*\",ROUND((G263*1),-1)))","v":5400},76051300,14100]
[null,19,5,"OTHER SERVICES, EXCEPT PUBLIC ADMIN",81,178,1358,37633191,533,{"$f":"IF(County!G264=0,\"0\",IF(County!G264<5,\"*\",ROUND((G264*1),-1)))","v":1360},37633200,27700]
[null,19,3,"LOCAL GOVERNMENT",11,76,5330,213752515,771,{"$f":"IF(County!G265=0,\"0\",IF(County!G265<5,\"*\",ROUND((G265*1),-1)))","v":5330},{"$f":"ROUND((H265),-2)","v":213752500},40100]
[null,19,3,"EDUCATIONAL SERVICES",61,33,2035,82457069,779,{"$f":"IF(County!G266=0,\"0\",IF(County!G266<5,\"*\",ROUND((G266*1),-1)))","v":2040},82457100,40400]
["D",19,3,"HEALTH CARE AND SOCIAL ASSISTANCE",62,7,1663,74458833,861,{"$f":"IF(County!G267=0,\"0\",IF(County!G267<5,\"*\",ROUND((G267*1),-1)))","v":1660},74458800,44900]
[null,19,2,"STATE GOVERNMENT",11,22,607,21020077,666,{"$f":"IF(County!G268=0,\"0\",IF(County!G268<5,\"*\",ROUND((G268*1),-1)))","v":610},21020100,34500]
["D",19,2,"EDUCATIONAL SERVICES",61,1,315,9174099,560,{"$f":"IF(County!G269=0,\"0\",IF(County!G269<5,\"*\",ROUND((G269*1),-1)))","v":320},9174100,28700]
[null,19,2,"HEALTH CARE AND SOCIAL ASSISTANCE",62,0,0,0,0,{"$f":"IF(County!G270=0,\"0\",IF(County!G270<5,\"*\",ROUND((G270*1),-1)))","v":"0"},0,0]
[null,19,"U","TOTAL UI COVERED",11,2458,48574,1765653968,699,{"$f":"IF(County!G271=0,\"0\",IF(County!G271<5,\"*\",ROUND((G271*1),-1)))","v":48570},1765654000,36400]
[null,19,1,"FEDERAL GOVERNMENT",11,14,1483,61502256,798,{"$f":"IF(County!G272=0,\"0\",IF(County!G272<5,\"*\",ROUND((G272*1),-1)))","v":1480},61502300,41600]
[null,21,5,"AGRICULTURE, FORESTRY, FISHING AND HUNTI",11,12,44,1642047,718,{"$f":"IF(County!G273=0,\"0\",IF(County!G273<5,\"*\",ROUND((G273*1),-1)))","v":40},1642000,41100]
[null,21,5,"MINING, QUARRYING, AND OIL AND GAS EXTRA",21,4,33,667772,389,{"$f":"IF(County!G274=0,\"0\",IF(County!G274<5,\"*\",ROUND((G274*1),-1)))","v":30},667800,22300]
["D",21,5,"UTILITIES",22,2,12,1067282,1710,{"$f":"IF(County!G275=0,\"0\",IF(County!G275<5,\"*\",ROUND((G275*1),-1)))","v":10},1067300,106700]
[null,21,5,"CONSTRUCTION",23,52,192,5217265,523,{"$f":"IF(County!G276=0,\"0\",IF(County!G276<5,\"*\",ROUND((G276*1),-1)))","v":190},5217300,27500]
[null,21,5,"MANUFACTURING","31-33",35,2683,105801056,758,{"$f":"IF(County!G277=0,\"0\",IF(County!G277<5,\"*\",ROUND((G277*1),-1)))","v":2680},105801100,39500]
[null,21,5,"WHOLESALE TRADE",42,18,156,6156595,759,{"$f":"IF(County!G278=0,\"0\",IF(County!G278<5,\"*\",ROUND((G278*1),-1)))","v":160},6156600,38500]
[null,21,5,"RETAIL TRADE","44-45",78,935,20376799,419,{"$f":"IF(County!G279=0,\"0\",IF(County!G279<5,\"*\",ROUND((G279*1),-1)))","v":940},20376800,21700]
[null,21,5,"TRANSPORTATION AND WAREHOUSING","48-49",40,208,6825907,631,{"$f":"IF(County!G280=0,\"0\",IF(County!G280<5,\"*\",ROUND((G280*1),-1)))","v":210},6825900,32500]
[null,21,5,"INFORMATION",51,6,38,1347319,682,{"$f":"IF(County!G281=0,\"0\",IF(County!G281<5,\"*\",ROUND((G281*1),-1)))","v":40},1347300,33700]
[null,21,5,"FINANCE AND INSURANCE",52,28,151,5231577,666,{"$f":"IF(County!G282=0,\"0\",IF(County!G282<5,\"*\",ROUND((G282*1),-1)))","v":150},5231600,34900]
[null,21,5,"REAL ESTATE AND RENTAL AND LEASING",53,10,26,447541,331,{"$f":"IF(County!G283=0,\"0\",IF(County!G283<5,\"*\",ROUND((G283*1),-1)))","v":30},447500,14900]
[null,21,5,"PROFESSIONAL AND TECHNICAL SERVICES",54,22,75,2355403,604,{"$f":"IF(County!G284=0,\"0\",IF(County!G284<5,\"*\",ROUND((G284*1),-1)))","v":80},2355400,29400]
["D",21,5,"MANAGEMENT OF COMPANIES AND ENTERPRISES",55,1,3,187605,1203,{"$f":"IF(County!G285=0,\"0\",IF(County!G285<5,\"*\",ROUND((G285*1),-1)))","v":"*"},187600,"*"]
[null,21,5,"ADMINISTRATIVE AND WASTE SERVICES",56,18,79,2866830,698,{"$f":"IF(County!G286=0,\"0\",IF(County!G286<5,\"*\",ROUND((G286*1),-1)))","v":80},2866800,35800]
[null,21,5,"EDUCATIONAL SERVICES",61,4,10,327119,629,{"$f":"IF(County!G287=0,\"0\",IF(County!G287<5,\"*\",ROUND((G287*1),-1)))","v":10},327100,32700]
[null,21,5,"HEALTH CARE AND SOCIAL ASSISTANCE",62,39,618,18920175,589,{"$f":"IF(County!G288=0,\"0\",IF(County!G288<5,\"*\",ROUND((G288*1),-1)))","v":620},18920200,30500]
[null,21,5,"ARTS, ENTERTAINMENT, AND RECREATION",71,5,63,561358,171,{"$f":"IF(County!G289=0,\"0\",IF(County!G289<5,\"*\",ROUND((G289*1),-1)))","v":60},561400,9400]
[null,21,5,"ACCOMMODATION AND FOOD SERVICES",72,43,574,5454450,183,{"$f":"IF(County!G290=0,\"0\",IF(County!G290<5,\"*\",ROUND((G290*1),-1)))","v":570},5454500,9600]
[null,21,5,"OTHER SERVICES, EXCEPT PUBLIC ADMIN",81,37,341,3804045,215,{"$f":"IF(County!G291=0,\"0\",IF(County!G291<5,\"*\",ROUND((G291*1),-1)))","v":340},3804000,11200]
[null,21,3,"LOCAL GOVERNMENT",11,20,1142,31923290,538,{"$f":"IF(County!G292=0,\"0\",IF(County!G292<5,\"*\",ROUND((G292*1),-1)))","v":1140},31923300,28000]
["D",21,3,"EDUCATIONAL SERVICES",61,1,808,23377203,556,{"$f":"IF(County!G293=0,\"0\",IF(County!G293<5,\"*\",ROUND((G293*1),-1)))","v":810},23377200,28900]
[null,21,3,"HEALTH CARE AND SOCIAL ASSISTANCE",62,0,0,0,0,{"$f":"IF(County!G294=0,\"0\",IF(County!G294<5,\"*\",ROUND((G294*1),-1)))","v":"0"},0,0]
[null,21,2,"STATE GOVERNMENT",11,13,81,2977708,707,{"$f":"IF(County!G295=0,\"0\",IF(County!G295<5,\"*\",ROUND((G295*1),-1)))","v":80},2977700,37200]
[null,21,2,"EDUCATIONAL SERVICES",61,0,0,0,0,{"$f":"IF(County!G296=0,\"0\",IF(County!G296<5,\"*\",ROUND((G296*1),-1)))","v":"0"},0,0]
[null,21,2,"HEALTH CARE AND SOCIAL ASSISTANCE",62,0,0,0,0,{"$f":"IF(County!G297=0,\"0\",IF(County!G297<5,\"*\",ROUND((G297*1),-1)))","v":"0"},0,0]
[null,21,"U","TOTAL UI COVERED",11,484,7466,224159143,577,{"$f":"IF(County!G298=0,\"0\",IF(County!G298<5,\"*\",ROUND((G298*1),-1)))","v":7470},224159100,30000]
[null,21,1,"FEDERAL GOVERNMENT",11,14,75,3298262,846,{"$f":"IF(County!G299=0,\"0\",IF(County!G299<5,\"*\",ROUND((G299*1),-1)))","v":80},3298300,41200]
[null,23,5,"AGRICULTURE, FORESTRY, FISHING AND HUNTI",11,28,223,6569218,567,{"$f":"IF(County!G300=0,\"0\",IF(County!G300<5,\"*\",ROUND((G300*1),-1)))","v":220},6569200,29900]
[null,23,5,"MINING, QUARRYING, AND OIL AND GAS EXTRA",21,0,0,0,0,{"$f":"IF(County!G301=0,\"0\",IF(County!G301<5,\"*\",ROUND((G301*1),-1)))","v":"0"},0,0]
[null,23,5,"UTILITIES",22,0,0,0,0,{"$f":"IF(County!G302=0,\"0\",IF(County!G302<5,\"*\",ROUND((G302*1),-1)))","v":"0"},0,0]
[null,23,5,"CONSTRUCTION",23,61,432,19139201,852,{"$f":"IF(County!G303=0,\"0\",IF(County!G303<5,\"*\",ROUND((G303*1),-1)))","v":430},19139200,44500]
[null,23,5,"MANUFACTURING","31-33",40,3772,179986101,918,{"$f":"IF(County!G304=0,\"0\",IF(County!G304<5,\"*\",ROUND((G304*1),-1)))","v":3770},179986100,47700]
[null,23,5,"WHOLESALE TRADE",42,39,269,14260436,1019,{"$f":"IF(County!G305=0,\"0\",IF(County!G305<5,\"*\",ROUND((G305*1),-1)))","v":270},14260400,52800]
[null,23,5,"RETAIL TRADE","44-45",87,947,20513859,417,{"$f":"IF(County!G306=0,\"0\",IF(County!G306<5,\"*\",ROUND((G306*1),-1)))","v":950},20513900,21600]
[null,23,5,"TRANSPORTATION AND WAREHOUSING","48-49",31,395,22013668,1072,{"$f":"IF(County!G307=0,\"0\",IF(County!G307<5,\"*\",ROUND((G307*1),-1)))","v":400},22013700,55000]
[null,23,5,"INFORMATION",51,8,68,2565710,726,{"$f":"IF(County!G308=0,\"0\",IF(County!G308<5,\"*\",ROUND((G308*1),-1)))","v":70},2565700,36700]
[null,23,5,"FINANCE AND INSURANCE",52,33,200,9721511,935,{"$f":"IF(County!G309=0,\"0\",IF(County!G309<5,\"*\",ROUND((G309*1),-1)))","v":200},9721500,48600]
[null,23,5,"REAL ESTATE AND RENTAL AND LEASING",53,14,51,1202241,453,{"$f":"IF(County!G310=0,\"0\",IF(County!G310<5,\"*\",ROUND((G310*1),-1)))","v":50},1202200,24000]
[null,23,5,"PROFESSIONAL AND TECHNICAL SERVICES",54,34,113,3572662,608,{"$f":"IF(County!G311=0,\"0\",IF(County!G311<5,\"*\",ROUND((G311*1),-1)))","v":110},3572700,32500]
["D",23,5,"MANAGEMENT OF COMPANIES AND ENTERPRISES",55,1,7,1432733,3936,{"$f":"IF(County!G312=0,\"0\",IF(County!G312<5,\"*\",ROUND((G312*1),-1)))","v":10},1432700,143300]
[null,23,5,"ADMINISTRATIVE AND WASTE SERVICES",56,24,410,11620003,545,{"$f":"IF(County!G313=0,\"0\",IF(County!G313<5,\"*\",ROUND((G313*1),-1)))","v":410},11620000,28300]
[null,23,5,"EDUCATIONAL SERVICES",61,4,9,223605,478,{"$f":"IF(County!G314=0,\"0\",IF(County!G314<5,\"*\",ROUND((G314*1),-1)))","v":10},223600,22400]
[null,23,5,"HEALTH CARE AND SOCIAL ASSISTANCE",62,41,1102,35208039,614,{"$f":"IF(County!G315=0,\"0\",IF(County!G315<5,\"*\",ROUND((G315*1),-1)))","v":1100},35208000,32000]
[null,23,5,"ARTS, ENTERTAINMENT, AND RECREATION",71,6,37,281535,146,{"$f":"IF(County!G316=0,\"0\",IF(County!G316<5,\"*\",ROUND((G316*1),-1)))","v":40},281500,7000]
[null,23,5,"ACCOMMODATION AND FOOD SERVICES",72,47,743,8353231,216,{"$f":"IF(County!G317=0,\"0\",IF(County!G317<5,\"*\",ROUND((G317*1),-1)))","v":740},8353200,11300]
[null,23,5,"OTHER SERVICES, EXCEPT PUBLIC ADMIN",81,44,358,8470212,455,{"$f":"IF(County!G318=0,\"0\",IF(County!G318<5,\"*\",ROUND((G318*1),-1)))","v":360},8470200,23500]
[null,23,3,"LOCAL GOVERNMENT",11,23,1565,49473487,608,{"$f":"IF(County!G319=0,\"0\",IF(County!G319<5,\"*\",ROUND((G319*1),-1)))","v":1570},49473500,31500]
[null,23,3,"EDUCATIONAL SERVICES",61,9,937,30343574,623,{"$f":"IF(County!G320=0,\"0\",IF(County!G320<5,\"*\",ROUND((G320*1),-1)))","v":940},30343600,32300]
[null,23,3,"HEALTH CARE AND SOCIAL ASSISTANCE",62,0,0,0,0,{"$f":"IF(County!G321=0,\"0\",IF(County!G321<5,\"*\",ROUND((G321*1),-1)))","v":"0"},0,0]
[null,23,2,"STATE GOVERNMENT",11,9,59,2152527,702,{"$f":"IF(County!G322=0,\"0\",IF(County!G322<5,\"*\",ROUND((G322*1),-1)))","v":60},2152500,35900]
[null,23,2,"EDUCATIONAL SERVICES",61,0,0,0,0,{"$f":"IF(County!G323=0,\"0\",IF(County!G323<5,\"*\",ROUND((G323*1),-1)))","v":"0"},0,0]
[null,23,2,"HEALTH CARE AND SOCIAL ASSISTANCE",62,0,0,0,0,{"$f":"IF(County!G324=0,\"0\",IF(County!G324<5,\"*\",ROUND((G324*1),-1)))","v":"0"},0,{"$f":"IF(G324=0,0,IF(J324=\"*\",\"*\",ROUND((K324/J324),-2)))","v":0}]
[null,23,"U","TOTAL UI COVERED",11,574,10758,396759979,709,{"$f":"IF(County!G325=0,\"0\",IF(County!G325<5,\"*\",ROUND((G325*1),-1)))","v":10760},396760000,36900]
[null,23,1,"FEDERAL GOVERNMENT",11,10,58,2855139,947,{"$f":"IF(County!G326=0,\"0\",IF(County!G326<5,\"*\",ROUND((G326*1),-1)))","v":60},2855100,47600]
[null,25,5,"AGRICULTURE, FORESTRY, FISHING AND HUNTI",11,3,13,268603,397,{"$f":"IF(County!G327=0,\"0\",IF(County!G327<5,\"*\",ROUND((G327*1),-1)))","v":10},268600,26900]
["D",25,5,"MINING, QUARRYING, AND OIL AND GAS EXTRA",21,4,161,8294050,991,{"$f":"IF(County!G328=0,\"0\",IF(County!G328<5,\"*\",ROUND((G328*1),-1)))","v":160},8294100,51800]
[null,25,5,"UTILITIES",22,3,13,396157,586,{"$f":"IF(County!G329=0,\"0\",IF(County!G329<5,\"*\",ROUND((G329*1),-1)))","v":10},{"$f":"ROUND((H329),-2)","v":396200},39600]
[null,25,5,"CONSTRUCTION",23,13,30,547750,351,{"$f":"IF(County!G330=0,\"0\",IF(County!G330<5,\"*\",ROUND((G330*1),-1)))","v":30},547800,18300]
["D",25,5,"MANUFACTURING","31-33",5,404,13079976,623,{"$f":"IF(County!G331=0,\"0\",IF(County!G331<5,\"*\",ROUND((G331*1),-1)))","v":400},13080000,32700]
[null,25,5,"WHOLESALE TRADE",42,4,22,613984,537,{"$f":"IF(County!G332=0,\"0\",IF(County!G332<5,\"*\",ROUND((G332*1),-1)))","v":20},614000,30700]
[null,25,5,"RETAIL TRADE","44-45",26,178,3202259,346,{"$f":"IF(County!G333=0,\"0\",IF(County!G333<5,\"*\",ROUND((G333*1),-1)))","v":180},3202300,17800]
[null,25,5,"TRANSPORTATION AND WAREHOUSING","48-49",15,151,4758866,606,{"$f":"IF(County!G334=0,\"0\",IF(County!G334<5,\"*\",ROUND((G334*1),-1)))","v":150},4758900,31700]
[null,25,5,"INFORMATION",51,0,0,0,0,{"$f":"IF(County!G335=0,\"0\",IF(County!G335<5,\"*\",ROUND((G335*1),-1)))","v":"0"},0,0]
[null,25,5,"FINANCE AND INSURANCE",52,8,29,888534,589,{"$f":"IF(County!G336=0,\"0\",IF(County!G336<5,\"*\",ROUND((G336*1),-1)))","v":30},888500,29600]
["D",25,5,"REAL ESTATE AND RENTAL AND LEASING",53,3,15,158169,203,{"$f":"IF(County!G337=0,\"0\",IF(County!G337<5,\"*\",ROUND((G337*1),-1)))","v":20},158200,7900]
[null,25,5,"PROFESSIONAL AND TECHNICAL SERVICES",54,4,6,129750,416,{"$f":"IF(County!G338=0,\"0\",IF(County!G338<5,\"*\",ROUND((G338*1),-1)))","v":10},129800,13000]
["D",25,5,"MANAGEMENT OF COMPANIES AND ENTERPRISES",55,3,26,1483339,1097,{"$f":"IF(County!G339=0,\"0\",IF(County!G339<5,\"*\",ROUND((G339*1),-1)))","v":30},1483300,49400]
["D",25,5,"ADMINISTRATIVE AND WASTE SERVICES",56,1,2,93851,902,{"$f":"IF(County!G340=0,\"0\",IF(County!G340<5,\"*\",ROUND((G340*1),-1)))","v":"*"},93900,"*"]
[null,25,5,"EDUCATIONAL SERVICES",61,0,0,0,0,{"$f":"IF(County!G341=0,\"0\",IF(County!G341<5,\"*\",ROUND((G341*1),-1)))","v":"0"},0,0]
[null,25,5,"HEALTH CARE AND SOCIAL ASSISTANCE",62,20,139,4149472,574,{"$f":"IF(County!G342=0,\"0\",IF(County!G342<5,\"*\",ROUND((G342*1),-1)))","v":140},4149500,29600]
["D",25,5,"ARTS, ENTERTAINMENT, AND RECREATION",71,2,52,902128,334,{"$f":"IF(County!G343=0,\"0\",IF(County!G343<5,\"*\",ROUND((G343*1),-1)))","v":50},902100,18000]
[null,25,5,"ACCOMMODATION AND FOOD SERVICES",72,20,143,1692009,228,{"$f":"IF(County!G344=0,\"0\",IF(County!G344<5,\"*\",ROUND((G344*1),-1)))","v":140},1692000,12100]
[null,25,5,"OTHER SERVICES, EXCEPT PUBLIC ADMIN",81,9,40,700118,337,{"$f":"IF(County!G345=0,\"0\",IF(County!G345<5,\"*\",ROUND((G345*1),-1)))","v":40},700100,17500]
[null,25,3,"LOCAL GOVERNMENT",11,13,503,11975664,458,{"$f":"IF(County!G346=0,\"0\",IF(County!G346<5,\"*\",ROUND((G346*1),-1)))","v":500},11975700,24000]
["D",25,3,"EDUCATIONAL SERVICES",61,2,336,8726901,499,{"$f":"IF(County!G347=0,\"0\",IF(County!G347<5,\"*\",ROUND((G347*1),-1)))","v":340},8726900,25700]
[null,25,3,"HEALTH CARE AND SOCIAL ASSISTANCE",62,0,0,0,0,{"$f":"IF(County!G348=0,\"0\",IF(County!G348<5,\"*\",ROUND((G348*1),-1)))","v":"0"},0,0]
[null,25,2,"STATE GOVERNMENT",11,9,62,1859428,577,{"$f":"IF(County!G349=0,\"0\",IF(County!G349<5,\"*\",ROUND((G349*1),-1)))","v":60},1859400,31000]
[null,25,2,"EDUCATIONAL SERVICES",61,0,0,0,0,{"$f":"IF(County!G350=0,\"0\",IF(County!G350<5,\"*\",ROUND((G350*1),-1)))","v":"0"},0,0]
[null,25,2,"HEALTH CARE AND SOCIAL ASSISTANCE",62,0,0,0,0,{"$f":"IF(County!G351=0,\"0\",IF(County!G351<5,\"*\",ROUND((G351*1),-1)))","v":"0"},0,0]
[null,25,"U","TOTAL UI COVERED",11,162,1986,55194107,534,{"$f":"IF(County!G352=0,\"0\",IF(County!G352<5,\"*\",ROUND((G352*1),-1)))","v":1990},55194100,27700]
[null,25,1,"FEDERAL GOVERNMENT",11,5,23,910258,761,{"$f":"IF(County!G353=0,\"0\",IF(County!G353<5,\"*\",ROUND((G353*1),-1)))","v":20},910300,45500]
[null,27,5,"AGRICULTURE, FORESTRY, FISHING AND HUNTI",11,25,91,3286526,695,{"$f":"IF(County!G354=0,\"0\",IF(County!G354<5,\"*\",ROUND((G354*1),-1)))","v":90},3286500,36500]
["D",27,5,"MINING, QUARRYING, AND OIL AND GAS EXTRA",21,5,86,7565812,1692,{"$f":"IF(County!G355=0,\"0\",IF(County!G355<5,\"*\",ROUND((G355*1),-1)))","v":90},7565800,84100]
[null,27,5,"UTILITIES",22,4,43,2681092,1199,{"$f":"IF(County!G356=0,\"0\",IF(County!G356<5,\"*\",ROUND((G356*1),-1)))","v":40},2681100,67000]
[null,27,5,"CONSTRUCTION",23,190,1282,47807673,717,{"$f":"IF(County!G357=0,\"0\",IF(County!G357<5,\"*\",ROUND((G357*1),-1)))","v":1280},47807700,37300]
[null,27,5,"MANUFACTURING","31-33",87,2132,71840661,648,{"$f":"IF(County!G358=0,\"0\",IF(County!G358<5,\"*\",ROUND((G358*1),-1)))","v":2130},71840700,33700]
[null,27,5,"WHOLESALE TRADE",42,32,392,20665592,1014,{"$f":"IF(County!G359=0,\"0\",IF(County!G359<5,\"*\",ROUND((G359*1),-1)))","v":390},20665600,53000]
[null,27,5,"RETAIL TRADE","44-45",102,1265,32774453,498,{"$f":"IF(County!G360=0,\"0\",IF(County!G360<5,\"*\",ROUND((G360*1),-1)))","v":1270},32774500,25800]
[null,27,5,"TRANSPORTATION AND WAREHOUSING","48-49",43,772,25804291,643,{"$f":"IF(County!G361=0,\"0\",IF(County!G361<5,\"*\",ROUND((G361*1),-1)))","v":770},25804300,33500]
[null,27,5,"INFORMATION",51,9,80,2984613,717,{"$f":"IF(County!G362=0,\"0\",IF(County!G362<5,\"*\",ROUND((G362*1),-1)))","v":80},2984600,37300]
[null,27,5,"FINANCE AND INSURANCE",52,40,258,11788714,879,{"$f":"IF(County!G363=0,\"0\",IF(County!G363<5,\"*\",ROUND((G363*1),-1)))","v":260},11788700,45300]
[null,27,5,"REAL ESTATE AND RENTAL AND LEASING",53,15,83,1905110,441,{"$f":"IF(County!G364=0,\"0\",IF(County!G364<5,\"*\",ROUND((G364*1),-1)))","v":80},1905100,23800]
[null,27,5,"PROFESSIONAL AND TECHNICAL SERVICES",54,47,285,12555516,847,{"$f":"IF(County!G365=0,\"0\",IF(County!G365<5,\"*\",ROUND((G365*1),-1)))","v":290},12555500,43300]
["D",27,5,"MANAGEMENT OF COMPANIES AND ENTERPRISES",55,2,9,832230,1778,{"$f":"IF(County!G366=0,\"0\",IF(County!G366<5,\"*\",ROUND((G366*1),-1)))","v":10},832200,83200]
[null,27,5,"ADMINISTRATIVE AND WASTE SERVICES",56,18,192,5073623,508,{"$f":"IF(County!G367=0,\"0\",IF(County!G367<5,\"*\",ROUND((G367*1),-1)))","v":190},5073600,26700]
["D",27,5,"EDUCATIONAL SERVICES",61,4,96,1844041,369,{"$f":"IF(County!G368=0,\"0\",IF(County!G368<5,\"*\",ROUND((G368*1),-1)))","v":100},1844000,18400]
[null,27,5,"HEALTH CARE AND SOCIAL ASSISTANCE",62,70,961,26089893,522,{"$f":"IF(County!G369=0,\"0\",IF(County!G369<5,\"*\",ROUND((G369*1),-1)))","v":960},26089900,27200]
[null,27,5,"ARTS, ENTERTAINMENT, AND RECREATION",71,5,70,431233,118,{"$f":"IF(County!G370=0,\"0\",IF(County!G370<5,\"*\",ROUND((G370*1),-1)))","v":70},431200,6200]
[null,27,5,"ACCOMMODATION AND FOOD SERVICES",72,52,815,8711465,206,{"$f":"IF(County!G371=0,\"0\",IF(County!G371<5,\"*\",ROUND((G371*1),-1)))","v":820},8711500,10600]
[null,27,5,"OTHER SERVICES, EXCEPT PUBLIC ADMIN",81,70,325,8615786,510,{"$f":"IF(County!G372=0,\"0\",IF(County!G372<5,\"*\",ROUND((G372*1),-1)))","v":330},8615800,26100]
[null,27,3,"LOCAL GOVERNMENT",11,21,1620,59180337,703,{"$f":"IF(County!G373=0,\"0\",IF(County!G373<5,\"*\",ROUND((G373*1),-1)))","v":1620},59180300,36500]
[null,27,3,"EDUCATIONAL SERVICES",61,6,641,21119375,634,{"$f":"IF(County!G374=0,\"0\",IF(County!G374<5,\"*\",ROUND((G374*1),-1)))","v":640},21119400,33000]
["D",27,3,"HEALTH CARE AND SOCIAL ASSISTANCE",62,1,564,23982743,818,{"$f":"IF(County!G375=0,\"0\",IF(County!G375<5,\"*\",ROUND((G375*1),-1)))","v":560},23982700,42800]
[null,27,2,"STATE GOVERNMENT",11,14,89,3438854,743,{"$f":"IF(County!G376=0,\"0\",IF(County!G376<5,\"*\",ROUND((G376*1),-1)))","v":90},3438900,38200]
[null,27,2,"EDUCATIONAL SERVICES",61,0,0,0,0,{"$f":"IF(County!G377=0,\"0\",IF(County!G377<5,\"*\",ROUND((G377*1),-1)))","v":"0"},0,0]
[null,27,2,"HEALTH CARE AND SOCIAL ASSISTANCE",62,0,0,0,0,{"$f":"IF(County!G378=0,\"0\",IF(County!G378<5,\"*\",ROUND((G378*1),-1)))","v":"0"},0,0]
[null,27,"U","TOTAL UI COVERED",11,852,10944,355877515,625,{"$f":"IF(County!G379=0,\"0\",IF(County!G379<5,\"*\",ROUND((G379*1),-1)))","v":10940},355877500,32500]
[null,27,1,"FEDERAL GOVERNMENT",11,9,68,3619327,1024,{"$f":"IF(County!G380=0,\"0\",IF(County!G380<5,\"*\",ROUND((G380*1),-1)))","v":70},3619300,51700]
[null,29,5,"AGRICULTURE, FORESTRY, FISHING AND HUNTI",11,4,11,129118,226,{"$f":"IF(County!G381=0,\"0\",IF(County!G381<5,\"*\",ROUND((G381*1),-1)))","v":10},129100,12900]
["D",29,5,"MINING, QUARRYING, AND OIL AND GAS EXTRA",21,1,7,271029,745,{"$f":"IF(County!G382=0,\"0\",IF(County!G382<5,\"*\",ROUND((G382*1),-1)))","v":10},271000,27100]
[null,29,5,"UTILITIES",22,16,227,21976335,1862,{"$f":"IF(County!G383=0,\"0\",IF(County!G383<5,\"*\",ROUND((G383*1),-1)))","v":230},21976300,95500]
[null,29,5,"CONSTRUCTION",23,118,618,33250540,1035,{"$f":"IF(County!G384=0,\"0\",IF(County!G384<5,\"*\",ROUND((G384*1),-1)))","v":620},33250500,53600]
[null,29,5,"MANUFACTURING","31-33",47,2109,92499195,843,{"$f":"IF(County!G385=0,\"0\",IF(County!G385<5,\"*\",ROUND((G385*1),-1)))","v":2110},92499200,43800]
[null,29,5,"WHOLESALE TRADE",42,51,253,11983254,911,{"$f":"IF(County!G386=0,\"0\",IF(County!G386<5,\"*\",ROUND((G386*1),-1)))","v":250},11983300,47900]
[null,29,5,"RETAIL TRADE","44-45",126,1880,48562354,497,{"$f":"IF(County!G387=0,\"0\",IF(County!G387<5,\"*\",ROUND((G387*1),-1)))","v":1880},48562400,25800]
[null,29,5,"TRANSPORTATION AND WAREHOUSING","48-49",53,332,13016009,754,{"$f":"IF(County!G388=0,\"0\",IF(County!G388<5,\"*\",ROUND((G388*1),-1)))","v":330},13016000,{"$f":"IF(G388=0,0,IF(J388=\"*\",\"*\",ROUND((K388/J388),-2)))","v":39400}]
[null,29,5,"INFORMATION",51,8,110,4300798,752,{"$f":"IF(County!G389=0,\"0\",IF(County!G389<5,\"*\",ROUND((G389*1),-1)))","v":110},4300800,39100]
[null,29,5,"FINANCE AND INSURANCE",52,50,335,15668320,899,{"$f":"IF(County!G390=0,\"0\",IF(County!G390<5,\"*\",ROUND((G390*1),-1)))","v":340},15668300,46100]
[null,29,5,"REAL ESTATE AND RENTAL AND LEASING",53,34,87,2582889,571,{"$f":"IF(County!G391=0,\"0\",IF(County!G391<5,\"*\",ROUND((G391*1),-1)))","v":90},2582900,28700]
[null,29,5,"PROFESSIONAL AND TECHNICAL SERVICES",54,72,248,10090424,782,{"$f":"IF(County!G392=0,\"0\",IF(County!G392<5,\"*\",ROUND((G392*1),-1)))","v":250},10090400,40400]
["D",29,5,"MANAGEMENT OF COMPANIES AND ENTERPRISES",55,7,52,1766869,653,{"$f":"IF(County!G393=0,\"0\",IF(County!G393<5,\"*\",ROUND((G393*1),-1)))","v":50},{"$f":"ROUND((H393),-2)","v":1766900},35300]
[null,29,5,"ADMINISTRATIVE AND WASTE SERVICES",56,52,329,8310189,486,{"$f":"IF(County!G394=0,\"0\",IF(County!G394<5,\"*\",ROUND((G394*1),-1)))","v":330},8310200,25200]
["D",29,5,"EDUCATIONAL SERVICES",61,6,27,648063,462,{"$f":"IF(County!G395=0,\"0\",IF(County!G395<5,\"*\",ROUND((G395*1),-1)))","v":30},648100,21600]
[null,29,5,"HEALTH CARE AND SOCIAL ASSISTANCE",62,83,1421,45319451,613,{"$f":"IF(County!G396=0,\"0\",IF(County!G396<5,\"*\",ROUND((G396*1),-1)))","v":1420},45319500,31900]
[null,29,5,"ARTS, ENTERTAINMENT, AND RECREATION",71,24,1625,42538281,503,{"$f":"IF(County!G397=0,\"0\",IF(County!G397<5,\"*\",ROUND((G397*1),-1)))","v":1630},42538300,26100]
[null,29,5,"ACCOMMODATION AND FOOD SERVICES",72,64,1220,15375399,242,{"$f":"IF(County!G398=0,\"0\",IF(County!G398<5,\"*\",ROUND((G398*1),-1)))","v":1220},15375400,12600]
[null,29,5,"OTHER SERVICES, EXCEPT PUBLIC ADMIN",81,70,282,6317479,431,{"$f":"IF(County!G399=0,\"0\",IF(County!G399<5,\"*\",ROUND((G399*1),-1)))","v":280},6317500,22600]
[null,29,3,"LOCAL GOVERNMENT",11,45,2801,109765551,754,{"$f":"IF(County!G400=0,\"0\",IF(County!G400<5,\"*\",ROUND((G400*1),-1)))","v":2800},109765600,39200]
[null,29,3,"EDUCATIONAL SERVICES",61,8,1144,39184435,659,{"$f":"IF(County!G401=0,\"0\",IF(County!G401<5,\"*\",ROUND((G401*1),-1)))","v":1140},39184400,34400]
["D",29,3,"HEALTH CARE AND SOCIAL ASSISTANCE",62,17,868,45564105,1009,{"$f":"IF(County!G402=0,\"0\",IF(County!G402<5,\"*\",ROUND((G402*1),-1)))","v":870},45564100,52400]
[null,29,2,"STATE GOVERNMENT",11,10,95,3710917,751,{"$f":"IF(County!G403=0,\"0\",IF(County!G403<5,\"*\",ROUND((G403*1),-1)))","v":100},3710900,37100]
[null,29,2,"EDUCATIONAL SERVICES",61,0,0,0,0,{"$f":"IF(County!G404=0,\"0\",IF(County!G404<5,\"*\",ROUND((G404*1),-1)))","v":"0"},0,0]
[null,29,2,"HEALTH CARE AND SOCIAL ASSISTANCE",62,0,0,0,0,{"$f":"IF(County!G405=0,\"0\",IF(County!G405<5,\"*\",ROUND((G405*1),-1)))","v":"0"},0,0]
[null,29,"U","TOTAL UI COVERED",11,939,14069,488082464,667,{"$f":"IF(County!G406=0,\"0\",IF(County!G406<5,\"*\",ROUND((G406*1),-1)))","v":14070},488082500,34700]
[null,29,1,"FEDERAL GOVERNMENT",11,9,100,5823708,1120,{"$f":"IF(County!G407=0,\"0\",IF(County!G407<5,\"*\",ROUND((G407*1),-1)))","v":100},5823700,58200]
[null,31,5,"AGRICULTURE, FORESTRY, FISHING AND HUNTI",11,27,213,8333478,752,{"$f":"IF(County!G408=0,\"0\",IF(County!G408<5,\"*\",ROUND((G408*1),-1)))","v":210},8333500,39700]
["D",31,5,"MINING, QUARRYING, AND OIL AND GAS EXTRA",21,2,18,914501,977,{"$f":"IF(County!G409=0,\"0\",IF(County!G409<5,\"*\",ROUND((G409*1),-1)))","v":20},914500,45700]
[null,31,5,"UTILITIES",22,4,55,4089797,1430,{"$f":"IF(County!G410=0,\"0\",IF(County!G410<5,\"*\",ROUND((G410*1),-1)))","v":60},4089800,68200]
[null,31,5,"CONSTRUCTION",23,64,279,9784370,674,{"$f":"IF(County!G411=0,\"0\",IF(County!G411<5,\"*\",ROUND((G411*1),-1)))","v":280},9784400,34900]
[null,31,5,"MANUFACTURING","31-33",59,5166,265497555,988,{"$f":"IF(County!G412=0,\"0\",IF(County!G412<5,\"*\",ROUND((G412*1),-1)))","v":5170},265497600,51400]
[null,31,5,"WHOLESALE TRADE",42,36,430,20632963,923,{"$f":"IF(County!G413=0,\"0\",IF(County!G413<5,\"*\",ROUND((G413*1),-1)))","v":430},20633000,48000]
[null,31,5,"RETAIL TRADE","44-45",94,1096,25065681,440,{"$f":"IF(County!G414=0,\"0\",IF(County!G414<5,\"*\",ROUND((G414*1),-1)))","v":1100},25065700,22800]
[null,31,5,"TRANSPORTATION AND WAREHOUSING","48-49",35,666,26563052,767,{"$f":"IF(County!G415=0,\"0\",IF(County!G415<5,\"*\",ROUND((G415*1),-1)))","v":670},26563100,39600]
[null,31,5,"INFORMATION",51,5,73,2632116,693,{"$f":"IF(County!G416=0,\"0\",IF(County!G416<5,\"*\",ROUND((G416*1),-1)))","v":70},2632100,37600]
[null,31,5,"FINANCE AND INSURANCE",52,37,239,12166708,979,{"$f":"IF(County!G417=0,\"0\",IF(County!G417<5,\"*\",ROUND((G417*1),-1)))","v":240},12166700,50700]
[null,31,5,"REAL ESTATE AND RENTAL AND LEASING",53,17,49,1810477,711,{"$f":"IF(County!G418=0,\"0\",IF(County!G418<5,\"*\",ROUND((G418*1),-1)))","v":50},1810500,36200]
[null,31,5,"PROFESSIONAL AND TECHNICAL SERVICES",54,29,104,4371247,808,{"$f":"IF(County!G419=0,\"0\",IF(County!G419<5,\"*\",ROUND((G419*1),-1)))","v":100},4371200,43700]
["D",31,5,"MANAGEMENT OF COMPANIES AND ENTERPRISES",55,4,232,14766860,1224,{"$f":"IF(County!G420=0,\"0\",IF(County!G420<5,\"*\",ROUND((G420*1),-1)))","v":230},14766900,64200]
[null,31,5,"ADMINISTRATIVE AND WASTE SERVICES",56,29,1431,38064938,512,{"$f":"IF(County!G421=0,\"0\",IF(County!G421<5,\"*\",ROUND((G421*1),-1)))","v":1430},38064900,26600]
[null,31,5,"EDUCATIONAL SERVICES",61,7,12,96609,155,{"$f":"IF(County!G422=0,\"0\",IF(County!G422<5,\"*\",ROUND((G422*1),-1)))","v":10},96600,9700]
[null,31,5,"HEALTH CARE AND SOCIAL ASSISTANCE",62,43,709,20354944,552,{"$f":"IF(County!G423=0,\"0\",IF(County!G423<5,\"*\",ROUND((G423*1),-1)))","v":710},20354900,28700]
[null,31,5,"ARTS, ENTERTAINMENT, AND RECREATION",71,6,121,3077675,489,{"$f":"IF(County!G424=0,\"0\",IF(County!G424<5,\"*\",ROUND((G424*1),-1)))","v":120},3077700,25600]
[null,31,5,"ACCOMMODATION AND FOOD SERVICES",72,49,817,10915252,257,{"$f":"IF(County!G425=0,\"0\",IF(County!G425<5,\"*\",ROUND((G425*1),-1)))","v":820},10915300,13300]
[null,31,5,"OTHER SERVICES, EXCEPT PUBLIC ADMIN",81,51,257,5344595,400,{"$f":"IF(County!G426=0,\"0\",IF(County!G426<5,\"*\",ROUND((G426*1),-1)))","v":260},5344600,20600]
[null,31,3,"LOCAL GOVERNMENT",11,21,1395,55134506,760,{"$f":"IF(County!G427=0,\"0\",IF(County!G427<5,\"*\",ROUND((G427*1),-1)))","v":1400},55134500,39400]
["D",31,3,"EDUCATIONAL SERVICES",61,6,607,21976564,696,{"$f":"IF(County!G428=0,\"0\",IF(County!G428<5,\"*\",ROUND((G428*1),-1)))","v":610},21976600,36000]
["D",31,3,"HEALTH CARE AND SOCIAL ASSISTANCE",62,1,432,21803814,971,{"$f":"IF(County!G429=0,\"0\",IF(County!G429<5,\"*\",ROUND((G429*1),-1)))","v":430},21803800,50700]
[null,31,2,"STATE GOVERNMENT",11,12,59,2199088,717,{"$f":"IF(County!G430=0,\"0\",IF(County!G430<5,\"*\",ROUND((G430*1),-1)))","v":60},2199100,36700]
[null,31,2,"EDUCATIONAL SERVICES",61,0,0,0,0,{"$f":"IF(County!G431=0,\"0\",IF(County!G431<5,\"*\",ROUND((G431*1),-1)))","v":"0"},0,0]
[null,31,2,"HEALTH CARE AND SOCIAL ASSISTANCE",62,0,0,0,0,{"$f":"IF(County!G432=0,\"0\",IF(County!G432<5,\"*\",ROUND((G432*1),-1)))","v":"0"},0,0]
[null,31,"U","TOTAL UI COVERED",11,627,13422,531816412,762,{"$f":"IF(County!G433=0,\"0\",IF(County!G433<5,\"*\",ROUND((G433*1),-1)))","v":13420},531816400,39600]
[null,31,1,"FEDERAL GOVERNMENT",11,8,61,3431691,1082,{"$f":"IF(County!G434=0,\"0\",IF(County!G434<5,\"*\",ROUND((G434*1),-1)))","v":60},3431700,57200]
[null,33,5,"AGRICULTURE, FORESTRY, FISHING AND HUNTI",11,20,92,2432804,509,{"$f":"IF(County!G435=0,\"0\",IF(County!G435<5,\"*\",ROUND((G435*1),-1)))","v":90},2432800,27000]
[null,33,5,"MINING, QUARRYING, AND OIL AND GAS EXTRA",21,5,58,2134327,708,{"$f":"IF(County!G436=0,\"0\",IF(County!G436<5,\"*\",ROUND((G436*1),-1)))","v":60},2134300,35600]
["D",33,5,"UTILITIES",22,2,24,514514,412,{"$f":"IF(County!G437=0,\"0\",IF(County!G437<5,\"*\",ROUND((G437*1),-1)))","v":20},514500,25700]
[null,33,5,"CONSTRUCTION",23,113,633,24702362,750,{"$f":"IF(County!G438=0,\"0\",IF(County!G438<5,\"*\",ROUND((G438*1),-1)))","v":630},24702400,39200]
[null,33,5,"MANUFACTURING","31-33",118,8237,453336718,1058,{"$f":"IF(County!G439=0,\"0\",IF(County!G439<5,\"*\",ROUND((G439*1),-1)))","v":8240},453336700,55000]
[null,33,5,"WHOLESALE TRADE",42,57,1313,65528320,960,{"$f":"IF(County!G440=0,\"0\",IF(County!G440<5,\"*\",ROUND((G440*1),-1)))","v":1310},65528300,50000]
[null,33,5,"RETAIL TRADE","44-45",110,1459,34670614,457,{"$f":"IF(County!G441=0,\"0\",IF(County!G441<5,\"*\",ROUND((G441*1),-1)))","v":1460},34670600,23700]
[null,33,5,"TRANSPORTATION AND WAREHOUSING","48-49",38,851,29945343,677,{"$f":"IF(County!G442=0,\"0\",IF(County!G442<5,\"*\",ROUND((G442*1),-1)))","v":850},29945300,35200]
[null,33,5,"INFORMATION",51,8,86,2770595,620,{"$f":"IF(County!G443=0,\"0\",IF(County!G443<5,\"*\",ROUND((G443*1),-1)))","v":90},2770600,30800]
[null,33,5,"FINANCE AND INSURANCE",52,52,327,13692386,805,{"$f":"IF(County!G444=0,\"0\",IF(County!G444<5,\"*\",ROUND((G444*1),-1)))","v":330},13692400,41500]
[null,33,5,"REAL ESTATE AND RENTAL AND LEASING",53,24,113,4211694,717,{"$f":"IF(County!G445=0,\"0\",IF(County!G445<5,\"*\",ROUND((G445*1),-1)))","v":110},4211700,38300]
[null,33,5,"PROFESSIONAL AND TECHNICAL SERVICES",54,79,474,24785253,1006,{"$f":"IF(County!G446=0,\"0\",IF(County!G446<5,\"*\",ROUND((G446*1),-1)))","v":470},24785300,52700]
[null,33,5,"MANAGEMENT OF COMPANIES AND ENTERPRISES",55,6,345,30206091,1684,{"$f":"IF(County!G447=0,\"0\",IF(County!G447<5,\"*\",ROUND((G447*1),-1)))","v":350},30206100,86300]
[null,33,5,"ADMINISTRATIVE AND WASTE SERVICES",56,55,944,26545026,541,{"$f":"IF(County!G448=0,\"0\",IF(County!G448<5,\"*\",ROUND((G448*1),-1)))","v":940},26545000,28200]
[null,33,5,"EDUCATIONAL SERVICES",61,6,61,702782,222,{"$f":"IF(County!G449=0,\"0\",IF(County!G449<5,\"*\",ROUND((G449*1),-1)))","v":60},702800,11700]
[null,33,5,"HEALTH CARE AND SOCIAL ASSISTANCE",62,56,1599,58373242,702,{"$f":"IF(County!G450=0,\"0\",IF(County!G450<5,\"*\",ROUND((G450*1),-1)))","v":1600},58373200,36500]
[null,33,5,"ARTS, ENTERTAINMENT, AND RECREATION",71,17,172,2254413,252,{"$f":"IF(County!G451=0,\"0\",IF(County!G451<5,\"*\",ROUND((G451*1),-1)))","v":170},2254400,13300]
[null,33,5,"ACCOMMODATION AND FOOD SERVICES",72,76,1266,15693537,238,{"$f":"IF(County!G452=0,\"0\",IF(County!G452<5,\"*\",ROUND((G452*1),-1)))","v":1270},15693500,{"$f":"IF(G452=0,0,IF(J452=\"*\",\"*\",ROUND((K452/J452),-2)))","v":12400}]
[null,33,5,"OTHER SERVICES, EXCEPT PUBLIC ADMIN",81,81,468,8371638,344,{"$f":"IF(County!G453=0,\"0\",IF(County!G453<5,\"*\",ROUND((G453*1),-1)))","v":470},8371600,17800]
[null,33,3,"LOCAL GOVERNMENT",11,22,1874,64426794,661,{"$f":"IF(County!G454=0,\"0\",IF(County!G454<5,\"*\",ROUND((G454*1),-1)))","v":1870},64426800,34500]
[null,33,3,"EDUCATIONAL SERVICES",61,10,1197,43174370,694,{"$f":"IF(County!G455=0,\"0\",IF(County!G455<5,\"*\",ROUND((G455*1),-1)))","v":1200},43174400,36000]
[null,33,3,"HEALTH CARE AND SOCIAL ASSISTANCE",62,0,0,0,0,{"$f":"IF(County!G456=0,\"0\",IF(County!G456<5,\"*\",ROUND((G456*1),-1)))","v":"0"},0,0]
[null,33,2,"STATE GOVERNMENT",11,14,75,2919773,749,{"$f":"IF(County!G457=0,\"0\",IF(County!G457<5,\"*\",ROUND((G457*1),-1)))","v":80},{"$f":"ROUND((H457),-2)","v":2919800},36500]
[null,33,2,"EDUCATIONAL SERVICES",61,0,0,0,0,{"$f":"IF(County!G458=0,\"0\",IF(County!G458<5,\"*\",ROUND((G458*1),-1)))","v":"0"},0,0]
[null,33,2,"HEALTH CARE AND SOCIAL ASSISTANCE",62,0,0,0,0,{"$f":"IF(County!G459=0,\"0\",IF(County!G459<5,\"*\",ROUND((G459*1),-1)))","v":"0"},0,0]
[null,33,"U","TOTAL UI COVERED",11,958,20470,868218226,816,{"$f":"IF(County!G460=0,\"0\",IF(County!G460<5,\"*\",ROUND((G460*1),-1)))","v":20470},868218200,42400]
[null,33,1,"FEDERAL GOVERNMENT",11,11,80,4454809,1071,{"$f":"IF(County!G461=0,\"0\",IF(County!G461<5,\"*\",ROUND((G461*1),-1)))","v":80},4454800,55700]
[null,35,5,"AGRICULTURE, FORESTRY, FISHING AND HUNTI",11,17,176,5540889,605,{"$f":"IF(County!G462=0,\"0\",IF(County!G462<5,\"*\",ROUND((G462*1),-1)))","v":180},5540900,30800]
["D",35,5,"MINING, QUARRYING, AND OIL AND GAS EXTRA",21,3,21,1916582,1755,{"$f":"IF(County!G463=0,\"0\",IF(County!G463<5,\"*\",ROUND((G463*1),-1)))","v":20},1916600,95800]
[null,35,5,"UTILITIES",22,6,167,13033278,1501,{"$f":"IF(County!G464=0,\"0\",IF(County!G464<5,\"*\",ROUND((G464*1),-1)))","v":170},13033300,76700]
[null,35,5,"CONSTRUCTION",23,171,1410,60076784,819,{"$f":"IF(County!G465=0,\"0\",IF(County!G465<5,\"*\",ROUND((G465*1),-1)))","v":1410},60076800,42600]
[null,35,5,"MANUFACTURING","31-33",125,4184,198740508,913,{"$f":"IF(County!G466=0,\"0\",IF(County!G466<5,\"*\",ROUND((G466*1),-1)))","v":4180},198740500,47500]
[null,35,5,"WHOLESALE TRADE",42,108,969,47388190,940,{"$f":"IF(County!G467=0,\"0\",IF(County!G467<5,\"*\",ROUND((G467*1),-1)))","v":970},47388200,48900]
[null,35,5,"RETAIL TRADE","44-45",412,6463,151076099,450,{"$f":"IF(County!G468=0,\"0\",IF(County!G468<5,\"*\",ROUND((G468*1),-1)))","v":6460},151076100,23400]
[null,35,5,"TRANSPORTATION AND WAREHOUSING","48-49",46,1097,44764122,785,{"$f":"IF(County!G469=0,\"0\",IF(County!G469<5,\"*\",ROUND((G469*1),-1)))","v":1100},44764100,40700]
[null,35,5,"INFORMATION",51,13,330,14743877,859,{"$f":"IF(County!G470=0,\"0\",IF(County!G470<5,\"*\",ROUND((G470*1),-1)))","v":330},14743900,44700]
[null,35,5,"FINANCE AND INSURANCE",52,153,1751,73613187,808,{"$f":"IF(County!G471=0,\"0\",IF(County!G471<5,\"*\",ROUND((G471*1),-1)))","v":1750},73613200,42100]
[null,35,5,"REAL ESTATE AND RENTAL AND LEASING",53,97,608,21203982,671,{"$f":"IF(County!G472=0,\"0\",IF(County!G472<5,\"*\",ROUND((G472*1),-1)))","v":610},21204000,34800]
[null,35,5,"PROFESSIONAL AND TECHNICAL SERVICES",54,164,1714,77441670,869,{"$f":"IF(County!G473=0,\"0\",IF(County!G473<5,\"*\",ROUND((G473*1),-1)))","v":1710},77441700,45300]
[null,35,5,"MANAGEMENT OF COMPANIES AND ENTERPRISES",55,17,787,66380680,1622,{"$f":"IF(County!G474=0,\"0\",IF(County!G474<5,\"*\",ROUND((G474*1),-1)))","v":790},66380700,84000]
[null,35,5,"ADMINISTRATIVE AND WASTE SERVICES",56,107,1890,45237946,460,{"$f":"IF(County!G475=0,\"0\",IF(County!G475<5,\"*\",ROUND((G475*1),-1)))","v":1890},45237900,23900]
[null,35,5,"EDUCATIONAL SERVICES",61,18,112,3077954,528,{"$f":"IF(County!G476=0,\"0\",IF(County!G476<5,\"*\",ROUND((G476*1),-1)))","v":110},3078000,28000]
[null,35,5,"HEALTH CARE AND SOCIAL ASSISTANCE",62,239,8025,325930169,781,{"$f":"IF(County!G477=0,\"0\",IF(County!G477<5,\"*\",ROUND((G477*1),-1)))","v":8030},325930200,40600]
[null,35,5,"ARTS, ENTERTAINMENT, AND RECREATION",71,41,488,6380007,251,{"$f":"IF(County!G478=0,\"0\",IF(County!G478<5,\"*\",ROUND((G478*1),-1)))","v":490},6380000,13000]
[null,35,5,"ACCOMMODATION AND FOOD SERVICES",72,209,4452,56512057,244,{"$f":"IF(County!G479=0,\"0\",IF(County!G479<5,\"*\",ROUND((G479*1),-1)))","v":4450},56512100,12700]
[null,35,5,"OTHER SERVICES, EXCEPT PUBLIC ADMIN",81,181,1129,27837873,474,{"$f":"IF(County!G480=0,\"0\",IF(County!G480<5,\"*\",ROUND((G480*1),-1)))","v":1130},27837900,24600]
[null,35,3,"LOCAL GOVERNMENT",11,51,3628,125438634,665,{"$f":"IF(County!G481=0,\"0\",IF(County!G481<5,\"*\",ROUND((G481*1),-1)))","v":3630},125438600,34600]
[null,35,3,"EDUCATIONAL SERVICES",61,28,2241,76441626,656,{"$f":"IF(County!G482=0,\"0\",IF(County!G482<5,\"*\",ROUND((G482*1),-1)))","v":2240},76441600,34100]
[null,35,3,"HEALTH CARE AND SOCIAL ASSISTANCE",62,0,0,0,0,{"$f":"IF(County!G483=0,\"0\",IF(County!G483<5,\"*\",ROUND((G483*1),-1)))","v":"0"},0,0]
["D",35,2,"STATE GOVERNMENT",11,21,4670,231951949,955,{"$f":"IF(County!G484=0,\"0\",IF(County!G484<5,\"*\",ROUND((G484*1),-1)))","v":4670},231951900,49700]
["D",35,2,"EDUCATIONAL SERVICES",61,2,4487,224508340,962,{"$f":"IF(County!G485=0,\"0\",IF(County!G485<5,\"*\",ROUND((G485*1),-1)))","v":4490},224508300,50000]
[null,35,2,"HEALTH CARE AND SOCIAL ASSISTANCE",62,0,0,0,0,{"$f":"IF(County!G486=0,\"0\",IF(County!G486<5,\"*\",ROUND((G486*1),-1)))","v":"0"},0,0]
[null,35,"U","TOTAL UI COVERED",11,2196,44073,1598286437,697,{"$f":"IF(County!G487=0,\"0\",IF(County!G487<5,\"*\",ROUND((G487*1),-1)))","v":44070},1598286400,36300]
[null,35,1,"FEDERAL GOVERNMENT",11,17,278,17128756,1185,{"$f":"IF(County!G488=0,\"0\",IF(County!G488<5,\"*\",ROUND((G488*1),-1)))","v":280},17128800,61200]
[null,37,5,"AGRICULTURE, FORESTRY, FISHING AND HUNTI",11,45,393,9752402,477,{"$f":"IF(County!G489=0,\"0\",IF(County!G489<5,\"*\",ROUND((G489*1),-1)))","v":390},9752400,25000]
["D",37,5,"MINING, QUARRYING, AND OIL AND GAS EXTRA",21,2,24,1981533,1588,{"$f":"IF(County!G490=0,\"0\",IF(County!G490<5,\"*\",ROUND((G490*1),-1)))","v":20},1981500,99100]
[null,37,5,"UTILITIES",22,5,46,2511883,1050,{"$f":"IF(County!G491=0,\"0\",IF(County!G491<5,\"*\",ROUND((G491*1),-1)))","v":50},2511900,50200]
[null,37,5,"CONSTRUCTION",23,149,936,37834152,777,{"$f":"IF(County!G492=0,\"0\",IF(County!G492<5,\"*\",ROUND((G492*1),-1)))","v":940},37834200,40200]
[null,37,5,"MANUFACTURING","31-33",104,11224,485775172,832,{"$f":"IF(County!G493=0,\"0\",IF(County!G493<5,\"*\",ROUND((G493*1),-1)))","v":11220},485775200,43300]
[null,37,5,"WHOLESALE TRADE",42,87,1398,67760484,932,{"$f":"IF(County!G494=0,\"0\",IF(County!G494<5,\"*\",ROUND((G494*1),-1)))","v":1400},67760500,48400]
[null,37,5,"RETAIL TRADE","44-45",198,2904,75812869,502,{"$f":"IF(County!G495=0,\"0\",IF(County!G495<5,\"*\",ROUND((G495*1),-1)))","v":2900},75812900,26100]
[null,37,5,"TRANSPORTATION AND WAREHOUSING","48-49",59,920,42585903,890,{"$f":"IF(County!G496=0,\"0\",IF(County!G496<5,\"*\",ROUND((G496*1),-1)))","v":920},42585900,46300]
[null,37,5,"INFORMATION",51,9,194,7066964,701,{"$f":"IF(County!G497=0,\"0\",IF(County!G497<5,\"*\",ROUND((G497*1),-1)))","v":190},7067000,37200]
[null,37,5,"FINANCE AND INSURANCE",52,75,461,24031684,1002,{"$f":"IF(County!G498=0,\"0\",IF(County!G498<5,\"*\",ROUND((G498*1),-1)))","v":460},24031700,52200]
[null,37,5,"REAL ESTATE AND RENTAL AND LEASING",53,23,95,2445532,495,{"$f":"IF(County!G499=0,\"0\",IF(County!G499<5,\"*\",ROUND((G499*1),-1)))","v":100},2445500,24500]
[null,37,5,"PROFESSIONAL AND TECHNICAL SERVICES",54,85,480,21830388,875,{"$f":"IF(County!G500=0,\"0\",IF(County!G500<5,\"*\",ROUND((G500*1),-1)))","v":480},21830400,45500]
[null,37,5,"MANAGEMENT OF COMPANIES AND ENTERPRISES",55,10,465,46160582,1909,{"$f":"IF(County!G501=0,\"0\",IF(County!G501<5,\"*\",ROUND((G501*1),-1)))","v":470},46160600,98200]
[null,37,5,"ADMINISTRATIVE AND WASTE SERVICES",56,45,346,7121663,396,{"$f":"IF(County!G502=0,\"0\",IF(County!G502<5,\"*\",ROUND((G502*1),-1)))","v":350},7121700,20300]
["D",37,5,"EDUCATIONAL SERVICES",61,6,89,1985141,429,{"$f":"IF(County!G503=0,\"0\",IF(County!G503<5,\"*\",ROUND((G503*1),-1)))","v":90},1985100,22100]
[null,37,5,"HEALTH CARE AND SOCIAL ASSISTANCE",62,113,3096,139033670,864,{"$f":"IF(County!G504=0,\"0\",IF(County!G504<5,\"*\",ROUND((G504*1),-1)))","v":3100},139033700,44800]
[null,37,5,"ARTS, ENTERTAINMENT, AND RECREATION",71,12,124,1226354,190,{"$f":"IF(County!G505=0,\"0\",IF(County!G505<5,\"*\",ROUND((G505*1),-1)))","v":120},1226400,10200]
[null,37,5,"ACCOMMODATION AND FOOD SERVICES",72,99,1652,19714085,229,{"$f":"IF(County!G506=0,\"0\",IF(County!G506<5,\"*\",ROUND((G506*1),-1)))","v":1650},19714100,11900]
[null,37,5,"OTHER SERVICES, EXCEPT PUBLIC ADMIN",81,100,551,13407272,468,{"$f":"IF(County!G507=0,\"0\",IF(County!G507<5,\"*\",ROUND((G507*1),-1)))","v":550},13407300,24400]
[null,37,3,"LOCAL GOVERNMENT",11,24,1881,60880592,622,{"$f":"IF(County!G508=0,\"0\",IF(County!G508<5,\"*\",ROUND((G508*1),-1)))","v":1880},60880600,32400]
[null,37,3,"EDUCATIONAL SERVICES",61,8,1108,35804533,621,{"$f":"IF(County!G509=0,\"0\",IF(County!G509<5,\"*\",ROUND((G509*1),-1)))","v":1110},35804500,32300]
[null,37,3,"HEALTH CARE AND SOCIAL ASSISTANCE",62,0,0,0,0,{"$f":"IF(County!G510=0,\"0\",IF(County!G510<5,\"*\",ROUND((G510*1),-1)))","v":"0"},0,0]
[null,37,2,"STATE GOVERNMENT",11,14,161,6227899,744,{"$f":"IF(County!G511=0,\"0\",IF(County!G511<5,\"*\",ROUND((G511*1),-1)))","v":160},6227900,38900]
["D",37,2,"EDUCATIONAL SERVICES",61,1,66,2250009,656,{"$f":"IF(County!G512=0,\"0\",IF(County!G512<5,\"*\",ROUND((G512*1),-1)))","v":70},2250000,32100]
[null,37,2,"HEALTH CARE AND SOCIAL ASSISTANCE",62,0,0,0,0,{"$f":"IF(County!G513=0,\"0\",IF(County!G513<5,\"*\",ROUND((G513*1),-1)))","v":"0"},0,0]
[null,37,"U","TOTAL UI COVERED",11,1262,27439,1075146224,754,{"$f":"IF(County!G514=0,\"0\",IF(County!G514<5,\"*\",ROUND((G514*1),-1)))","v":27440},1075146200,39200]
[null,37,1,"FEDERAL GOVERNMENT",11,15,103,5362170,1001,{"$f":"IF(County!G515=0,\"0\",IF(County!G515<5,\"*\",ROUND((G515*1),-1)))","v":100},5362200,53600]
[null,39,5,"AGRICULTURE, FORESTRY, FISHING AND HUNTI",11,23,179,5380392,578,{"$f":"IF(County!G516=0,\"0\",IF(County!G516<5,\"*\",ROUND((G516*1),-1)))","v":180},5380400,{"$f":"IF(G516=0,0,IF(J516=\"*\",\"*\",ROUND((K516/J516),-2)))","v":29900}]
["D",39,5,"MINING, QUARRYING, AND OIL AND GAS EXTRA",21,4,48,2300479,922,{"$f":"IF(County!G517=0,\"0\",IF(County!G517<5,\"*\",ROUND((G517*1),-1)))","v":50},2300500,46000]
[null,39,5,"UTILITIES",22,6,158,15412387,1876,{"$f":"IF(County!G518=0,\"0\",IF(County!G518<5,\"*\",ROUND((G518*1),-1)))","v":160},15412400,96300]
[null,39,5,"CONSTRUCTION",23,442,2801,133928747,920,{"$f":"IF(County!G519=0,\"0\",IF(County!G519<5,\"*\",ROUND((G519*1),-1)))","v":2800},133928700,47800]
[null,39,5,"MANUFACTURING","31-33",752,57909,2674234217,888,{"$f":"IF(County!G520=0,\"0\",IF(County!G520<5,\"*\",ROUND((G520*1),-1)))","v":57910},2674234200,46200]
[null,39,5,"WHOLESALE TRADE",42,422,5776,282709077,941,{"$f":"IF(County!G521=0,\"0\",IF(County!G521<5,\"*\",ROUND((G521*1),-1)))","v":5780},{"$f":"ROUND((H521),-2)","v":282709100},48900]
[null,39,5,"RETAIL TRADE","44-45",645,9179,234454678,491,{"$f":"IF(County!G522=0,\"0\",IF(County!G522<5,\"*\",ROUND((G522*1),-1)))","v":9180},234454700,25500]
[null,39,5,"TRANSPORTATION AND WAREHOUSING","48-49",179,2850,130352827,880,{"$f":"IF(County!G523=0,\"0\",IF(County!G523<5,\"*\",ROUND((G523*1),-1)))","v":2850},130352800,45700]
[null,39,5,"INFORMATION",51,40,535,22332542,803,{"$f":"IF(County!G524=0,\"0\",IF(County!G524<5,\"*\",ROUND((G524*1),-1)))","v":540},22332500,41400]
[null,39,5,"FINANCE AND INSURANCE",52,234,1803,87762583,936,{"$f":"IF(County!G525=0,\"0\",IF(County!G525<5,\"*\",ROUND((G525*1),-1)))","v":1800},87762600,48800]
[null,39,5,"REAL ESTATE AND RENTAL AND LEASING",53,150,813,27233817,644,{"$f":"IF(County!G526=0,\"0\",IF(County!G526<5,\"*\",ROUND((G526*1),-1)))","v":810},27233800,33600]
[null,39,5,"PROFESSIONAL AND TECHNICAL SERVICES",54,319,1940,94746447,939,{"$f":"IF(County!G527=0,\"0\",IF(County!G527<5,\"*\",ROUND((G527*1),-1)))","v":1940},94746400,48800]
[null,39,5,"MANAGEMENT OF COMPANIES AND ENTERPRISES",55,28,1941,282569539,2800,{"$f":"IF(County!G528=0,\"0\",IF(County!G528<5,\"*\",ROUND((G528*1),-1)))","v":1940},282569500,145700]
[null,39,5,"ADMINISTRATIVE AND WASTE SERVICES",56,211,5469,115583403,406,{"$f":"IF(County!G529=0,\"0\",IF(County!G529<5,\"*\",ROUND((G529*1),-1)))","v":5470},115583400,21100]
[null,39,5,"EDUCATIONAL SERVICES",61,20,659,19594149,572,{"$f":"IF(County!G530=0,\"0\",IF(County!G530<5,\"*\",ROUND((G530*1),-1)))","v":660},19594100,29700]
[null,39,5,"HEALTH CARE AND SOCIAL ASSISTANCE",62,311,9993,421675331,811,{"$f":"IF(County!G531=0,\"0\",IF(County!G531<5,\"*\",ROUND((G531*1),-1)))","v":9990},421675300,42200]
[null,39,5,"ARTS, ENTERTAINMENT, AND RECREATION",71,46,513,8045943,302,{"$f":"IF(County!G532=0,\"0\",IF(County!G532<5,\"*\",ROUND((G532*1),-1)))","v":510},8045900,15800]
[null,39,5,"ACCOMMODATION AND FOOD SERVICES",72,334,6612,86597287,252,{"$f":"IF(County!G533=0,\"0\",IF(County!G533<5,\"*\",ROUND((G533*1),-1)))","v":6610},86597300,13100]
[null,39,5,"OTHER SERVICES, EXCEPT PUBLIC ADMIN",81,403,2334,72219553,595,{"$f":"IF(County!G534=0,\"0\",IF(County!G534<5,\"*\",ROUND((G534*1),-1)))","v":2330},72219600,31000]
[null,39,3,"LOCAL GOVERNMENT",11,54,8152,290335966,685,{"$f":"IF(County!G535=0,\"0\",IF(County!G535<5,\"*\",ROUND((G535*1),-1)))","v":8150},290336000,35600]
[null,39,3,"EDUCATIONAL SERVICES",61,20,5776,201900336,672,{"$f":"IF(County!G536=0,\"0\",IF(County!G536<5,\"*\",ROUND((G536*1),-1)))","v":5780},201900300,34900]
[null,39,3,"HEALTH CARE AND SOCIAL ASSISTANCE",62,0,0,0,0,{"$f":"IF(County!G537=0,\"0\",IF(County!G537<5,\"*\",ROUND((G537*1),-1)))","v":"0"},0,0]
[null,39,2,"STATE GOVERNMENT",11,17,231,8812066,734,{"$f":"IF(County!G538=0,\"0\",IF(County!G538<5,\"*\",ROUND((G538*1),-1)))","v":230},8812100,38300]
[null,39,2,"EDUCATIONAL SERVICES",61,0,0,0,0,{"$f":"IF(County!G539=0,\"0\",IF(County!G539<5,\"*\",ROUND((G539*1),-1)))","v":"0"},0,0]
[null,39,2,"HEALTH CARE AND SOCIAL ASSISTANCE",62,0,0,0,0,{"$f":"IF(County!G540=0,\"0\",IF(County!G540<5,\"*\",ROUND((G540*1),-1)))","v":"0"},0,0]
[null,39,"U","TOTAL UI COVERED",11,4635,119893,5016281430,805,{"$f":"IF(County!G541=0,\"0\",IF(County!G541<5,\"*\",ROUND((G541*1),-1)))","v":119890},5016281400,41800]
[null,39,1,"FEDERAL GOVERNMENT",11,15,246,15123276,1182,{"$f":"IF(County!G542=0,\"0\",IF(County!G542<5,\"*\",ROUND((G542*1),-1)))","v":250},15123300,60500]
[null,41,5,"AGRICULTURE, FORESTRY, FISHING AND HUNTI",11,6,23,710123,594,{"$f":"IF(County!G543=0,\"0\",IF(County!G543<5,\"*\",ROUND((G543*1),-1)))","v":20},710100,35500]
["D",41,5,"MINING, QUARRYING, AND OIL AND GAS EXTRA",21,1,8,432901,1041,{"$f":"IF(County!G544=0,\"0\",IF(County!G544<5,\"*\",ROUND((G544*1),-1)))","v":10},432900,43300]
[null,41,5,"UTILITIES",22,4,46,2680367,1121,{"$f":"IF(County!G545=0,\"0\",IF(County!G545<5,\"*\",ROUND((G545*1),-1)))","v":50},2680400,53600]
[null,41,5,"CONSTRUCTION",23,32,122,3832530,604,{"$f":"IF(County!G546=0,\"0\",IF(County!G546<5,\"*\",ROUND((G546*1),-1)))","v":120},3832500,31900]
[null,41,5,"MANUFACTURING","31-33",31,1226,62787434,985,{"$f":"IF(County!G547=0,\"0\",IF(County!G547<5,\"*\",ROUND((G547*1),-1)))","v":1230},62787400,51000]
[null,41,5,"WHOLESALE TRADE",42,13,179,8769682,942,{"$f":"IF(County!G548=0,\"0\",IF(County!G548<5,\"*\",ROUND((G548*1),-1)))","v":180},8769700,48700]
[null,41,5,"RETAIL TRADE","44-45",67,826,19929521,464,{"$f":"IF(County!G549=0,\"0\",IF(County!G549<5,\"*\",ROUND((G549*1),-1)))","v":830},19929500,24000]
[null,41,5,"TRANSPORTATION AND WAREHOUSING","48-49",13,31,1188205,737,{"$f":"IF(County!G550=0,\"0\",IF(County!G550<5,\"*\",ROUND((G550*1),-1)))","v":30},1188200,39600]
[null,41,5,"INFORMATION",51,7,101,2559469,487,{"$f":"IF(County!G551=0,\"0\",IF(County!G551<5,\"*\",ROUND((G551*1),-1)))","v":100},2559500,25600]
[null,41,5,"FINANCE AND INSURANCE",52,29,153,5644883,710,{"$f":"IF(County!G552=0,\"0\",IF(County!G552<5,\"*\",ROUND((G552*1),-1)))","v":150},5644900,37600]
[null,41,5,"REAL ESTATE AND RENTAL AND LEASING",53,18,52,1235865,457,{"$f":"IF(County!G553=0,\"0\",IF(County!G553<5,\"*\",ROUND((G553*1),-1)))","v":50},1235900,24700]
[null,41,5,"PROFESSIONAL AND TECHNICAL SERVICES",54,31,226,4608523,392,{"$f":"IF(County!G554=0,\"0\",IF(County!G554<5,\"*\",ROUND((G554*1),-1)))","v":230},4608500,20000]
["D",41,5,"MANAGEMENT OF COMPANIES AND ENTERPRISES",55,2,24,2189425,1754,{"$f":"IF(County!G555=0,\"0\",IF(County!G555<5,\"*\",ROUND((G555*1),-1)))","v":20},2189400,109500]
[null,41,5,"ADMINISTRATIVE AND WASTE SERVICES",56,8,37,1382724,719,{"$f":"IF(County!G556=0,\"0\",IF(County!G556<5,\"*\",ROUND((G556*1),-1)))","v":40},1382700,34600]
[null,41,5,"EDUCATIONAL SERVICES",61,5,31,294982,183,{"$f":"IF(County!G557=0,\"0\",IF(County!G557<5,\"*\",ROUND((G557*1),-1)))","v":30},295000,9800]
[null,41,5,"HEALTH CARE AND SOCIAL ASSISTANCE",62,37,1399,46368098,637,{"$f":"IF(County!G558=0,\"0\",IF(County!G558<5,\"*\",ROUND((G558*1),-1)))","v":1400},46368100,33100]
[null,41,5,"ARTS, ENTERTAINMENT, AND RECREATION",71,7,45,829388,354,{"$f":"IF(County!G559=0,\"0\",IF(County!G559<5,\"*\",ROUND((G559*1),-1)))","v":50},829400,16600]
[null,41,5,"ACCOMMODATION AND FOOD SERVICES",72,41,560,6566975,226,{"$f":"IF(County!G560=0,\"0\",IF(County!G560<5,\"*\",ROUND((G560*1),-1)))","v":560},6567000,11700]
[null,41,5,"OTHER SERVICES, EXCEPT PUBLIC ADMIN",81,45,171,3832946,431,{"$f":"IF(County!G561=0,\"0\",IF(County!G561<5,\"*\",ROUND((G561*1),-1)))","v":170},3832900,22500]
[null,41,3,"LOCAL GOVERNMENT",11,23,965,31218267,622,{"$f":"IF(County!G562=0,\"0\",IF(County!G562<5,\"*\",ROUND((G562*1),-1)))","v":970},31218300,32200]
["D",41,3,"EDUCATIONAL SERVICES",61,14,524,18952182,696,{"$f":"IF(County!G563=0,\"0\",IF(County!G563<5,\"*\",ROUND((G563*1),-1)))","v":520},18952200,36400]
["D",41,3,"HEALTH CARE AND SOCIAL ASSISTANCE",62,1,10,202809,390,{"$f":"IF(County!G564=0,\"0\",IF(County!G564<5,\"*\",ROUND((G564*1),-1)))","v":10},202800,20300]
[null,41,2,"STATE GOVERNMENT",11,12,61,2602251,820,{"$f":"IF(County!G565=0,\"0\",IF(County!G565<5,\"*\",ROUND((G565*1),-1)))","v":60},2602300,43400]
[null,41,2,"EDUCATIONAL SERVICES",61,0,0,0,0,{"$f":"IF(County!G566=0,\"0\",IF(County!G566<5,\"*\",ROUND((G566*1),-1)))","v":"0"},0,0]
[null,41,2,"HEALTH CARE AND SOCIAL ASSISTANCE",62,0,0,0,0,{"$f":"IF(County!G567=0,\"0\",IF(County!G567<5,\"*\",ROUND((G567*1),-1)))","v":"0"},0,0]
[null,41,"U","TOTAL UI COVERED",11,430,6285,209664559,642,{"$f":"IF(County!G568=0,\"0\",IF(County!G568<5,\"*\",ROUND((G568*1),-1)))","v":6290},209664600,33300]
[null,41,1,"FEDERAL GOVERNMENT",11,5,44,1973251,862,{"$f":"IF(County!G569=0,\"0\",IF(County!G569<5,\"*\",ROUND((G569*1),-1)))","v":40},1973300,49300]
[null,43,5,"AGRICULTURE, FORESTRY, FISHING AND HUNTI",11,4,12,271198,435,{"$f":"IF(County!G570=0,\"0\",IF(County!G570<5,\"*\",ROUND((G570*1),-1)))","v":10},271200,27100]
["D",43,5,"MINING, QUARRYING, AND OIL AND GAS EXTRA",21,1,7,288907,794,{"$f":"IF(County!G571=0,\"0\",IF(County!G571<5,\"*\",ROUND((G571*1),-1)))","v":10},288900,28900]
[null,43,5,"UTILITIES",22,4,72,6005949,1604,{"$f":"IF(County!G572=0,\"0\",IF(County!G572<5,\"*\",ROUND((G572*1),-1)))","v":70},6005900,85800]
[null,43,5,"CONSTRUCTION",23,202,1527,71929697,906,{"$f":"IF(County!G573=0,\"0\",IF(County!G573<5,\"*\",ROUND((G573*1),-1)))","v":1530},71929700,47000]
[null,43,5,"MANUFACTURING","31-33",118,5801,285544321,947,{"$f":"IF(County!G574=0,\"0\",IF(County!G574<5,\"*\",ROUND((G574*1),-1)))","v":5800},285544300,49200]
[null,43,5,"WHOLESALE TRADE",42,93,547,27264717,959,{"$f":"IF(County!G575=0,\"0\",IF(County!G575<5,\"*\",ROUND((G575*1),-1)))","v":550},27264700,49600]
[null,43,5,"RETAIL TRADE","44-45",170,3018,69203448,441,{"$f":"IF(County!G576=0,\"0\",IF(County!G576<5,\"*\",ROUND((G576*1),-1)))","v":3020},69203400,22900]
[null,43,5,"TRANSPORTATION AND WAREHOUSING","48-49",42,321,13026935,780,{"$f":"IF(County!G577=0,\"0\",IF(County!G577<5,\"*\",ROUND((G577*1),-1)))","v":320},13026900,40700]
[null,43,5,"INFORMATION",51,17,153,7888381,992,{"$f":"IF(County!G578=0,\"0\",IF(County!G578<5,\"*\",ROUND((G578*1),-1)))","v":150},7888400,52600]
[null,43,5,"FINANCE AND INSURANCE",52,136,730,43136548,1136,{"$f":"IF(County!G579=0,\"0\",IF(County!G579<5,\"*\",ROUND((G579*1),-1)))","v":730},43136500,59100]
[null,43,5,"REAL ESTATE AND RENTAL AND LEASING",53,72,176,5661205,619,{"$f":"IF(County!G580=0,\"0\",IF(County!G580<5,\"*\",ROUND((G580*1),-1)))","v":180},5661200,{"$f":"IF(G580=0,0,IF(J580=\"*\",\"*\",ROUND((K580/J580),-2)))","v":31500}]
[null,43,5,"PROFESSIONAL AND TECHNICAL SERVICES",54,211,1062,55056756,997,{"$f":"IF(County!G581=0,\"0\",IF(County!G581<5,\"*\",ROUND((G581*1),-1)))","v":1060},55056800,51900]
[null,43,5,"MANAGEMENT OF COMPANIES AND ENTERPRISES",55,16,193,11622392,1158,{"$f":"IF(County!G582=0,\"0\",IF(County!G582<5,\"*\",ROUND((G582*1),-1)))","v":190},11622400,61200]
[null,43,5,"ADMINISTRATIVE AND WASTE SERVICES",56,84,1106,30097126,523,{"$f":"IF(County!G583=0,\"0\",IF(County!G583<5,\"*\",ROUND((G583*1),-1)))","v":1110},30097100,27100]
[null,43,5,"EDUCATIONAL SERVICES",61,17,256,5905924,444,{"$f":"IF(County!G584=0,\"0\",IF(County!G584<5,\"*\",ROUND((G584*1),-1)))","v":260},5905900,22700]
[null,43,5,"HEALTH CARE AND SOCIAL ASSISTANCE",62,212,3715,123378818,639,{"$f":"IF(County!G585=0,\"0\",IF(County!G585<5,\"*\",ROUND((G585*1),-1)))","v":3720},{"$f":"ROUND((H585),-2)","v":123378800},33200]
[null,43,5,"ARTS, ENTERTAINMENT, AND RECREATION",71,18,100,1427229,274,{"$f":"IF(County!G586=0,\"0\",IF(County!G586<5,\"*\",ROUND((G586*1),-1)))","v":100},1427200,14300]
[null,43,5,"ACCOMMODATION AND FOOD SERVICES",72,138,2699,36046924,257,{"$f":"IF(County!G587=0,\"0\",IF(County!G587<5,\"*\",ROUND((G587*1),-1)))","v":2700},36046900,13400]
[null,43,5,"OTHER SERVICES, EXCEPT PUBLIC ADMIN",81,131,913,23620137,498,{"$f":"IF(County!G588=0,\"0\",IF(County!G588<5,\"*\",ROUND((G588*1),-1)))","v":910},23620100,26000]
[null,43,3,"LOCAL GOVERNMENT",11,56,4568,194685010,820,{"$f":"IF(County!G589=0,\"0\",IF(County!G589<5,\"*\",ROUND((G589*1),-1)))","v":4570},194685000,42600]
["D",43,3,"EDUCATIONAL SERVICES",61,18,1345,52298365,748,{"$f":"IF(County!G590=0,\"0\",IF(County!G590<5,\"*\",ROUND((G590*1),-1)))","v":1350},52298400,38700]
["D",43,3,"HEALTH CARE AND SOCIAL ASSISTANCE",62,20,2154,105476940,942,{"$f":"IF(County!G591=0,\"0\",IF(County!G591<5,\"*\",ROUND((G591*1),-1)))","v":2150},105476900,49100]
["D",43,2,"STATE GOVERNMENT",11,16,930,32787927,678,{"$f":"IF(County!G592=0,\"0\",IF(County!G592<5,\"*\",ROUND((G592*1),-1)))","v":930},32787900,35300]
["D",43,2,"EDUCATIONAL SERVICES",61,1,827,28874450,671,{"$f":"IF(County!G593=0,\"0\",IF(County!G593<5,\"*\",ROUND((G593*1),-1)))","v":830},28874500,34800]
[null,43,2,"HEALTH CARE AND SOCIAL ASSISTANCE",62,0,0,0,0,{"$f":"IF(County!G594=0,\"0\",IF(County!G594<5,\"*\",ROUND((G594*1),-1)))","v":"0"},0,0]
[null,43,"U","TOTAL UI COVERED",11,1757,27905,1044849549,720,{"$f":"IF(County!G595=0,\"0\",IF(County!G595<5,\"*\",ROUND((G595*1),-1)))","v":27910},1044849500,37400]
[null,43,1,"FEDERAL GOVERNMENT",11,17,210,13284286,1217,{"$f":"IF(County!G596=0,\"0\",IF(County!G596<5,\"*\",ROUND((G596*1),-1)))","v":210},13284300,63300]
[null,45,5,"AGRICULTURE, FORESTRY, FISHING AND HUNTI",11,13,169,4767851,543,{"$f":"IF(County!G597=0,\"0\",IF(County!G597<5,\"*\",ROUND((G597*1),-1)))","v":170},4767900,28000]
[null,45,5,"MINING, QUARRYING, AND OIL AND GAS EXTRA",21,0,0,0,0,{"$f":"IF(County!G598=0,\"0\",IF(County!G598<5,\"*\",ROUND((G598*1),-1)))","v":"0"},0,0]
["D",45,5,"UTILITIES",22,1,7,591227,1624,{"$f":"IF(County!G599=0,\"0\",IF(County!G599<5,\"*\",ROUND((G599*1),-1)))","v":10},591200,59100]
[null,45,5,"CONSTRUCTION",23,33,99,3402069,661,{"$f":"IF(County!G600=0,\"0\",IF(County!G600<5,\"*\",ROUND((G600*1),-1)))","v":100},3402100,34000]
[null,45,5,"MANUFACTURING","31-33",22,1883,76895172,785,{"$f":"IF(County!G601=0,\"0\",IF(County!G601<5,\"*\",ROUND((G601*1),-1)))","v":1880},76895200,40900]
[null,45,5,"WHOLESALE TRADE",42,15,102,4553276,858,{"$f":"IF(County!G602=0,\"0\",IF(County!G602<5,\"*\",ROUND((G602*1),-1)))","v":100},4553300,45500]
[null,45,5,"RETAIL TRADE","44-45",62,632,10772887,328,{"$f":"IF(County!G603=0,\"0\",IF(County!G603<5,\"*\",ROUND((G603*1),-1)))","v":630},10772900,17100]
[null,45,5,"TRANSPORTATION AND WAREHOUSING","48-49",15,100,3531795,679,{"$f":"IF(County!G604=0,\"0\",IF(County!G604<5,\"*\",ROUND((G604*1),-1)))","v":100},3531800,35300]
[null,45,5,"INFORMATION",51,7,46,1451526,607,{"$f":"IF(County!G605=0,\"0\",IF(County!G605<5,\"*\",ROUND((G605*1),-1)))","v":50},1451500,29000]
[null,45,5,"FINANCE AND INSURANCE",52,18,155,5425111,673,{"$f":"IF(County!G606=0,\"0\",IF(County!G606<5,\"*\",ROUND((G606*1),-1)))","v":160},5425100,33900]
[null,45,5,"REAL ESTATE AND RENTAL AND LEASING",53,7,21,399709,366,{"$f":"IF(County!G607=0,\"0\",IF(County!G607<5,\"*\",ROUND((G607*1),-1)))","v":20},399700,20000]
[null,45,5,"PROFESSIONAL AND TECHNICAL SERVICES",54,18,61,1516812,478,{"$f":"IF(County!G608=0,\"0\",IF(County!G608<5,\"*\",ROUND((G608*1),-1)))","v":60},1516800,25300]
["D",45,5,"MANAGEMENT OF COMPANIES AND ENTERPRISES",55,2,10,1089969,2096,{"$f":"IF(County!G609=0,\"0\",IF(County!G609<5,\"*\",ROUND((G609*1),-1)))","v":10},1090000,109000]
[null,45,5,"ADMINISTRATIVE AND WASTE SERVICES",56,9,25,547962,422,{"$f":"IF(County!G610=0,\"0\",IF(County!G610<5,\"*\",ROUND((G610*1),-1)))","v":30},548000,18300]
["D",45,5,"EDUCATIONAL SERVICES",61,2,15,178713,229,{"$f":"IF(County!G611=0,\"0\",IF(County!G611<5,\"*\",ROUND((G611*1),-1)))","v":20},178700,8900]
[null,45,5,"HEALTH CARE AND SOCIAL ASSISTANCE",62,17,371,11112723,576,{"$f":"IF(County!G612=0,\"0\",IF(County!G612<5,\"*\",ROUND((G612*1),-1)))","v":370},11112700,30000]
[null,45,5,"ARTS, ENTERTAINMENT, AND RECREATION",71,6,23,350816,293,{"$f":"IF(County!G613=0,\"0\",IF(County!G613<5,\"*\",ROUND((G613*1),-1)))","v":20},350800,17500]
[null,45,5,"ACCOMMODATION AND FOOD SERVICES",72,32,354,3717054,202,{"$f":"IF(County!G614=0,\"0\",IF(County!G614<5,\"*\",ROUND((G614*1),-1)))","v":350},3717100,10600]
[null,45,5,"OTHER SERVICES, EXCEPT PUBLIC ADMIN",81,31,82,2016073,473,{"$f":"IF(County!G615=0,\"0\",IF(County!G615<5,\"*\",ROUND((G615*1),-1)))","v":80},2016100,25200]
[null,45,3,"LOCAL GOVERNMENT",11,14,731,20940978,551,{"$f":"IF(County!G616=0,\"0\",IF(County!G616<5,\"*\",ROUND((G616*1),-1)))","v":730},20941000,28700]
[null,45,3,"EDUCATIONAL SERVICES",61,7,458,13864552,582,{"$f":"IF(County!G617=0,\"0\",IF(County!G617<5,\"*\",ROUND((G617*1),-1)))","v":460},13864600,30100]
[null,45,3,"HEALTH CARE AND SOCIAL ASSISTANCE",62,0,0,0,0,{"$f":"IF(County!G618=0,\"0\",IF(County!G618<5,\"*\",ROUND((G618*1),-1)))","v":"0"},0,0]
[null,45,2,"STATE GOVERNMENT",11,10,38,1493426,756,{"$f":"IF(County!G619=0,\"0\",IF(County!G619<5,\"*\",ROUND((G619*1),-1)))","v":40},1493400,37300]
[null,45,2,"EDUCATIONAL SERVICES",61,0,0,0,0,{"$f":"IF(County!G620=0,\"0\",IF(County!G620<5,\"*\",ROUND((G620*1),-1)))","v":"0"},0,0]
[null,45,2,"HEALTH CARE AND SOCIAL ASSISTANCE",62,0,0,0,0,{"$f":"IF(County!G621=0,\"0\",IF(County!G621<5,\"*\",ROUND((G621*1),-1)))","v":"0"},0,0]
[null,45,"U","TOTAL UI COVERED",11,332,4923,154755149,605,{"$f":"IF(County!G622=0,\"0\",IF(County!G622<5,\"*\",ROUND((G622*1),-1)))","v":4920},154755100,31500]
[null,45,1,"FEDERAL GOVERNMENT",11,9,60,2567140,823,{"$f":"IF(County!G623=0,\"0\",IF(County!G623<5,\"*\",ROUND((G623*1),-1)))","v":60},2567100,42800]
[null,47,5,"AGRICULTURE, FORESTRY, FISHING AND HUNTI",11,6,30,696552,447,{"$f":"IF(County!G624=0,\"0\",IF(County!G624<5,\"*\",ROUND((G624*1),-1)))","v":30},696600,23200]
[null,47,5,"MINING, QUARRYING, AND OIL AND GAS EXTRA",21,3,13,406751,602,{"$f":"IF(County!G625=0,\"0\",IF(County!G625<5,\"*\",ROUND((G625*1),-1)))","v":10},406800,40700]
["D",47,5,"UTILITIES",22,1,8,357329,859,{"$f":"IF(County!G626=0,\"0\",IF(County!G626<5,\"*\",ROUND((G626*1),-1)))","v":10},357300,35700]
[null,47,5,"CONSTRUCTION",23,48,172,6271968,701,{"$f":"IF(County!G627=0,\"0\",IF(County!G627<5,\"*\",ROUND((G627*1),-1)))","v":170},6272000,36900]
[null,47,5,"MANUFACTURING","31-33",18,643,27416866,820,{"$f":"IF(County!G628=0,\"0\",IF(County!G628<5,\"*\",ROUND((G628*1),-1)))","v":640},27416900,42800]
[null,47,5,"WHOLESALE TRADE",42,14,98,3987346,782,{"$f":"IF(County!G629=0,\"0\",IF(County!G629<5,\"*\",ROUND((G629*1),-1)))","v":100},3987300,39900]
[null,47,5,"RETAIL TRADE","44-45",51,650,13949867,413,{"$f":"IF(County!G630=0,\"0\",IF(County!G630<5,\"*\",ROUND((G630*1),-1)))","v":650},13949900,21500]
[null,47,5,"TRANSPORTATION AND WAREHOUSING","48-49",17,79,3149777,767,{"$f":"IF(County!G631=0,\"0\",IF(County!G631<5,\"*\",ROUND((G631*1),-1)))","v":80},3149800,39400]
["D",47,5,"INFORMATION",51,3,21,592609,543,{"$f":"IF(County!G632=0,\"0\",IF(County!G632<5,\"*\",ROUND((G632*1),-1)))","v":20},592600,29600]
[null,47,5,"FINANCE AND INSURANCE",52,11,151,6564831,836,{"$f":"IF(County!G633=0,\"0\",IF(County!G633<5,\"*\",ROUND((G633*1),-1)))","v":150},6564800,43800]
["D",47,5,"REAL ESTATE AND RENTAL AND LEASING",53,2,3,23357,150,{"$f":"IF(County!G634=0,\"0\",IF(County!G634<5,\"*\",ROUND((G634*1),-1)))","v":"*"},23400,"*"]
[null,47,5,"PROFESSIONAL AND TECHNICAL SERVICES",54,22,48,1593890,639,{"$f":"IF(County!G635=0,\"0\",IF(County!G635<5,\"*\",ROUND((G635*1),-1)))","v":50},1593900,31900]
["D",47,5,"MANAGEMENT OF COMPANIES AND ENTERPRISES",55,1,1,94225,1812,{"$f":"IF(County!G636=0,\"0\",IF(County!G636<5,\"*\",ROUND((G636*1),-1)))","v":"*"},94200,"*"]
[null,47,5,"ADMINISTRATIVE AND WASTE SERVICES",56,12,138,4764608,664,{"$f":"IF(County!G637=0,\"0\",IF(County!G637<5,\"*\",ROUND((G637*1),-1)))","v":140},4764600,34000]
["D",47,5,"EDUCATIONAL SERVICES",61,4,52,1346316,498,{"$f":"IF(County!G638=0,\"0\",IF(County!G638<5,\"*\",ROUND((G638*1),-1)))","v":50},1346300,26900]
[null,47,5,"HEALTH CARE AND SOCIAL ASSISTANCE",62,34,500,13178227,507,{"$f":"IF(County!G639=0,\"0\",IF(County!G639<5,\"*\",ROUND((G639*1),-1)))","v":500},13178200,26400]
[null,47,5,"ARTS, ENTERTAINMENT, AND RECREATION",71,7,40,384318,185,{"$f":"IF(County!G640=0,\"0\",IF(County!G640<5,\"*\",ROUND((G640*1),-1)))","v":40},384300,9600]
[null,47,5,"ACCOMMODATION AND FOOD SERVICES",72,28,450,5200315,222,{"$f":"IF(County!G641=0,\"0\",IF(County!G641<5,\"*\",ROUND((G641*1),-1)))","v":450},5200300,11600]
[null,47,5,"OTHER SERVICES, EXCEPT PUBLIC ADMIN",81,33,91,1894565,400,{"$f":"IF(County!G642=0,\"0\",IF(County!G642<5,\"*\",ROUND((G642*1),-1)))","v":90},1894600,21100]
[null,47,3,"LOCAL GOVERNMENT",11,21,845,25162923,573,{"$f":"IF(County!G643=0,\"0\",IF(County!G643<5,\"*\",ROUND((G643*1),-1)))","v":850},25162900,29600]
["D",47,3,"EDUCATIONAL SERVICES",61,10,612,20360250,640,{"$f":"IF(County!G644=0,\"0\",IF(County!G644<5,\"*\",ROUND((G644*1),-1)))","v":610},20360300,{"$f":"IF(G644=0,0,IF(J644=\"*\",\"*\",ROUND((K644/J644),-2)))","v":33400}]
[null,47,3,"HEALTH CARE AND SOCIAL ASSISTANCE",62,0,0,0,0,{"$f":"IF(County!G645=0,\"0\",IF(County!G645<5,\"*\",ROUND((G645*1),-1)))","v":"0"},0,0]
[null,47,2,"STATE GOVERNMENT",11,10,110,2896487,506,{"$f":"IF(County!G646=0,\"0\",IF(County!G646<5,\"*\",ROUND((G646*1),-1)))","v":110},2896500,26300]
[null,47,2,"EDUCATIONAL SERVICES",61,0,0,0,0,{"$f":"IF(County!G647=0,\"0\",IF(County!G647<5,\"*\",ROUND((G647*1),-1)))","v":"0"},0,0]
[null,47,2,"HEALTH CARE AND SOCIAL ASSISTANCE",62,0,0,0,0,{"$f":"IF(County!G648=0,\"0\",IF(County!G648<5,\"*\",ROUND((G648*1),-1)))","v":"0"},0,0]
[null,47,"U","TOTAL UI COVERED",11,346,4142,119933127,557,{"$f":"IF(County!G649=0,\"0\",IF(County!G649<5,\"*\",ROUND((G649*1),-1)))","v":4140},{"$f":"ROUND((H649),-2)","v":119933100},29000]
[null,47,1,"FEDERAL GOVERNMENT",11,9,41,1737186,815,{"$f":"IF(County!G650=0,\"0\",IF(County!G650<5,\"*\",ROUND((G650*1),-1)))","v":40},1737200,43400]
[null,49,5,"AGRICULTURE, FORESTRY, FISHING AND HUNTI",11,15,77,2780636,694,{"$f":"IF(County!G651=0,\"0\",IF(County!G651<5,\"*\",ROUND((G651*1),-1)))","v":80},2780600,34800]
["D",49,5,"MINING, QUARRYING, AND OIL AND GAS EXTRA",21,1,5,252615,972,{"$f":"IF(County!G652=0,\"0\",IF(County!G652<5,\"*\",ROUND((G652*1),-1)))","v":10},252600,25300]
[null,49,5,"UTILITIES",22,3,28,2041604,1402,{"$f":"IF(County!G653=0,\"0\",IF(County!G653<5,\"*\",ROUND((G653*1),-1)))","v":30},2041600,68100]
[null,49,5,"CONSTRUCTION",23,43,315,14739341,900,{"$f":"IF(County!G654=0,\"0\",IF(County!G654<5,\"*\",ROUND((G654*1),-1)))","v":320},14739300,46100]
[null,49,5,"MANUFACTURING","31-33",48,1697,75517200,856,{"$f":"IF(County!G655=0,\"0\",IF(County!G655<5,\"*\",ROUND((G655*1),-1)))","v":1700},75517200,44400]
[null,49,5,"WHOLESALE TRADE",42,33,242,10247186,814,{"$f":"IF(County!G656=0,\"0\",IF(County!G656<5,\"*\",ROUND((G656*1),-1)))","v":240},10247200,42700]
[null,49,5,"RETAIL TRADE","44-45",73,842,18434283,421,{"$f":"IF(County!G657=0,\"0\",IF(County!G657<5,\"*\",ROUND((G657*1),-1)))","v":840},18434300,21900]
[null,49,5,"TRANSPORTATION AND WAREHOUSING","48-49",24,119,5766630,932,{"$f":"IF(County!G658=0,\"0\",IF(County!G658<5,\"*\",ROUND((G658*1),-1)))","v":120},5766600,48100]
[null,49,5,"INFORMATION",51,6,78,3648735,900,{"$f":"IF(County!G659=0,\"0\",IF(County!G659<5,\"*\",ROUND((G659*1),-1)))","v":80},3648700,45600]
[null,49,5,"FINANCE AND INSURANCE",52,28,175,8624177,948,{"$f":"IF(County!G660=0,\"0\",IF(County!G660<5,\"*\",ROUND((G660*1),-1)))","v":180},8624200,47900]
[null,49,5,"REAL ESTATE AND RENTAL AND LEASING",53,19,40,980230,471,{"$f":"IF(County!G661=0,\"0\",IF(County!G661<5,\"*\",ROUND((G661*1),-1)))","v":40},980200,24500]
[null,49,5,"PROFESSIONAL AND TECHNICAL SERVICES",54,25,86,2673074,598,{"$f":"IF(County!G662=0,\"0\",IF(County!G662<5,\"*\",ROUND((G662*1),-1)))","v":90},2673100,29700]
["D",49,5,"MANAGEMENT OF COMPANIES AND ENTERPRISES",55,3,32,2458853,1478,{"$f":"IF(County!G663=0,\"0\",IF(County!G663<5,\"*\",ROUND((G663*1),-1)))","v":30},2458900,82000]
[null,49,5,"ADMINISTRATIVE AND WASTE SERVICES",56,16,63,1720534,525,{"$f":"IF(County!G664=0,\"0\",IF(County!G664<5,\"*\",ROUND((G664*1),-1)))","v":60},1720500,28700]
[null,49,5,"EDUCATIONAL SERVICES",61,0,0,0,0,{"$f":"IF(County!G665=0,\"0\",IF(County!G665<5,\"*\",ROUND((G665*1),-1)))","v":"0"},0,0]
[null,49,5,"HEALTH CARE AND SOCIAL ASSISTANCE",62,30,425,10709883,485,{"$f":"IF(County!G666=0,\"0\",IF(County!G666<5,\"*\",ROUND((G666*1),-1)))","v":430},10709900,24900]
["D",49,5,"ARTS, ENTERTAINMENT, AND RECREATION",71,2,7,89265,245,{"$f":"IF(County!G667=0,\"0\",IF(County!G667<5,\"*\",ROUND((G667*1),-1)))","v":10},89300,8900]
[null,49,5,"ACCOMMODATION AND FOOD SERVICES",72,39,484,5255526,209,{"$f":"IF(County!G668=0,\"0\",IF(County!G668<5,\"*\",ROUND((G668*1),-1)))","v":480},5255500,10900]
[null,49,5,"OTHER SERVICES, EXCEPT PUBLIC ADMIN",81,41,184,5062596,529,{"$f":"IF(County!G669=0,\"0\",IF(County!G669<5,\"*\",ROUND((G669*1),-1)))","v":180},5062600,28100]
[null,49,3,"LOCAL GOVERNMENT",11,16,1274,45830484,692,{"$f":"IF(County!G670=0,\"0\",IF(County!G670<5,\"*\",ROUND((G670*1),-1)))","v":1270},45830500,36100]
[null,49,3,"EDUCATIONAL SERVICES",61,3,499,14482682,558,{"$f":"IF(County!G671=0,\"0\",IF(County!G671<5,\"*\",ROUND((G671*1),-1)))","v":500},14482700,29000]
["D",49,3,"HEALTH CARE AND SOCIAL ASSISTANCE",62,1,401,23028589,1104,{"$f":"IF(County!G672=0,\"0\",IF(County!G672<5,\"*\",ROUND((G672*1),-1)))","v":400},23028600,57600]
[null,49,2,"STATE GOVERNMENT",11,10,41,1631476,765,{"$f":"IF(County!G673=0,\"0\",IF(County!G673<5,\"*\",ROUND((G673*1),-1)))","v":40},1631500,40800]
[null,49,2,"EDUCATIONAL SERVICES",61,0,0,0,0,{"$f":"IF(County!G674=0,\"0\",IF(County!G674<5,\"*\",ROUND((G674*1),-1)))","v":"0"},0,0]
[null,49,2,"HEALTH CARE AND SOCIAL ASSISTANCE",62,0,0,0,0,{"$f":"IF(County!G675=0,\"0\",IF(County!G675<5,\"*\",ROUND((G675*1),-1)))","v":"0"},0,0]
[null,49,"U","TOTAL UI COVERED",11,475,6213,218464544,676,{"$f":"IF(County!G676=0,\"0\",IF(County!G676<5,\"*\",ROUND((G676*1),-1)))","v":6210},218464500,35200]
[null,49,1,"FEDERAL GOVERNMENT",11,9,41,2053269,963,{"$f":"IF(County!G677=0,\"0\",IF(County!G677<5,\"*\",ROUND((G677*1),-1)))","v":40},2053300,51300]
[null,51,5,"AGRICULTURE, FORESTRY, FISHING AND HUNTI",11,22,143,4582377,616,{"$f":"IF(County!G678=0,\"0\",IF(County!G678<5,\"*\",ROUND((G678*1),-1)))","v":140},4582400,32700]
[null,51,5,"MINING, QUARRYING, AND OIL AND GAS EXTRA",21,18,1234,99678946,1553,{"$f":"IF(County!G679=0,\"0\",IF(County!G679<5,\"*\",ROUND((G679*1),-1)))","v":1230},99678900,81000]
[null,51,5,"UTILITIES",22,10,425,37520142,1698,{"$f":"IF(County!G680=0,\"0\",IF(County!G680<5,\"*\",ROUND((G680*1),-1)))","v":430},37520100,87300]
[null,51,5,"CONSTRUCTION",23,67,326,15707630,927,{"$f":"IF(County!G681=0,\"0\",IF(County!G681<5,\"*\",ROUND((G681*1),-1)))","v":330},15707600,47600]
[null,51,5,"MANUFACTURING","31-33",46,7199,483657567,1292,{"$f":"IF(County!G682=0,\"0\",IF(County!G682<5,\"*\",ROUND((G682*1),-1)))","v":7200},483657600,67200]
[null,51,5,"WHOLESALE TRADE",42,30,330,14964802,872,{"$f":"IF(County!G683=0,\"0\",IF(County!G683<5,\"*\",ROUND((G683*1),-1)))","v":330},14964800,45300]
[null,51,5,"RETAIL TRADE","44-45",108,1509,36828938,469,{"$f":"IF(County!G684=0,\"0\",IF(County!G684<5,\"*\",ROUND((G684*1),-1)))","v":1510},36828900,24400]
[null,51,5,"TRANSPORTATION AND WAREHOUSING","48-49",38,595,27182683,879,{"$f":"IF(County!G685=0,\"0\",IF(County!G685<5,\"*\",ROUND((G685*1),-1)))","v":600},27182700,45300]
[null,51,5,"INFORMATION",51,4,72,1888782,504,{"$f":"IF(County!G686=0,\"0\",IF(County!G686<5,\"*\",ROUND((G686*1),-1)))","v":70},1888800,27000]
[null,51,5,"FINANCE AND INSURANCE",52,39,145,6960636,923,{"$f":"IF(County!G687=0,\"0\",IF(County!G687<5,\"*\",ROUND((G687*1),-1)))","v":150},6960600,46400]
[null,51,5,"REAL ESTATE AND RENTAL AND LEASING",53,20,73,1803323,475,{"$f":"IF(County!G688=0,\"0\",IF(County!G688<5,\"*\",ROUND((G688*1),-1)))","v":70},1803300,25800]
[null,51,5,"PROFESSIONAL AND TECHNICAL SERVICES",54,49,255,11270991,850,{"$f":"IF(County!G689=0,\"0\",IF(County!G689<5,\"*\",ROUND((G689*1),-1)))","v":260},11271000,43400]
[null,51,5,"MANAGEMENT OF COMPANIES AND ENTERPRISES",55,4,11,656212,1147,{"$f":"IF(County!G690=0,\"0\",IF(County!G690<5,\"*\",ROUND((G690*1),-1)))","v":10},656200,65600]
[null,51,5,"ADMINISTRATIVE AND WASTE SERVICES",56,33,2573,86109496,644,{"$f":"IF(County!G691=0,\"0\",IF(County!G691<5,\"*\",ROUND((G691*1),-1)))","v":2570},86109500,33500]
[null,51,5,"EDUCATIONAL SERVICES",61,6,402,10423231,499,{"$f":"IF(County!G692=0,\"0\",IF(County!G692<5,\"*\",ROUND((G692*1),-1)))","v":400},10423200,26100]
[null,51,5,"HEALTH CARE AND SOCIAL ASSISTANCE",62,60,1202,38305332,613,{"$f":"IF(County!G693=0,\"0\",IF(County!G693<5,\"*\",ROUND((G693*1),-1)))","v":1200},38305300,31900]
[null,51,5,"ARTS, ENTERTAINMENT, AND RECREATION",71,7,65,460677,136,{"$f":"IF(County!G694=0,\"0\",IF(County!G694<5,\"*\",ROUND((G694*1),-1)))","v":70},460700,6600]
[null,51,5,"ACCOMMODATION AND FOOD SERVICES",72,64,1226,14730503,231,{"$f":"IF(County!G695=0,\"0\",IF(County!G695<5,\"*\",ROUND((G695*1),-1)))","v":1230},14730500,12000]
[null,51,5,"OTHER SERVICES, EXCEPT PUBLIC ADMIN",81,58,246,6159995,482,{"$f":"IF(County!G696=0,\"0\",IF(County!G696<5,\"*\",ROUND((G696*1),-1)))","v":250},6160000,24600]
[null,51,3,"LOCAL GOVERNMENT",11,39,1250,39179687,603,{"$f":"IF(County!G697=0,\"0\",IF(County!G697<5,\"*\",ROUND((G697*1),-1)))","v":1250},39179700,31300]
[null,51,3,"EDUCATIONAL SERVICES",61,20,725,25030938,664,{"$f":"IF(County!G698=0,\"0\",IF(County!G698<5,\"*\",ROUND((G698*1),-1)))","v":730},25030900,34300]
[null,51,3,"HEALTH CARE AND SOCIAL ASSISTANCE",62,0,0,0,0,{"$f":"IF(County!G699=0,\"0\",IF(County!G699<5,\"*\",ROUND((G699*1),-1)))","v":"0"},0,0]
[null,51,2,"STATE GOVERNMENT",11,11,60,2490163,798,{"$f":"IF(County!G700=0,\"0\",IF(County!G700<5,\"*\",ROUND((G700*1),-1)))","v":60},2490200,41500]
[null,51,2,"EDUCATIONAL SERVICES",61,0,0,0,0,{"$f":"IF(County!G701=0,\"0\",IF(County!G701<5,\"*\",ROUND((G701*1),-1)))","v":"0"},0,0]
[null,51,2,"HEALTH CARE AND SOCIAL ASSISTANCE",62,0,0,0,0,{"$f":"IF(County!G702=0,\"0\",IF(County!G702<5,\"*\",ROUND((G702*1),-1)))","v":"0"},0,0]
[null,51,"U","TOTAL UI COVERED",11,729,19340,940562113,935,{"$f":"IF(County!G703=0,\"0\",IF(County!G703<5,\"*\",ROUND((G703*1),-1)))","v":19340},940562100,48600]
[null,51,1,"FEDERAL GOVERNMENT",11,12,84,4164710,953,{"$f":"IF(County!G704=0,\"0\",IF(County!G704<5,\"*\",ROUND((G704*1),-1)))","v":80},4164700,52100]
[null,53,5,"AGRICULTURE, FORESTRY, FISHING AND HUNTI",11,14,91,2248916,475,{"$f":"IF(County!G705=0,\"0\",IF(County!G705<5,\"*\",ROUND((G705*1),-1)))","v":90},2248900,25000]
["D",53,5,"MINING, QUARRYING, AND OIL AND GAS EXTRA",21,5,58,4758527,1578,{"$f":"IF(County!G706=0,\"0\",IF(County!G706<5,\"*\",ROUND((G706*1),-1)))","v":60},4758500,79300]
[null,53,5,"UTILITIES",22,3,60,5068128,1624,{"$f":"IF(County!G707=0,\"0\",IF(County!G707<5,\"*\",ROUND((G707*1),-1)))","v":60},5068100,84500]
[null,53,5,"CONSTRUCTION",23,93,629,26075956,797,{"$f":"IF(County!G708=0,\"0\",IF(County!G708<5,\"*\",ROUND((G708*1),-1)))","v":630},26076000,{"$f":"IF(G708=0,0,IF(J708=\"*\",\"*\",ROUND((K708/J708),-2)))","v":41400}]
[null,53,5,"MANUFACTURING","31-33",62,4786,267692733,1076,{"$f":"IF(County!G709=0,\"0\",IF(County!G709<5,\"*\",ROUND((G709*1),-1)))","v":4790},267692700,55900]
[null,53,5,"WHOLESALE TRADE",42,49,1105,47179311,821,{"$f":"IF(County!G710=0,\"0\",IF(County!G710<5,\"*\",ROUND((G710*1),-1)))","v":1110},47179300,42500]
[null,53,5,"RETAIL TRADE","44-45",242,3111,67211836,415,{"$f":"IF(County!G711=0,\"0\",IF(County!G711<5,\"*\",ROUND((G711*1),-1)))","v":3110},67211800,21600]
[null,53,5,"TRANSPORTATION AND WAREHOUSING","48-49",39,1456,49112803,649,{"$f":"IF(County!G712=0,\"0\",IF(County!G712<5,\"*\",ROUND((G712*1),-1)))","v":1460},49112800,33600]
[null,53,5,"INFORMATION",51,17,243,8442822,668,{"$f":"IF(County!G713=0,\"0\",IF(County!G713<5,\"*\",ROUND((G713*1),-1)))","v":240},{"$f":"ROUND((H713),-2)","v":8442800},35200]
[null,53,5,"FINANCE AND INSURANCE",52,89,628,28364395,869,{"$f":"IF(County!G714=0,\"0\",IF(County!G714<5,\"*\",ROUND((G714*1),-1)))","v":630},28364400,45000]
[null,53,5,"REAL ESTATE AND RENTAL AND LEASING",53,48,209,5591223,514,{"$f":"IF(County!G715=0,\"0\",IF(County!G715<5,\"*\",ROUND((G715*1),-1)))","v":210},5591200,26600]
[null,53,5,"PROFESSIONAL AND TECHNICAL SERVICES",54,78,353,14940060,814,{"$f":"IF(County!G716=0,\"0\",IF(County!G716<5,\"*\",ROUND((G716*1),-1)))","v":350},14940100,42700]
[null,53,5,"MANAGEMENT OF COMPANIES AND ENTERPRISES",55,7,248,14364113,1114,{"$f":"IF(County!G717=0,\"0\",IF(County!G717<5,\"*\",ROUND((G717*1),-1)))","v":250},14364100,57500]
[null,53,5,"ADMINISTRATIVE AND WASTE SERVICES",56,52,1301,28774171,425,{"$f":"IF(County!G718=0,\"0\",IF(County!G718<5,\"*\",ROUND((G718*1),-1)))","v":1300},28774200,22100]
[null,53,5,"EDUCATIONAL SERVICES",61,8,1899,64681834,655,{"$f":"IF(County!G719=0,\"0\",IF(County!G719<5,\"*\",ROUND((G719*1),-1)))","v":1900},64681800,34000]
[null,53,5,"HEALTH CARE AND SOCIAL ASSISTANCE",62,125,4561,165165475,696,{"$f":"IF(County!G720=0,\"0\",IF(County!G720<5,\"*\",ROUND((G720*1),-1)))","v":4560},165165500,36200]
[null,53,5,"ARTS, ENTERTAINMENT, AND RECREATION",71,12,79,1270463,309,{"$f":"IF(County!G721=0,\"0\",IF(County!G721<5,\"*\",ROUND((G721*1),-1)))","v":80},1270500,15900]
[null,53,5,"ACCOMMODATION AND FOOD SERVICES",72,124,2214,27678793,240,{"$f":"IF(County!G722=0,\"0\",IF(County!G722<5,\"*\",ROUND((G722*1),-1)))","v":2210},27678800,12500]
[null,53,5,"OTHER SERVICES, EXCEPT PUBLIC ADMIN",81,117,679,15667717,444,{"$f":"IF(County!G723=0,\"0\",IF(County!G723<5,\"*\",ROUND((G723*1),-1)))","v":680},15667700,23000]
[null,53,3,"LOCAL GOVERNMENT",11,54,2800,86244710,592,{"$f":"IF(County!G724=0,\"0\",IF(County!G724<5,\"*\",ROUND((G724*1),-1)))","v":2800},86244700,30800]
[null,53,3,"EDUCATIONAL SERVICES",61,24,1658,53120197,616,{"$f":"IF(County!G725=0,\"0\",IF(County!G725<5,\"*\",ROUND((G725*1),-1)))","v":1660},53120200,32000]
["D",53,3,"HEALTH CARE AND SOCIAL ASSISTANCE",62,2,39,877070,432,{"$f":"IF(County!G726=0,\"0\",IF(County!G726<5,\"*\",ROUND((G726*1),-1)))","v":40},877100,21900]
[null,53,2,"STATE GOVERNMENT",11,14,123,4731338,740,{"$f":"IF(County!G727=0,\"0\",IF(County!G727<5,\"*\",ROUND((G727*1),-1)))","v":120},4731300,39400]
[null,53,2,"EDUCATIONAL SERVICES",61,0,0,0,0,{"$f":"IF(County!G728=0,\"0\",IF(County!G728<5,\"*\",ROUND((G728*1),-1)))","v":"0"},0,0]
[null,53,2,"HEALTH CARE AND SOCIAL ASSISTANCE",62,0,0,0,0,{"$f":"IF(County!G729=0,\"0\",IF(County!G729<5,\"*\",ROUND((G729*1),-1)))","v":"0"},0,0]
[null,53,"U","TOTAL UI COVERED",11,1250,26634,935265324,675,{"$f":"IF(County!G730=0,\"0\",IF(County!G730<5,\"*\",ROUND((G730*1),-1)))","v":26630},935265300,35100]
[null,53,1,"FEDERAL GOVERNMENT",11,17,987,59293879,1155,{"$f":"IF(County!G731=0,\"0\",IF(County!G731<5,\"*\",ROUND((G731*1),-1)))","v":990},59293900,59900]
[null,55,5,"AGRICULTURE, FORESTRY, FISHING AND HUNTI",11,13,245,8067367,633,{"$f":"IF(County!G732=0,\"0\",IF(County!G732<5,\"*\",ROUND((G732*1),-1)))","v":250},8067400,32300]
[null,55,5,"MINING, QUARRYING, AND OIL AND GAS EXTRA",21,6,137,7086965,995,{"$f":"IF(County!G733=0,\"0\",IF(County!G733<5,\"*\",ROUND((G733*1),-1)))","v":140},7087000,50600]
[null,55,5,"UTILITIES",22,5,92,5756393,1203,{"$f":"IF(County!G734=0,\"0\",IF(County!G734<5,\"*\",ROUND((G734*1),-1)))","v":90},5756400,64000]
[null,55,5,"CONSTRUCTION",23,68,366,16634403,874,{"$f":"IF(County!G735=0,\"0\",IF(County!G735<5,\"*\",ROUND((G735*1),-1)))","v":370},16634400,45000]
[null,55,5,"MANUFACTURING","31-33",25,489,17931290,705,{"$f":"IF(County!G736=0,\"0\",IF(County!G736<5,\"*\",ROUND((G736*1),-1)))","v":490},17931300,36600]
[null,55,5,"WHOLESALE TRADE",42,22,83,3028559,702,{"$f":"IF(County!G737=0,\"0\",IF(County!G737<5,\"*\",ROUND((G737*1),-1)))","v":80},3028600,37900]
[null,55,5,"RETAIL TRADE","44-45",100,1007,21171400,404,{"$f":"IF(County!G738=0,\"0\",IF(County!G738<5,\"*\",ROUND((G738*1),-1)))","v":1010},21171400,21000]
[null,55,5,"TRANSPORTATION AND WAREHOUSING","48-49",23,121,5072820,806,{"$f":"IF(County!G739=0,\"0\",IF(County!G739<5,\"*\",ROUND((G739*1),-1)))","v":120},5072800,42300]
[null,55,5,"INFORMATION",51,10,54,1587343,565,{"$f":"IF(County!G740=0,\"0\",IF(County!G740<5,\"*\",ROUND((G740*1),-1)))","v":50},1587300,31700]
[null,55,5,"FINANCE AND INSURANCE",52,29,186,7344215,759,{"$f":"IF(County!G741=0,\"0\",IF(County!G741<5,\"*\",ROUND((G741*1),-1)))","v":190},7344200,38700]
[null,55,5,"REAL ESTATE AND RENTAL AND LEASING",53,12,33,539244,314,{"$f":"IF(County!G742=0,\"0\",IF(County!G742<5,\"*\",ROUND((G742*1),-1)))","v":30},539200,18000]
[null,55,5,"PROFESSIONAL AND TECHNICAL SERVICES",54,46,207,8618253,801,{"$f":"IF(County!G743=0,\"0\",IF(County!G743<5,\"*\",ROUND((G743*1),-1)))","v":210},8618300,41000]
[null,55,5,"MANAGEMENT OF COMPANIES AND ENTERPRISES",55,3,50,1164369,448,{"$f":"IF(County!G744=0,\"0\",IF(County!G744<5,\"*\",ROUND((G744*1),-1)))","v":50},1164400,23300]
[null,55,5,"ADMINISTRATIVE AND WASTE SERVICES",56,19,114,3311052,559,{"$f":"IF(County!G745=0,\"0\",IF(County!G745<5,\"*\",ROUND((G745*1),-1)))","v":110},3311100,30100]
["D",55,5,"EDUCATIONAL SERVICES",61,3,50,3658682,1407,{"$f":"IF(County!G746=0,\"0\",IF(County!G746<5,\"*\",ROUND((G746*1),-1)))","v":50},3658700,73200]
[null,55,5,"HEALTH CARE AND SOCIAL ASSISTANCE",62,54,791,19861743,483,{"$f":"IF(County!G747=0,\"0\",IF(County!G747<5,\"*\",ROUND((G747*1),-1)))","v":790},19861700,25100]
[null,55,5,"ARTS, ENTERTAINMENT, AND RECREATION",71,4,19,209312,212,{"$f":"IF(County!G748=0,\"0\",IF(County!G748<5,\"*\",ROUND((G748*1),-1)))","v":20},209300,10500]
[null,55,5,"ACCOMMODATION AND FOOD SERVICES",72,51,583,6652093,219,{"$f":"IF(County!G749=0,\"0\",IF(County!G749<5,\"*\",ROUND((G749*1),-1)))","v":580},6652100,11500]
[null,55,5,"OTHER SERVICES, EXCEPT PUBLIC ADMIN",81,51,155,2748166,341,{"$f":"IF(County!G750=0,\"0\",IF(County!G750<5,\"*\",ROUND((G750*1),-1)))","v":160},2748200,17200]
[null,55,3,"LOCAL GOVERNMENT",11,33,1576,51448305,628,{"$f":"IF(County!G751=0,\"0\",IF(County!G751<5,\"*\",ROUND((G751*1),-1)))","v":1580},51448300,32600]
[null,55,3,"EDUCATIONAL SERVICES",61,6,847,25383814,576,{"$f":"IF(County!G752=0,\"0\",IF(County!G752<5,\"*\",ROUND((G752*1),-1)))","v":850},25383800,29900]
["D",55,3,"HEALTH CARE AND SOCIAL ASSISTANCE",62,1,276,12078005,842,{"$f":"IF(County!G753=0,\"0\",IF(County!G753<5,\"*\",ROUND((G753*1),-1)))","v":280},12078000,43100]
[null,55,2,"STATE GOVERNMENT",11,12,149,6422446,829,{"$f":"IF(County!G754=0,\"0\",IF(County!G754<5,\"*\",ROUND((G754*1),-1)))","v":150},6422400,42800]
[null,55,2,"EDUCATIONAL SERVICES",61,0,0,0,0,{"$f":"IF(County!G755=0,\"0\",IF(County!G755<5,\"*\",ROUND((G755*1),-1)))","v":"0"},0,0]
[null,55,2,"HEALTH CARE AND SOCIAL ASSISTANCE",62,0,0,0,0,{"$f":"IF(County!G756=0,\"0\",IF(County!G756<5,\"*\",ROUND((G756*1),-1)))","v":"0"},0,0]
[null,55,"U","TOTAL UI COVERED",11,589,6506,198314420,586,{"$f":"IF(County!G757=0,\"0\",IF(County!G757<5,\"*\",ROUND((G757*1),-1)))","v":6510},198314400,30500]
[null,55,1,"FEDERAL GOVERNMENT",11,13,71,3408918,923,{"$f":"IF(County!G758=0,\"0\",IF(County!G758<5,\"*\",ROUND((G758*1),-1)))","v":70},3408900,48700]
[null,57,5,"AGRICULTURE, FORESTRY, FISHING AND HUNTI",11,34,700,35196460,967,{"$f":"IF(County!G759=0,\"0\",IF(County!G759<5,\"*\",ROUND((G759*1),-1)))","v":700},35196500,50300]
[null,57,5,"MINING, QUARRYING, AND OIL AND GAS EXTRA",21,14,182,13217437,1397,{"$f":"IF(County!G760=0,\"0\",IF(County!G760<5,\"*\",ROUND((G760*1),-1)))","v":180},13217400,73400]
[null,57,5,"UTILITIES",22,12,1035,120748727,2244,{"$f":"IF(County!G761=0,\"0\",IF(County!G761<5,\"*\",ROUND((G761*1),-1)))","v":1040},120748700,116100]
[null,57,5,"CONSTRUCTION",23,647,6704,366100603,1050,{"$f":"IF(County!G762=0,\"0\",IF(County!G762<5,\"*\",ROUND((G762*1),-1)))","v":6700},366100600,54600]
[null,57,5,"MANUFACTURING","31-33",219,5921,338773390,1100,{"$f":"IF(County!G763=0,\"0\",IF(County!G763<5,\"*\",ROUND((G763*1),-1)))","v":5920},338773400,57200]
[null,57,5,"WHOLESALE TRADE",42,926,6128,530281826,1664,{"$f":"IF(County!G764=0,\"0\",IF(County!G764<5,\"*\",ROUND((G764*1),-1)))","v":6130},530281800,86500]
[null,57,5,"RETAIL TRADE","44-45",802,15349,438223770,549,{"$f":"IF(County!G765=0,\"0\",IF(County!G765<5,\"*\",ROUND((G765*1),-1)))","v":15350},438223800,28500]
[null,57,5,"TRANSPORTATION AND WAREHOUSING","48-49",118,988,49476247,963,{"$f":"IF(County!G766=0,\"0\",IF(County!G766<5,\"*\",ROUND((G766*1),-1)))","v":990},49476200,50000]
[null,57,5,"INFORMATION",51,146,2889,176955820,1178,{"$f":"IF(County!G767=0,\"0\",IF(County!G767<5,\"*\",ROUND((G767*1),-1)))","v":2890},176955800,61200]
[null,57,5,"FINANCE AND INSURANCE",52,742,12905,1041598680,1552,{"$f":"IF(County!G768=0,\"0\",IF(County!G768<5,\"*\",ROUND((G768*1),-1)))","v":12910},1041598700,80700]
[null,57,5,"REAL ESTATE AND RENTAL AND LEASING",53,386,3318,184755669,1071,{"$f":"IF(County!G769=0,\"0\",IF(County!G769<5,\"*\",ROUND((G769*1),-1)))","v":3320},184755700,55600]
[null,57,5,"PROFESSIONAL AND TECHNICAL SERVICES",54,1475,9403,640155299,1309,{"$f":"IF(County!G770=0,\"0\",IF(County!G770<5,\"*\",ROUND((G770*1),-1)))","v":9400},640155300,68100]
[null,57,5,"MANAGEMENT OF COMPANIES AND ENTERPRISES",55,110,2855,270743388,1824,{"$f":"IF(County!G771=0,\"0\",IF(County!G771<5,\"*\",ROUND((G771*1),-1)))","v":2860},270743400,94700]
[null,57,5,"ADMINISTRATIVE AND WASTE SERVICES",56,521,10093,431064626,821,{"$f":"IF(County!G772=0,\"0\",IF(County!G772<5,\"*\",ROUND((G772*1),-1)))","v":10090},431064600,{"$f":"IF(G772=0,0,IF(J772=\"*\",\"*\",ROUND((K772/J772),-2)))","v":42700}]
[null,57,5,"EDUCATIONAL SERVICES",61,136,1353,32484878,462,{"$f":"IF(County!G773=0,\"0\",IF(County!G773<5,\"*\",ROUND((G773*1),-1)))","v":1350},32484900,24100]
[null,57,5,"HEALTH CARE AND SOCIAL ASSISTANCE",62,775,14026,596966566,818,{"$f":"IF(County!G774=0,\"0\",IF(County!G774<5,\"*\",ROUND((G774*1),-1)))","v":14030},596966600,42500]
[null,57,5,"ARTS, ENTERTAINMENT, AND RECREATION",71,148,2333,48729770,402,{"$f":"IF(County!G775=0,\"0\",IF(County!G775<5,\"*\",ROUND((G775*1),-1)))","v":2330},48729800,20900]
[null,57,5,"ACCOMMODATION AND FOOD SERVICES",72,571,12774,193459445,291,{"$f":"IF(County!G776=0,\"0\",IF(County!G776<5,\"*\",ROUND((G776*1),-1)))","v":12770},193459400,15100]
[null,57,5,"OTHER SERVICES, EXCEPT PUBLIC ADMIN",81,760,3733,94384178,486,{"$f":"IF(County!G777=0,\"0\",IF(County!G777<5,\"*\",ROUND((G777*1),-1)))","v":3730},{"$f":"ROUND((H777),-2)","v":94384200},25300]
[null,57,3,"LOCAL GOVERNMENT",11,83,12318,500426126,781,{"$f":"IF(County!G778=0,\"0\",IF(County!G778<5,\"*\",ROUND((G778*1),-1)))","v":12320},500426100,40600]
[null,57,3,"EDUCATIONAL SERVICES",61,51,7102,273723588,741,{"$f":"IF(County!G779=0,\"0\",IF(County!G779<5,\"*\",ROUND((G779*1),-1)))","v":7100},273723600,38600]
["D",57,3,"HEALTH CARE AND SOCIAL ASSISTANCE",62,1,1256,60784569,931,{"$f":"IF(County!G780=0,\"0\",IF(County!G780<5,\"*\",ROUND((G780*1),-1)))","v":1260},60784600,48200]
[null,57,2,"STATE GOVERNMENT",11,21,155,6446570,800,{"$f":"IF(County!G781=0,\"0\",IF(County!G781<5,\"*\",ROUND((G781*1),-1)))","v":160},6446600,40300]
[null,57,2,"EDUCATIONAL SERVICES",61,0,0,0,0,{"$f":"IF(County!G782=0,\"0\",IF(County!G782<5,\"*\",ROUND((G782*1),-1)))","v":"0"},0,0]
[null,57,2,"HEALTH CARE AND SOCIAL ASSISTANCE",62,0,0,0,0,{"$f":"IF(County!G783=0,\"0\",IF(County!G783<5,\"*\",ROUND((G783*1),-1)))","v":"0"},0,0]
[null,57,"U","TOTAL UI COVERED",11,8646,125164,6110222506,939,{"$f":"IF(County!G784=0,\"0\",IF(County!G784<5,\"*\",ROUND((G784*1),-1)))","v":125160},6110222500,48800]
[null,57,1,"FEDERAL GOVERNMENT",11,11,359,22475127,1204,{"$f":"IF(County!G785=0,\"0\",IF(County!G785<5,\"*\",ROUND((G785*1),-1)))","v":360},22475100,62400]
[null,59,5,"AGRICULTURE, FORESTRY, FISHING AND HUNTI",11,22,99,2797072,543,{"$f":"IF(County!G786=0,\"0\",IF(County!G786<5,\"*\",ROUND((G786*1),-1)))","v":100},2797100,28000]
[null,59,5,"MINING, QUARRYING, AND OIL AND GAS EXTRA",21,0,0,0,0,{"$f":"IF(County!G787=0,\"0\",IF(County!G787<5,\"*\",ROUND((G787*1),-1)))","v":"0"},0,0]
[null,59,5,"UTILITIES",22,4,51,3465817,1307,{"$f":"IF(County!G788=0,\"0\",IF(County!G788<5,\"*\",ROUND((G788*1),-1)))","v":50},3465800,69300]
[null,59,5,"CONSTRUCTION",23,220,1394,60061871,829,{"$f":"IF(County!G789=0,\"0\",IF(County!G789<5,\"*\",ROUND((G789*1),-1)))","v":1390},60061900,43200]
[null,59,5,"MANUFACTURING","31-33",71,3451,163765071,913,{"$f":"IF(County!G790=0,\"0\",IF(County!G790<5,\"*\",ROUND((G790*1),-1)))","v":3450},163765100,47500]
[null,59,5,"WHOLESALE TRADE",42,95,673,36483418,1043,{"$f":"IF(County!G791=0,\"0\",IF(County!G791<5,\"*\",ROUND((G791*1),-1)))","v":670},36483400,54500]
[null,59,5,"RETAIL TRADE","44-45",152,2246,56391598,483,{"$f":"IF(County!G792=0,\"0\",IF(County!G792<5,\"*\",ROUND((G792*1),-1)))","v":2250},56391600,25100]
[null,59,5,"TRANSPORTATION AND WAREHOUSING","48-49",47,669,26370105,758,{"$f":"IF(County!G793=0,\"0\",IF(County!G793<5,\"*\",ROUND((G793*1),-1)))","v":670},26370100,39400]
[null,59,5,"INFORMATION",51,18,406,21728618,1029,{"$f":"IF(County!G794=0,\"0\",IF(County!G794<5,\"*\",ROUND((G794*1),-1)))","v":410},21728600,53000]
[null,59,5,"FINANCE AND INSURANCE",52,81,357,16810046,906,{"$f":"IF(County!G795=0,\"0\",IF(County!G795<5,\"*\",ROUND((G795*1),-1)))","v":360},16810000,46700]
[null,59,5,"REAL ESTATE AND RENTAL AND LEASING",53,44,160,5133855,617,{"$f":"IF(County!G796=0,\"0\",IF(County!G796<5,\"*\",ROUND((G796*1),-1)))","v":160},5133900,32100]
[null,59,5,"PROFESSIONAL AND TECHNICAL SERVICES",54,145,1601,149325163,1794,{"$f":"IF(County!G797=0,\"0\",IF(County!G797<5,\"*\",ROUND((G797*1),-1)))","v":1600},149325200,93300]
[null,59,5,"MANAGEMENT OF COMPANIES AND ENTERPRISES",55,10,132,11307828,1647,{"$f":"IF(County!G798=0,\"0\",IF(County!G798<5,\"*\",ROUND((G798*1),-1)))","v":130},11307800,87000]
[null,59,5,"ADMINISTRATIVE AND WASTE SERVICES",56,99,1672,44090206,507,{"$f":"IF(County!G799=0,\"0\",IF(County!G799<5,\"*\",ROUND((G799*1),-1)))","v":1670},44090200,26400]
[null,59,5,"EDUCATIONAL SERVICES",61,12,87,3260017,721,{"$f":"IF(County!G800=0,\"0\",IF(County!G800<5,\"*\",ROUND((G800*1),-1)))","v":90},3260000,36200]
[null,59,5,"HEALTH CARE AND SOCIAL ASSISTANCE",62,127,1938,63652864,632,{"$f":"IF(County!G801=0,\"0\",IF(County!G801<5,\"*\",ROUND((G801*1),-1)))","v":1940},63652900,32800]
[null,59,5,"ARTS, ENTERTAINMENT, AND RECREATION",71,13,177,2008392,218,{"$f":"IF(County!G802=0,\"0\",IF(County!G802<5,\"*\",ROUND((G802*1),-1)))","v":180},2008400,11200]
[null,59,5,"ACCOMMODATION AND FOOD SERVICES",72,108,2027,25114589,238,{"$f":"IF(County!G803=0,\"0\",IF(County!G803<5,\"*\",ROUND((G803*1),-1)))","v":2030},25114600,12400]
[null,59,5,"OTHER SERVICES, EXCEPT PUBLIC ADMIN",81,120,411,10797775,505,{"$f":"IF(County!G804=0,\"0\",IF(County!G804<5,\"*\",ROUND((G804*1),-1)))","v":410},10797800,26300]
[null,59,3,"LOCAL GOVERNMENT",11,40,3345,124404868,715,{"$f":"IF(County!G805=0,\"0\",IF(County!G805<5,\"*\",ROUND((G805*1),-1)))","v":3350},124404900,37100]
[null,59,3,"EDUCATIONAL SERVICES",61,20,1689,57171875,651,{"$f":"IF(County!G806=0,\"0\",IF(County!G806<5,\"*\",ROUND((G806*1),-1)))","v":1690},57171900,33800]
["D",59,3,"HEALTH CARE AND SOCIAL ASSISTANCE",62,1,735,36819751,963,{"$f":"IF(County!G807=0,\"0\",IF(County!G807<5,\"*\",ROUND((G807*1),-1)))","v":740},36819800,49800]
[null,59,2,"STATE GOVERNMENT",11,18,283,13213509,898,{"$f":"IF(County!G808=0,\"0\",IF(County!G808<5,\"*\",ROUND((G808*1),-1)))","v":280},13213500,47200]
[null,59,2,"EDUCATIONAL SERVICES",61,0,0,0,0,{"$f":"IF(County!G809=0,\"0\",IF(County!G809<5,\"*\",ROUND((G809*1),-1)))","v":"0"},0,0]
[null,59,2,"HEALTH CARE AND SOCIAL ASSISTANCE",62,0,0,0,0,{"$f":"IF(County!G810=0,\"0\",IF(County!G810<5,\"*\",ROUND((G810*1),-1)))","v":"0"},0,0]
[null,59,"U","TOTAL UI COVERED",11,1444,21180,840182682,763,{"$f":"IF(County!G811=0,\"0\",IF(County!G811<5,\"*\",ROUND((G811*1),-1)))","v":21180},840182700,39700]
[null,59,1,"FEDERAL GOVERNMENT",11,9,105,5588237,1023,{"$f":"IF(County!G812=0,\"0\",IF(County!G812<5,\"*\",ROUND((G812*1),-1)))","v":110},5588200,50800]
[null,61,5,"AGRICULTURE, FORESTRY, FISHING AND HUNTI",11,15,47,1378720,564,{"$f":"IF(County!G813=0,\"0\",IF(County!G813<5,\"*\",ROUND((G813*1),-1)))","v":50},1378700,27600]
[null,61,5,"MINING, QUARRYING, AND OIL AND GAS EXTRA",21,10,92,4866029,1017,{"$f":"IF(County!G814=0,\"0\",IF(County!G814<5,\"*\",ROUND((G814*1),-1)))","v":90},4866000,54100]
[null,61,5,"UTILITIES",22,6,90,6375645,1362,{"$f":"IF(County!G815=0,\"0\",IF(County!G815<5,\"*\",ROUND((G815*1),-1)))","v":90},6375600,70800]
[null,61,5,"CONSTRUCTION",23,88,315,9971287,609,{"$f":"IF(County!G816=0,\"0\",IF(County!G816<5,\"*\",ROUND((G816*1),-1)))","v":320},9971300,31200]
[null,61,5,"MANUFACTURING","31-33",37,1621,64527747,766,{"$f":"IF(County!G817=0,\"0\",IF(County!G817<5,\"*\",ROUND((G817*1),-1)))","v":1620},64527700,39800]
[null,61,5,"WHOLESALE TRADE",42,36,353,14652777,798,{"$f":"IF(County!G818=0,\"0\",IF(County!G818<5,\"*\",ROUND((G818*1),-1)))","v":350},14652800,41900]
[null,61,5,"RETAIL TRADE","44-45",98,1254,29280823,449,{"$f":"IF(County!G819=0,\"0\",IF(County!G819<5,\"*\",ROUND((G819*1),-1)))","v":1250},29280800,23400]
[null,61,5,"TRANSPORTATION AND WAREHOUSING","48-49",28,132,4479448,653,{"$f":"IF(County!G820=0,\"0\",IF(County!G820<5,\"*\",ROUND((G820*1),-1)))","v":130},4479400,34500]
[null,61,5,"INFORMATION",51,4,59,1557929,508,{"$f":"IF(County!G821=0,\"0\",IF(County!G821<5,\"*\",ROUND((G821*1),-1)))","v":60},1557900,26000]
[null,61,5,"FINANCE AND INSURANCE",52,47,264,12597957,918,{"$f":"IF(County!G822=0,\"0\",IF(County!G822<5,\"*\",ROUND((G822*1),-1)))","v":260},12598000,48500]
[null,61,5,"REAL ESTATE AND RENTAL AND LEASING",53,12,31,1009772,626,{"$f":"IF(County!G823=0,\"0\",IF(County!G823<5,\"*\",ROUND((G823*1),-1)))","v":30},1009800,33700]
[null,61,5,"PROFESSIONAL AND TECHNICAL SERVICES",54,46,169,5999602,683,{"$f":"IF(County!G824=0,\"0\",IF(County!G824<5,\"*\",ROUND((G824*1),-1)))","v":170},5999600,35300]
[null,61,5,"MANAGEMENT OF COMPANIES AND ENTERPRISES",55,3,26,1036643,767,{"$f":"IF(County!G825=0,\"0\",IF(County!G825<5,\"*\",ROUND((G825*1),-1)))","v":30},1036600,34600]
[null,61,5,"ADMINISTRATIVE AND WASTE SERVICES",56,23,95,2904854,588,{"$f":"IF(County!G826=0,\"0\",IF(County!G826<5,\"*\",ROUND((G826*1),-1)))","v":100},2904900,29000]
["D",61,5,"EDUCATIONAL SERVICES",61,2,9,287705,615,{"$f":"IF(County!G827=0,\"0\",IF(County!G827<5,\"*\",ROUND((G827*1),-1)))","v":10},287700,28800]
[null,61,5,"HEALTH CARE AND SOCIAL ASSISTANCE",62,67,674,19548476,558,{"$f":"IF(County!G828=0,\"0\",IF(County!G828<5,\"*\",ROUND((G828*1),-1)))","v":670},19548500,29200]
["D",61,5,"ARTS, ENTERTAINMENT, AND RECREATION",71,11,1536,54728008,685,{"$f":"IF(County!G829=0,\"0\",IF(County!G829<5,\"*\",ROUND((G829*1),-1)))","v":1540},54728000,35500]
[null,61,5,"ACCOMMODATION AND FOOD SERVICES",72,49,937,11919114,245,{"$f":"IF(County!G830=0,\"0\",IF(County!G830<5,\"*\",ROUND((G830*1),-1)))","v":940},11919100,12700]
[null,61,5,"OTHER SERVICES, EXCEPT PUBLIC ADMIN",81,49,235,4474519,366,{"$f":"IF(County!G831=0,\"0\",IF(County!G831<5,\"*\",ROUND((G831*1),-1)))","v":240},4474500,18600]
[null,61,3,"LOCAL GOVERNMENT",11,18,1866,63776928,657,{"$f":"IF(County!G832=0,\"0\",IF(County!G832<5,\"*\",ROUND((G832*1),-1)))","v":1870},63776900,34100]
[null,61,3,"EDUCATIONAL SERVICES",61,3,904,28388496,604,{"$f":"IF(County!G833=0,\"0\",IF(County!G833<5,\"*\",ROUND((G833*1),-1)))","v":900},28388500,31500]
["D",61,3,"HEALTH CARE AND SOCIAL ASSISTANCE",62,6,557,24398491,842,{"$f":"IF(County!G834=0,\"0\",IF(County!G834<5,\"*\",ROUND((G834*1),-1)))","v":560},24398500,43600]
[null,61,2,"STATE GOVERNMENT",11,9,113,4110502,700,{"$f":"IF(County!G835=0,\"0\",IF(County!G835<5,\"*\",ROUND((G835*1),-1)))","v":110},4110500,37400]
[null,61,2,"EDUCATIONAL SERVICES",61,0,0,0,0,{"$f":"IF(County!G836=0,\"0\",IF(County!G836<5,\"*\",ROUND((G836*1),-1)))","v":"0"},0,{"$f":"IF(G836=0,0,IF(J836=\"*\",\"*\",ROUND((K836/J836),-2)))","v":0}]
[null,61,2,"HEALTH CARE AND SOCIAL ASSISTANCE",62,0,0,0,0,{"$f":"IF(County!G837=0,\"0\",IF(County!G837<5,\"*\",ROUND((G837*1),-1)))","v":"0"},0,0]
[null,61,"U","TOTAL UI COVERED",11,657,9916,319484485,620,{"$f":"IF(County!G838=0,\"0\",IF(County!G838<5,\"*\",ROUND((G838*1),-1)))","v":9920},319484500,32200]
[null,61,1,"FEDERAL GOVERNMENT",11,15,97,4857361,963,{"$f":"IF(County!G839=0,\"0\",IF(County!G839<5,\"*\",ROUND((G839*1),-1)))","v":100},4857400,48600]
[null,63,5,"AGRICULTURE, FORESTRY, FISHING AND HUNTI",11,20,126,3669632,560,{"$f":"IF(County!G840=0,\"0\",IF(County!G840<5,\"*\",ROUND((G840*1),-1)))","v":130},3669600,28200]
["D",63,5,"MINING, QUARRYING, AND OIL AND GAS EXTRA",21,1,23,1086275,908,{"$f":"IF(County!G841=0,\"0\",IF(County!G841<5,\"*\",ROUND((G841*1),-1)))","v":20},{"$f":"ROUND((H841),-2)","v":1086300},54300]
[null,63,5,"UTILITIES",22,8,766,59601584,1496,{"$f":"IF(County!G842=0,\"0\",IF(County!G842<5,\"*\",ROUND((G842*1),-1)))","v":770},59601600,77400]
[null,63,5,"CONSTRUCTION",23,341,2277,108008125,912,{"$f":"IF(County!G843=0,\"0\",IF(County!G843<5,\"*\",ROUND((G843*1),-1)))","v":2280},108008100,47400]
[null,63,5,"MANUFACTURING","31-33",110,3540,178237960,968,{"$f":"IF(County!G844=0,\"0\",IF(County!G844<5,\"*\",ROUND((G844*1),-1)))","v":3540},178238000,50300]
[null,63,5,"WHOLESALE TRADE",42,191,3333,160481959,926,{"$f":"IF(County!G845=0,\"0\",IF(County!G845<5,\"*\",ROUND((G845*1),-1)))","v":3330},160482000,48200]
[null,63,5,"RETAIL TRADE","44-45",395,9762,250007832,493,{"$f":"IF(County!G846=0,\"0\",IF(County!G846<5,\"*\",ROUND((G846*1),-1)))","v":9760},250007800,25600]
[null,63,5,"TRANSPORTATION AND WAREHOUSING","48-49",142,6740,251899526,719,{"$f":"IF(County!G847=0,\"0\",IF(County!G847<5,\"*\",ROUND((G847*1),-1)))","v":6740},251899500,37400]
[null,63,5,"INFORMATION",51,28,226,4758135,405,{"$f":"IF(County!G848=0,\"0\",IF(County!G848<5,\"*\",ROUND((G848*1),-1)))","v":230},4758100,20700]
[null,63,5,"FINANCE AND INSURANCE",52,183,895,45616443,980,{"$f":"IF(County!G849=0,\"0\",IF(County!G849<5,\"*\",ROUND((G849*1),-1)))","v":900},45616400,50700]
[null,63,5,"REAL ESTATE AND RENTAL AND LEASING",53,93,418,13194812,607,{"$f":"IF(County!G850=0,\"0\",IF(County!G850<5,\"*\",ROUND((G850*1),-1)))","v":420},13194800,31400]
[null,63,5,"PROFESSIONAL AND TECHNICAL SERVICES",54,314,1023,47486935,893,{"$f":"IF(County!G851=0,\"0\",IF(County!G851<5,\"*\",ROUND((G851*1),-1)))","v":1020},47486900,46600]
[null,63,5,"MANAGEMENT OF COMPANIES AND ENTERPRISES",55,18,269,18786553,1343,{"$f":"IF(County!G852=0,\"0\",IF(County!G852<5,\"*\",ROUND((G852*1),-1)))","v":270},18786600,69600]
[null,63,5,"ADMINISTRATIVE AND WASTE SERVICES",56,185,5809,141669115,469,{"$f":"IF(County!G853=0,\"0\",IF(County!G853<5,\"*\",ROUND((G853*1),-1)))","v":5810},141669100,24400]
[null,63,5,"EDUCATIONAL SERVICES",61,35,179,4713672,506,{"$f":"IF(County!G854=0,\"0\",IF(County!G854<5,\"*\",ROUND((G854*1),-1)))","v":180},4713700,26200]
[null,63,5,"HEALTH CARE AND SOCIAL ASSISTANCE",62,230,4812,169580268,678,{"$f":"IF(County!G855=0,\"0\",IF(County!G855<5,\"*\",ROUND((G855*1),-1)))","v":4810},169580300,35300]
[null,63,5,"ARTS, ENTERTAINMENT, AND RECREATION",71,61,663,28144466,816,{"$f":"IF(County!G856=0,\"0\",IF(County!G856<5,\"*\",ROUND((G856*1),-1)))","v":660},28144500,42600]
[null,63,5,"ACCOMMODATION AND FOOD SERVICES",72,289,6701,94412152,271,{"$f":"IF(County!G857=0,\"0\",IF(County!G857<5,\"*\",ROUND((G857*1),-1)))","v":6700},94412200,14100]
[null,63,5,"OTHER SERVICES, EXCEPT PUBLIC ADMIN",81,258,1860,51115395,528,{"$f":"IF(County!G858=0,\"0\",IF(County!G858<5,\"*\",ROUND((G858*1),-1)))","v":1860},51115400,27500]
[null,63,3,"LOCAL GOVERNMENT",11,51,6926,274498361,762,{"$f":"IF(County!G859=0,\"0\",IF(County!G859<5,\"*\",ROUND((G859*1),-1)))","v":6930},274498400,39600]
[null,63,3,"EDUCATIONAL SERVICES",61,27,3489,122604699,676,{"$f":"IF(County!G860=0,\"0\",IF(County!G860<5,\"*\",ROUND((G860*1),-1)))","v":3490},122604700,35100]
["D",63,3,"HEALTH CARE AND SOCIAL ASSISTANCE",62,1,1598,91186874,1097,{"$f":"IF(County!G861=0,\"0\",IF(County!G861<5,\"*\",ROUND((G861*1),-1)))","v":1600},91186900,57000]
[null,63,2,"STATE GOVERNMENT",11,28,1107,44991488,782,{"$f":"IF(County!G862=0,\"0\",IF(County!G862<5,\"*\",ROUND((G862*1),-1)))","v":1110},44991500,40500]
[null,63,2,"EDUCATIONAL SERVICES",61,0,0,0,0,{"$f":"IF(County!G863=0,\"0\",IF(County!G863<5,\"*\",ROUND((G863*1),-1)))","v":"0"},0,0]
[null,63,2,"HEALTH CARE AND SOCIAL ASSISTANCE",62,0,0,0,0,{"$f":"IF(County!G864=0,\"0\",IF(County!G864<5,\"*\",ROUND((G864*1),-1)))","v":"0"},0,0]
[null,63,"U","TOTAL UI COVERED",11,2978,57453,1951960688,653,{"$f":"IF(County!G865=0,\"0\",IF(County!G865<5,\"*\",ROUND((G865*1),-1)))","v":57450},1951960700,34000]
[null,63,1,"FEDERAL GOVERNMENT",11,14,270,18602930,1325,{"$f":"IF(County!G866=0,\"0\",IF(County!G866<5,\"*\",ROUND((G866*1),-1)))","v":270},18602900,68900]
[null,65,5,"AGRICULTURE, FORESTRY, FISHING AND HUNTI",11,19,127,3676084,557,{"$f":"IF(County!G867=0,\"0\",IF(County!G867<5,\"*\",ROUND((G867*1),-1)))","v":130},3676100,28300]
["D",65,5,"MINING, QUARRYING, AND OIL AND GAS EXTRA",21,1,10,672139,1293,{"$f":"IF(County!G868=0,\"0\",IF(County!G868<5,\"*\",ROUND((G868*1),-1)))","v":10},672100,67200]
[null,65,5,"UTILITIES",22,6,60,4303956,1379,{"$f":"IF(County!G869=0,\"0\",IF(County!G869<5,\"*\",ROUND((G869*1),-1)))","v":60},4304000,71700]
[null,65,5,"CONSTRUCTION",23,95,521,22440764,828,{"$f":"IF(County!G870=0,\"0\",IF(County!G870<5,\"*\",ROUND((G870*1),-1)))","v":520},22440800,43200]
[null,65,5,"MANUFACTURING","31-33",46,2054,90704483,849,{"$f":"IF(County!G871=0,\"0\",IF(County!G871<5,\"*\",ROUND((G871*1),-1)))","v":2050},90704500,44200]
[null,65,5,"WHOLESALE TRADE",42,38,344,13773629,770,{"$f":"IF(County!G872=0,\"0\",IF(County!G872<5,\"*\",ROUND((G872*1),-1)))","v":340},13773600,40500]
[null,65,5,"RETAIL TRADE","44-45",159,1636,36867644,433,{"$f":"IF(County!G873=0,\"0\",IF(County!G873<5,\"*\",ROUND((G873*1),-1)))","v":1640},36867600,22500]
[null,65,5,"TRANSPORTATION AND WAREHOUSING","48-49",26,191,7641379,769,{"$f":"IF(County!G874=0,\"0\",IF(County!G874<5,\"*\",ROUND((G874*1),-1)))","v":190},7641400,40200]
[null,65,5,"INFORMATION",51,12,120,4422586,709,{"$f":"IF(County!G875=0,\"0\",IF(County!G875<5,\"*\",ROUND((G875*1),-1)))","v":120},4422600,36900]
[null,65,5,"FINANCE AND INSURANCE",52,52,343,15272579,856,{"$f":"IF(County!G876=0,\"0\",IF(County!G876<5,\"*\",ROUND((G876*1),-1)))","v":340},15272600,44900]
[null,65,5,"REAL ESTATE AND RENTAL AND LEASING",53,21,124,2455395,381,{"$f":"IF(County!G877=0,\"0\",IF(County!G877<5,\"*\",ROUND((G877*1),-1)))","v":120},2455400,20500]
[null,65,5,"PROFESSIONAL AND TECHNICAL SERVICES",54,46,135,3984617,568,{"$f":"IF(County!G878=0,\"0\",IF(County!G878<5,\"*\",ROUND((G878*1),-1)))","v":140},3984600,28500]
[null,65,5,"MANAGEMENT OF COMPANIES AND ENTERPRISES",55,4,18,690444,738,{"$f":"IF(County!G879=0,\"0\",IF(County!G879<5,\"*\",ROUND((G879*1),-1)))","v":20},690400,34500]
[null,65,5,"ADMINISTRATIVE AND WASTE SERVICES",56,38,766,25204612,633,{"$f":"IF(County!G880=0,\"0\",IF(County!G880<5,\"*\",ROUND((G880*1),-1)))","v":770},25204600,32700]
[null,65,5,"EDUCATIONAL SERVICES",61,0,0,0,0,{"$f":"IF(County!G881=0,\"0\",IF(County!G881<5,\"*\",ROUND((G881*1),-1)))","v":"0"},0,0]
[null,65,5,"HEALTH CARE AND SOCIAL ASSISTANCE",62,67,2065,47159123,439,{"$f":"IF(County!G882=0,\"0\",IF(County!G882<5,\"*\",ROUND((G882*1),-1)))","v":2070},47159100,22800]
[null,65,5,"ARTS, ENTERTAINMENT, AND RECREATION",71,12,87,1246994,276,{"$f":"IF(County!G883=0,\"0\",IF(County!G883<5,\"*\",ROUND((G883*1),-1)))","v":90},1247000,13900]
[null,65,5,"ACCOMMODATION AND FOOD SERVICES",72,58,965,12670559,253,{"$f":"IF(County!G884=0,\"0\",IF(County!G884<5,\"*\",ROUND((G884*1),-1)))","v":970},12670600,13100]
[null,65,5,"OTHER SERVICES, EXCEPT PUBLIC ADMIN",81,64,337,7189822,410,{"$f":"IF(County!G885=0,\"0\",IF(County!G885<5,\"*\",ROUND((G885*1),-1)))","v":340},7189800,21100]
[null,65,3,"LOCAL GOVERNMENT",11,38,2727,100877484,711,{"$f":"IF(County!G886=0,\"0\",IF(County!G886<5,\"*\",ROUND((G886*1),-1)))","v":2730},100877500,37000]
[null,65,3,"EDUCATIONAL SERVICES",61,10,1252,38898762,597,{"$f":"IF(County!G887=0,\"0\",IF(County!G887<5,\"*\",ROUND((G887*1),-1)))","v":1250},38898800,31100]
["D",65,3,"HEALTH CARE AND SOCIAL ASSISTANCE",62,1,732,41310571,1085,{"$f":"IF(County!G888=0,\"0\",IF(County!G888<5,\"*\",ROUND((G888*1),-1)))","v":730},41310600,56600]
[null,65,2,"STATE GOVERNMENT",11,16,136,4889940,691,{"$f":"IF(County!G889=0,\"0\",IF(County!G889<5,\"*\",ROUND((G889*1),-1)))","v":140},4889900,34900]
[null,65,2,"EDUCATIONAL SERVICES",61,0,0,0,0,{"$f":"IF(County!G890=0,\"0\",IF(County!G890<5,\"*\",ROUND((G890*1),-1)))","v":"0"},0,0]
[null,65,2,"HEALTH CARE AND SOCIAL ASSISTANCE",62,0,0,0,0,{"$f":"IF(County!G891=0,\"0\",IF(County!G891<5,\"*\",ROUND((G891*1),-1)))","v":"0"},0,0]
[null,65,"U","TOTAL UI COVERED",11,818,12764,406144233,612,{"$f":"IF(County!G892=0,\"0\",IF(County!G892<5,\"*\",ROUND((G892*1),-1)))","v":12760},406144200,31800]
[null,65,1,"FEDERAL GOVERNMENT",11,15,89,4264315,921,{"$f":"IF(County!G893=0,\"0\",IF(County!G893<5,\"*\",ROUND((G893*1),-1)))","v":90},4264300,47400]
[null,67,5,"AGRICULTURE, FORESTRY, FISHING AND HUNTI",11,11,55,2162760,756,{"$f":"IF(County!G894=0,\"0\",IF(County!G894<5,\"*\",ROUND((G894*1),-1)))","v":60},2162800,36000]
["D",67,5,"MINING, QUARRYING, AND OIL AND GAS EXTRA",21,3,17,969152,1096,{"$f":"IF(County!G895=0,\"0\",IF(County!G895<5,\"*\",ROUND((G895*1),-1)))","v":20},969200,48500]
[null,67,5,"UTILITIES",22,4,129,10176221,1517,{"$f":"IF(County!G896=0,\"0\",IF(County!G896<5,\"*\",ROUND((G896*1),-1)))","v":130},10176200,78300]
[null,67,5,"CONSTRUCTION",23,136,1044,43099618,794,{"$f":"IF(County!G897=0,\"0\",IF(County!G897<5,\"*\",ROUND((G897*1),-1)))","v":1040},43099600,41400]
[null,67,5,"MANUFACTURING","31-33",69,11439,903137434,1518,{"$f":"IF(County!G898=0,\"0\",IF(County!G898<5,\"*\",ROUND((G898*1),-1)))","v":11440},903137400,78900]
[null,67,5,"WHOLESALE TRADE",42,84,814,44897158,1061,{"$f":"IF(County!G899=0,\"0\",IF(County!G899<5,\"*\",ROUND((G899*1),-1)))","v":810},44897200,55400]
[null,67,5,"RETAIL TRADE","44-45",316,4896,111836272,439,{"$f":"IF(County!G900=0,\"0\",IF(County!G900<5,\"*\",ROUND((G900*1),-1)))","v":4900},111836300,{"$f":"IF(G900=0,0,IF(J900=\"*\",\"*\",ROUND((K900/J900),-2)))","v":22800}]
[null,67,5,"TRANSPORTATION AND WAREHOUSING","48-49",40,547,23915295,841,{"$f":"IF(County!G901=0,\"0\",IF(County!G901<5,\"*\",ROUND((G901*1),-1)))","v":550},23915300,43500]
[null,67,5,"INFORMATION",51,19,356,19470989,1052,{"$f":"IF(County!G902=0,\"0\",IF(County!G902<5,\"*\",ROUND((G902*1),-1)))","v":360},19471000,54100]
[null,67,5,"FINANCE AND INSURANCE",52,121,781,42600607,1049,{"$f":"IF(County!G903=0,\"0\",IF(County!G903<5,\"*\",ROUND((G903*1),-1)))","v":780},42600600,54600]
[null,67,5,"REAL ESTATE AND RENTAL AND LEASING",53,63,277,8240881,572,{"$f":"IF(County!G904=0,\"0\",IF(County!G904<5,\"*\",ROUND((G904*1),-1)))","v":280},8240900,29400]
[null,67,5,"PROFESSIONAL AND TECHNICAL SERVICES",54,125,657,25818407,756,{"$f":"IF(County!G905=0,\"0\",IF(County!G905<5,\"*\",ROUND((G905*1),-1)))","v":660},{"$f":"ROUND((H905),-2)","v":25818400},39100]
[null,67,5,"MANAGEMENT OF COMPANIES AND ENTERPRISES",55,9,28,1184971,814,{"$f":"IF(County!G906=0,\"0\",IF(County!G906<5,\"*\",ROUND((G906*1),-1)))","v":30},1185000,39500]
[null,67,5,"ADMINISTRATIVE AND WASTE SERVICES",56,76,1966,46932379,459,{"$f":"IF(County!G907=0,\"0\",IF(County!G907<5,\"*\",ROUND((G907*1),-1)))","v":1970},46932400,23800]
[null,67,5,"EDUCATIONAL SERVICES",61,17,151,3455063,440,{"$f":"IF(County!G908=0,\"0\",IF(County!G908<5,\"*\",ROUND((G908*1),-1)))","v":150},3455100,23000]
[null,67,5,"HEALTH CARE AND SOCIAL ASSISTANCE",62,178,5405,220009674,783,{"$f":"IF(County!G909=0,\"0\",IF(County!G909<5,\"*\",ROUND((G909*1),-1)))","v":5410},220009700,40700]
[null,67,5,"ARTS, ENTERTAINMENT, AND RECREATION",71,15,161,2343167,280,{"$f":"IF(County!G910=0,\"0\",IF(County!G910<5,\"*\",ROUND((G910*1),-1)))","v":160},2343200,14600]
[null,67,5,"ACCOMMODATION AND FOOD SERVICES",72,183,3974,51024384,247,{"$f":"IF(County!G911=0,\"0\",IF(County!G911<5,\"*\",ROUND((G911*1),-1)))","v":3970},51024400,12900]
[null,67,5,"OTHER SERVICES, EXCEPT PUBLIC ADMIN",81,141,1000,22262731,428,{"$f":"IF(County!G912=0,\"0\",IF(County!G912<5,\"*\",ROUND((G912*1),-1)))","v":1000},22262700,22300]
[null,67,3,"LOCAL GOVERNMENT",11,45,3576,118010864,635,{"$f":"IF(County!G913=0,\"0\",IF(County!G913<5,\"*\",ROUND((G913*1),-1)))","v":3580},118010900,33000]
[null,67,3,"EDUCATIONAL SERVICES",61,27,2201,69052506,603,{"$f":"IF(County!G914=0,\"0\",IF(County!G914<5,\"*\",ROUND((G914*1),-1)))","v":2200},69052500,31400]
[null,67,3,"HEALTH CARE AND SOCIAL ASSISTANCE",62,0,0,0,0,{"$f":"IF(County!G915=0,\"0\",IF(County!G915<5,\"*\",ROUND((G915*1),-1)))","v":"0"},0,0]
[null,67,2,"STATE GOVERNMENT",11,19,994,31034573,600,{"$f":"IF(County!G916=0,\"0\",IF(County!G916<5,\"*\",ROUND((G916*1),-1)))","v":990},31034600,31300]
["D",67,2,"EDUCATIONAL SERVICES",61,2,867,26224592,582,{"$f":"IF(County!G917=0,\"0\",IF(County!G917<5,\"*\",ROUND((G917*1),-1)))","v":870},26224600,30100]
[null,67,2,"HEALTH CARE AND SOCIAL ASSISTANCE",62,0,0,0,0,{"$f":"IF(County!G918=0,\"0\",IF(County!G918<5,\"*\",ROUND((G918*1),-1)))","v":"0"},0,0]
[null,67,"U","TOTAL UI COVERED",11,1673,38266,1732586600,871,{"$f":"IF(County!G919=0,\"0\",IF(County!G919<5,\"*\",ROUND((G919*1),-1)))","v":38270},1732586600,45300]
[null,67,1,"FEDERAL GOVERNMENT",11,13,218,12839788,1133,{"$f":"IF(County!G920=0,\"0\",IF(County!G920<5,\"*\",ROUND((G920*1),-1)))","v":220},12839800,58400]
[null,69,5,"AGRICULTURE, FORESTRY, FISHING AND HUNTI",11,18,166,5778210,669,{"$f":"IF(County!G921=0,\"0\",IF(County!G921<5,\"*\",ROUND((G921*1),-1)))","v":170},5778200,34000]
["D",69,5,"MINING, QUARRYING, AND OIL AND GAS EXTRA",21,2,24,1726477,1383,{"$f":"IF(County!G922=0,\"0\",IF(County!G922<5,\"*\",ROUND((G922*1),-1)))","v":20},1726500,86300]
[null,69,5,"UTILITIES",22,3,49,3351194,1315,{"$f":"IF(County!G923=0,\"0\",IF(County!G923<5,\"*\",ROUND((G923*1),-1)))","v":50},3351200,67000]
[null,69,5,"CONSTRUCTION",23,69,440,20560447,899,{"$f":"IF(County!G924=0,\"0\",IF(County!G924<5,\"*\",ROUND((G924*1),-1)))","v":440},20560400,46700]
[null,69,5,"MANUFACTURING","31-33",70,3859,168259228,838,{"$f":"IF(County!G925=0,\"0\",IF(County!G925<5,\"*\",ROUND((G925*1),-1)))","v":3860},168259200,43600]
[null,69,5,"WHOLESALE TRADE",42,43,589,26396629,862,{"$f":"IF(County!G926=0,\"0\",IF(County!G926<5,\"*\",ROUND((G926*1),-1)))","v":590},26396600,44700]
[null,69,5,"RETAIL TRADE","44-45",126,1354,29929690,425,{"$f":"IF(County!G927=0,\"0\",IF(County!G927<5,\"*\",ROUND((G927*1),-1)))","v":1350},29929700,22200]
[null,69,5,"TRANSPORTATION AND WAREHOUSING","48-49",49,550,32780457,1146,{"$f":"IF(County!G928=0,\"0\",IF(County!G928<5,\"*\",ROUND((G928*1),-1)))","v":550},32780500,59600]
[null,69,5,"INFORMATION",51,11,385,15135838,756,{"$f":"IF(County!G929=0,\"0\",IF(County!G929<5,\"*\",ROUND((G929*1),-1)))","v":390},15135800,38800]
[null,69,5,"FINANCE AND INSURANCE",52,62,477,21439313,864,{"$f":"IF(County!G930=0,\"0\",IF(County!G930<5,\"*\",ROUND((G930*1),-1)))","v":480},21439300,44700]
[null,69,5,"REAL ESTATE AND RENTAL AND LEASING",53,32,89,1968800,425,{"$f":"IF(County!G931=0,\"0\",IF(County!G931<5,\"*\",ROUND((G931*1),-1)))","v":90},1968800,21900]
[null,69,5,"PROFESSIONAL AND TECHNICAL SERVICES",54,58,179,6626706,712,{"$f":"IF(County!G932=0,\"0\",IF(County!G932<5,\"*\",ROUND((G932*1),-1)))","v":180},6626700,36800]
["D",69,5,"MANAGEMENT OF COMPANIES AND ENTERPRISES",55,2,39,2656319,1310,{"$f":"IF(County!G933=0,\"0\",IF(County!G933<5,\"*\",ROUND((G933*1),-1)))","v":40},2656300,66400]
[null,69,5,"ADMINISTRATIVE AND WASTE SERVICES",56,30,778,15012183,371,{"$f":"IF(County!G934=0,\"0\",IF(County!G934<5,\"*\",ROUND((G934*1),-1)))","v":780},15012200,19200]
[null,69,5,"EDUCATIONAL SERVICES",61,8,307,9629931,603,{"$f":"IF(County!G935=0,\"0\",IF(County!G935<5,\"*\",ROUND((G935*1),-1)))","v":310},9629900,31100]
[null,69,5,"HEALTH CARE AND SOCIAL ASSISTANCE",62,54,1666,47360908,547,{"$f":"IF(County!G936=0,\"0\",IF(County!G936<5,\"*\",ROUND((G936*1),-1)))","v":1670},47360900,28400]
[null,69,5,"ARTS, ENTERTAINMENT, AND RECREATION",71,13,49,484950,190,{"$f":"IF(County!G937=0,\"0\",IF(County!G937<5,\"*\",ROUND((G937*1),-1)))","v":50},485000,9700]
[null,69,5,"ACCOMMODATION AND FOOD SERVICES",72,83,1081,13008399,231,{"$f":"IF(County!G938=0,\"0\",IF(County!G938<5,\"*\",ROUND((G938*1),-1)))","v":1080},13008400,12000]
[null,69,5,"OTHER SERVICES, EXCEPT PUBLIC ADMIN",81,80,535,9352629,336,{"$f":"IF(County!G939=0,\"0\",IF(County!G939<5,\"*\",ROUND((G939*1),-1)))","v":540},9352600,17300]
[null,69,3,"LOCAL GOVERNMENT",11,31,1295,43262432,642,{"$f":"IF(County!G940=0,\"0\",IF(County!G940<5,\"*\",ROUND((G940*1),-1)))","v":1300},43262400,33300]
["D",69,3,"EDUCATIONAL SERVICES",61,11,842,28408218,649,{"$f":"IF(County!G941=0,\"0\",IF(County!G941<5,\"*\",ROUND((G941*1),-1)))","v":840},28408200,33800]
["D",69,3,"HEALTH CARE AND SOCIAL ASSISTANCE",62,1,9,474331,1014,{"$f":"IF(County!G942=0,\"0\",IF(County!G942<5,\"*\",ROUND((G942*1),-1)))","v":10},474300,47400]
[null,69,2,"STATE GOVERNMENT",11,15,106,3810503,691,{"$f":"IF(County!G943=0,\"0\",IF(County!G943<5,\"*\",ROUND((G943*1),-1)))","v":110},3810500,34600]
[null,69,2,"EDUCATIONAL SERVICES",61,0,0,0,0,{"$f":"IF(County!G944=0,\"0\",IF(County!G944<5,\"*\",ROUND((G944*1),-1)))","v":"0"},0,0]
[null,69,2,"HEALTH CARE AND SOCIAL ASSISTANCE",62,0,0,0,0,{"$f":"IF(County!G945=0,\"0\",IF(County!G945<5,\"*\",ROUND((G945*1),-1)))","v":"0"},0,0]
[null,69,"U","TOTAL UI COVERED",11,858,14017,478531243,657,{"$f":"IF(County!G946=0,\"0\",IF(County!G946<5,\"*\",ROUND((G946*1),-1)))","v":14020},478531200,34100]
[null,69,1,"FEDERAL GOVERNMENT",11,8,83,4198663,973,{"$f":"IF(County!G947=0,\"0\",IF(County!G947<5,\"*\",ROUND((G947*1),-1)))","v":80},4198700,52500]
["D",71,5,"AGRICULTURE, FORESTRY, FISHING AND HUNTI",11,22,572,22747796,765,{"$f":"IF(County!G948=0,\"0\",IF(County!G948<5,\"*\",ROUND((G948*1),-1)))","v":570},22747800,39900]
["D",71,5,"MINING, QUARRYING, AND OIL AND GAS EXTRA",21,1,4,164922,793,{"$f":"IF(County!G949=0,\"0\",IF(County!G949<5,\"*\",ROUND((G949*1),-1)))","v":"*"},164900,"*"]
[null,71,5,"UTILITIES",22,5,114,7726768,1303,{"$f":"IF(County!G950=0,\"0\",IF(County!G950<5,\"*\",ROUND((G950*1),-1)))","v":110},7726800,70200]
[null,71,5,"CONSTRUCTION",23,92,561,22329428,765,{"$f":"IF(County!G951=0,\"0\",IF(County!G951<5,\"*\",ROUND((G951*1),-1)))","v":560},22329400,39900]
[null,71,5,"MANUFACTURING","31-33",69,6368,329111510,994,{"$f":"IF(County!G952=0,\"0\",IF(County!G952<5,\"*\",ROUND((G952*1),-1)))","v":6370},329111500,51700]
[null,71,5,"WHOLESALE TRADE",42,54,683,30191394,850,{"$f":"IF(County!G953=0,\"0\",IF(County!G953<5,\"*\",ROUND((G953*1),-1)))","v":680},30191400,44400]
[null,71,5,"RETAIL TRADE","44-45",168,2141,51323744,461,{"$f":"IF(County!G954=0,\"0\",IF(County!G954<5,\"*\",ROUND((G954*1),-1)))","v":2140},51323700,24000]
[null,71,5,"TRANSPORTATION AND WAREHOUSING","48-49",53,1590,71417661,864,{"$f":"IF(County!G955=0,\"0\",IF(County!G955<5,\"*\",ROUND((G955*1),-1)))","v":1590},71417700,44900]
[null,71,5,"INFORMATION",51,6,67,1782801,512,{"$f":"IF(County!G956=0,\"0\",IF(County!G956<5,\"*\",ROUND((G956*1),-1)))","v":70},1782800,25500]
[null,71,5,"FINANCE AND INSURANCE",52,66,381,16572595,836,{"$f":"IF(County!G957=0,\"0\",IF(County!G957<5,\"*\",ROUND((G957*1),-1)))","v":380},16572600,43600]
[null,71,5,"REAL ESTATE AND RENTAL AND LEASING",53,38,111,2699064,468,{"$f":"IF(County!G958=0,\"0\",IF(County!G958<5,\"*\",ROUND((G958*1),-1)))","v":110},2699100,24500]
[null,71,5,"PROFESSIONAL AND TECHNICAL SERVICES",54,56,263,9380436,686,{"$f":"IF(County!G959=0,\"0\",IF(County!G959<5,\"*\",ROUND((G959*1),-1)))","v":260},9380400,36100]
[null,71,5,"MANAGEMENT OF COMPANIES AND ENTERPRISES",55,10,99,7255006,1409,{"$f":"IF(County!G960=0,\"0\",IF(County!G960<5,\"*\",ROUND((G960*1),-1)))","v":100},7255000,72600]
[null,71,5,"ADMINISTRATIVE AND WASTE SERVICES",56,30,1165,39964117,660,{"$f":"IF(County!G961=0,\"0\",IF(County!G961<5,\"*\",ROUND((G961*1),-1)))","v":1170},39964100,34200]
[null,71,5,"EDUCATIONAL SERVICES",61,3,14,112904,155,{"$f":"IF(County!G962=0,\"0\",IF(County!G962<5,\"*\",ROUND((G962*1),-1)))","v":10},112900,11300]
[null,71,5,"HEALTH CARE AND SOCIAL ASSISTANCE",62,86,1153,38227554,638,{"$f":"IF(County!G963=0,\"0\",IF(County!G963<5,\"*\",ROUND((G963*1),-1)))","v":1150},38227600,33200]
[null,71,5,"ARTS, ENTERTAINMENT, AND RECREATION",71,8,74,851077,221,{"$f":"IF(County!G964=0,\"0\",IF(County!G964<5,\"*\",ROUND((G964*1),-1)))","v":70},851100,{"$f":"IF(G964=0,0,IF(J964=\"*\",\"*\",ROUND((K964/J964),-2)))","v":12200}]
[null,71,5,"ACCOMMODATION AND FOOD SERVICES",72,86,1425,18483113,249,{"$f":"IF(County!G965=0,\"0\",IF(County!G965<5,\"*\",ROUND((G965*1),-1)))","v":1430},18483100,12900]
[null,71,5,"OTHER SERVICES, EXCEPT PUBLIC ADMIN",81,71,390,9126829,450,{"$f":"IF(County!G966=0,\"0\",IF(County!G966<5,\"*\",ROUND((G966*1),-1)))","v":390},9126800,23400]
[null,71,3,"LOCAL GOVERNMENT",11,31,2537,100317213,760,{"$f":"IF(County!G967=0,\"0\",IF(County!G967<5,\"*\",ROUND((G967*1),-1)))","v":2540},100317200,39500]
[null,71,3,"EDUCATIONAL SERVICES",61,11,1037,34898031,647,{"$f":"IF(County!G968=0,\"0\",IF(County!G968<5,\"*\",ROUND((G968*1),-1)))","v":1040},34898000,33600]
["D",71,3,"HEALTH CARE AND SOCIAL ASSISTANCE",62,1,869,46337683,1025,{"$f":"IF(County!G969=0,\"0\",IF(County!G969<5,\"*\",ROUND((G969*1),-1)))","v":870},{"$f":"ROUND((H969),-2)","v":46337700},53300]
[null,71,2,"STATE GOVERNMENT",11,18,283,12711952,864,{"$f":"IF(County!G970=0,\"0\",IF(County!G970<5,\"*\",ROUND((G970*1),-1)))","v":280},12712000,45400]
[null,71,2,"EDUCATIONAL SERVICES",61,0,0,0,0,{"$f":"IF(County!G971=0,\"0\",IF(County!G971<5,\"*\",ROUND((G971*1),-1)))","v":"0"},0,0]
[null,71,2,"HEALTH CARE AND SOCIAL ASSISTANCE",62,0,0,0,0,{"$f":"IF(County!G972=0,\"0\",IF(County!G972<5,\"*\",ROUND((G972*1),-1)))","v":"0"},0,0]
[null,71,"U","TOTAL UI COVERED",11,969,19990,792497884,762,{"$f":"IF(County!G973=0,\"0\",IF(County!G973<5,\"*\",ROUND((G973*1),-1)))","v":19990},792497900,39600]
[null,71,1,"FEDERAL GOVERNMENT",11,11,85,4429836,1002,{"$f":"IF(County!G974=0,\"0\",IF(County!G974<5,\"*\",ROUND((G974*1),-1)))","v":90},4429800,49200]
[null,73,5,"AGRICULTURE, FORESTRY, FISHING AND HUNTI",11,43,744,39299291,1016,{"$f":"IF(County!G975=0,\"0\",IF(County!G975<5,\"*\",ROUND((G975*1),-1)))","v":740},39299300,53100]
["D",73,5,"MINING, QUARRYING, AND OIL AND GAS EXTRA",21,4,25,1467400,1129,{"$f":"IF(County!G976=0,\"0\",IF(County!G976<5,\"*\",ROUND((G976*1),-1)))","v":30},1467400,48900]
["D",73,5,"UTILITIES",22,2,299,33059492,2126,{"$f":"IF(County!G977=0,\"0\",IF(County!G977<5,\"*\",ROUND((G977*1),-1)))","v":300},33059500,110200]
[null,73,5,"CONSTRUCTION",23,100,753,37079760,947,{"$f":"IF(County!G978=0,\"0\",IF(County!G978<5,\"*\",ROUND((G978*1),-1)))","v":750},37079800,49400]
[null,73,5,"MANUFACTURING","31-33",35,1405,65896892,902,{"$f":"IF(County!G979=0,\"0\",IF(County!G979<5,\"*\",ROUND((G979*1),-1)))","v":1410},65896900,46700]
[null,73,5,"WHOLESALE TRADE",42,43,418,21829227,1004,{"$f":"IF(County!G980=0,\"0\",IF(County!G980<5,\"*\",ROUND((G980*1),-1)))","v":420},21829200,52000]
[null,73,5,"RETAIL TRADE","44-45",120,1418,32968952,447,{"$f":"IF(County!G981=0,\"0\",IF(County!G981<5,\"*\",ROUND((G981*1),-1)))","v":1420},32969000,23200]
[null,73,5,"TRANSPORTATION AND WAREHOUSING","48-49",71,1548,58995517,733,{"$f":"IF(County!G982=0,\"0\",IF(County!G982<5,\"*\",ROUND((G982*1),-1)))","v":1550},58995500,38100]
[null,73,5,"INFORMATION",51,13,112,4556433,782,{"$f":"IF(County!G983=0,\"0\",IF(County!G983<5,\"*\",ROUND((G983*1),-1)))","v":110},4556400,41400]
[null,73,5,"FINANCE AND INSURANCE",52,40,237,9014296,731,{"$f":"IF(County!G984=0,\"0\",IF(County!G984<5,\"*\",ROUND((G984*1),-1)))","v":240},9014300,37600]
[null,73,5,"REAL ESTATE AND RENTAL AND LEASING",53,25,85,2241748,507,{"$f":"IF(County!G985=0,\"0\",IF(County!G985<5,\"*\",ROUND((G985*1),-1)))","v":90},2241700,24900]
[null,73,5,"PROFESSIONAL AND TECHNICAL SERVICES",54,52,161,5805544,693,{"$f":"IF(County!G986=0,\"0\",IF(County!G986<5,\"*\",ROUND((G986*1),-1)))","v":160},5805500,36300]
[null,73,5,"MANAGEMENT OF COMPANIES AND ENTERPRISES",55,4,38,2606739,1319,{"$f":"IF(County!G987=0,\"0\",IF(County!G987<5,\"*\",ROUND((G987*1),-1)))","v":40},2606700,65200]
[null,73,5,"ADMINISTRATIVE AND WASTE SERVICES",56,28,272,7075136,500,{"$f":"IF(County!G988=0,\"0\",IF(County!G988<5,\"*\",ROUND((G988*1),-1)))","v":270},7075100,26200]
[null,73,5,"EDUCATIONAL SERVICES",61,5,277,9928740,689,{"$f":"IF(County!G989=0,\"0\",IF(County!G989<5,\"*\",ROUND((G989*1),-1)))","v":280},9928700,35500]
[null,73,5,"HEALTH CARE AND SOCIAL ASSISTANCE",62,46,870,23468319,519,{"$f":"IF(County!G990=0,\"0\",IF(County!G990<5,\"*\",ROUND((G990*1),-1)))","v":870},23468300,27000]
[null,73,5,"ARTS, ENTERTAINMENT, AND RECREATION",71,10,79,1075739,262,{"$f":"IF(County!G991=0,\"0\",IF(County!G991<5,\"*\",ROUND((G991*1),-1)))","v":80},1075700,13400]
[null,73,5,"ACCOMMODATION AND FOOD SERVICES",72,64,1008,11349652,217,{"$f":"IF(County!G992=0,\"0\",IF(County!G992<5,\"*\",ROUND((G992*1),-1)))","v":1010},11349700,11200]
[null,73,5,"OTHER SERVICES, EXCEPT PUBLIC ADMIN",81,60,183,3534923,371,{"$f":"IF(County!G993=0,\"0\",IF(County!G993<5,\"*\",ROUND((G993*1),-1)))","v":180},3534900,19600]
[null,73,3,"LOCAL GOVERNMENT",11,26,1778,54422163,589,{"$f":"IF(County!G994=0,\"0\",IF(County!G994<5,\"*\",ROUND((G994*1),-1)))","v":1780},54422200,30600]
["D",73,3,"EDUCATIONAL SERVICES",61,10,859,25030539,560,{"$f":"IF(County!G995=0,\"0\",IF(County!G995<5,\"*\",ROUND((G995*1),-1)))","v":860},25030500,29100]
["D",73,3,"HEALTH CARE AND SOCIAL ASSISTANCE",62,5,501,16332257,627,{"$f":"IF(County!G996=0,\"0\",IF(County!G996<5,\"*\",ROUND((G996*1),-1)))","v":500},16332300,32700]
[null,73,2,"STATE GOVERNMENT",11,13,79,3095966,754,{"$f":"IF(County!G997=0,\"0\",IF(County!G997<5,\"*\",ROUND((G997*1),-1)))","v":80},3096000,38700]
[null,73,2,"EDUCATIONAL SERVICES",61,0,0,0,0,{"$f":"IF(County!G998=0,\"0\",IF(County!G998<5,\"*\",ROUND((G998*1),-1)))","v":"0"},0,0]
[null,73,2,"HEALTH CARE AND SOCIAL ASSISTANCE",62,0,0,0,0,{"$f":"IF(County!G999=0,\"0\",IF(County!G999<5,\"*\",ROUND((G999*1),-1)))","v":"0"},0,0]
[null,73,"U","TOTAL UI COVERED",11,804,11789,428771929,699,{"$f":"IF(County!G1000=0,\"0\",IF(County!G1000<5,\"*\",ROUND((G1000*1),-1)))","v":11790},428771900,36400]
[null,73,1,"FEDERAL GOVERNMENT",11,8,88,4405334,963,{"$f":"IF(County!G1001=0,\"0\",IF(County!G1001<5,\"*\",ROUND((G1001*1),-1)))","v":90},4405300,48900]
[null,75,5,"AGRICULTURE, FORESTRY, FISHING AND HUNTI",11,11,169,4504016,513,{"$f":"IF(County!G1002=0,\"0\",IF(County!G1002<5,\"*\",ROUND((G1002*1),-1)))","v":170},4504000,26500]
["D",75,5,"MINING, QUARRYING, AND OIL AND GAS EXTRA",21,1,18,944466,1009,{"$f":"IF(County!G1003=0,\"0\",IF(County!G1003<5,\"*\",ROUND((G1003*1),-1)))","v":20},944500,47200]
["D",75,5,"UTILITIES",22,3,27,1553388,1106,{"$f":"IF(County!G1004=0,\"0\",IF(County!G1004<5,\"*\",ROUND((G1004*1),-1)))","v":30},1553400,51800]
[null,75,5,"CONSTRUCTION",23,41,225,7519455,643,{"$f":"IF(County!G1005=0,\"0\",IF(County!G1005<5,\"*\",ROUND((G1005*1),-1)))","v":230},7519500,32700]
[null,75,5,"MANUFACTURING","31-33",35,3133,127148216,780,{"$f":"IF(County!G1006=0,\"0\",IF(County!G1006<5,\"*\",ROUND((G1006*1),-1)))","v":3130},127148200,40600]
[null,75,5,"WHOLESALE TRADE",42,21,239,10785849,868,{"$f":"IF(County!G1007=0,\"0\",IF(County!G1007<5,\"*\",ROUND((G1007*1),-1)))","v":240},10785800,44900]
[null,75,5,"RETAIL TRADE","44-45",55,603,12620614,402,{"$f":"IF(County!G1008=0,\"0\",IF(County!G1008<5,\"*\",ROUND((G1008*1),-1)))","v":600},12620600,21000]
[null,75,5,"TRANSPORTATION AND WAREHOUSING","48-49",9,45,2046289,874,{"$f":"IF(County!G1009=0,\"0\",IF(County!G1009<5,\"*\",ROUND((G1009*1),-1)))","v":50},2046300,40900]
[null,75,5,"INFORMATION",51,7,68,1685695,477,{"$f":"IF(County!G1010=0,\"0\",IF(County!G1010<5,\"*\",ROUND((G1010*1),-1)))","v":70},1685700,24100]
[null,75,5,"FINANCE AND INSURANCE",52,34,166,5844089,677,{"$f":"IF(County!G1011=0,\"0\",IF(County!G1011<5,\"*\",ROUND((G1011*1),-1)))","v":170},5844100,34400]
[null,75,5,"REAL ESTATE AND RENTAL AND LEASING",53,13,25,435426,335,{"$f":"IF(County!G1012=0,\"0\",IF(County!G1012<5,\"*\",ROUND((G1012*1),-1)))","v":30},435400,14500]
[null,75,5,"PROFESSIONAL AND TECHNICAL SERVICES",54,18,110,3756012,657,{"$f":"IF(County!G1013=0,\"0\",IF(County!G1013<5,\"*\",ROUND((G1013*1),-1)))","v":110},3756000,34100]
[null,75,5,"MANAGEMENT OF COMPANIES AND ENTERPRISES",55,4,90,2252644,481,{"$f":"IF(County!G1014=0,\"0\",IF(County!G1014<5,\"*\",ROUND((G1014*1),-1)))","v":90},2252600,25000]
[null,75,5,"ADMINISTRATIVE AND WASTE SERVICES",56,16,192,3631112,364,{"$f":"IF(County!G1015=0,\"0\",IF(County!G1015<5,\"*\",ROUND((G1015*1),-1)))","v":190},3631100,19100]
[null,75,5,"EDUCATIONAL SERVICES",61,3,22,578468,506,{"$f":"IF(County!G1016=0,\"0\",IF(County!G1016<5,\"*\",ROUND((G1016*1),-1)))","v":20},578500,28900]
[null,75,5,"HEALTH CARE AND SOCIAL ASSISTANCE",62,18,477,12656499,510,{"$f":"IF(County!G1017=0,\"0\",IF(County!G1017<5,\"*\",ROUND((G1017*1),-1)))","v":480},12656500,26400]
[null,75,5,"ARTS, ENTERTAINMENT, AND RECREATION",71,5,20,161762,156,{"$f":"IF(County!G1018=0,\"0\",IF(County!G1018<5,\"*\",ROUND((G1018*1),-1)))","v":20},161800,8100]
[null,75,5,"ACCOMMODATION AND FOOD SERVICES",72,29,453,4879087,207,{"$f":"IF(County!G1019=0,\"0\",IF(County!G1019<5,\"*\",ROUND((G1019*1),-1)))","v":450},4879100,10800]
[null,75,5,"OTHER SERVICES, EXCEPT PUBLIC ADMIN",81,36,143,2196516,295,{"$f":"IF(County!G1020=0,\"0\",IF(County!G1020<5,\"*\",ROUND((G1020*1),-1)))","v":140},2196500,15700]
[null,75,3,"LOCAL GOVERNMENT",11,20,1235,39792510,620,{"$f":"IF(County!G1021=0,\"0\",IF(County!G1021<5,\"*\",ROUND((G1021*1),-1)))","v":1240},39792500,32100]
["D",75,3,"EDUCATIONAL SERVICES",61,11,493,16358234,638,{"$f":"IF(County!G1022=0,\"0\",IF(County!G1022<5,\"*\",ROUND((G1022*1),-1)))","v":490},16358200,33400]
["D",75,3,"HEALTH CARE AND SOCIAL ASSISTANCE",62,1,314,13313409,815,{"$f":"IF(County!G1023=0,\"0\",IF(County!G1023<5,\"*\",ROUND((G1023*1),-1)))","v":310},13313400,42900]
[null,75,2,"STATE GOVERNMENT",11,12,44,1888856,826,{"$f":"IF(County!G1024=0,\"0\",IF(County!G1024<5,\"*\",ROUND((G1024*1),-1)))","v":40},1888900,47200]
[null,75,2,"EDUCATIONAL SERVICES",61,0,0,0,0,{"$f":"IF(County!G1025=0,\"0\",IF(County!G1025<5,\"*\",ROUND((G1025*1),-1)))","v":"0"},0,0]
[null,75,2,"HEALTH CARE AND SOCIAL ASSISTANCE",62,0,0,0,0,{"$f":"IF(County!G1026=0,\"0\",IF(County!G1026<5,\"*\",ROUND((G1026*1),-1)))","v":"0"},0,0]
[null,75,"U","TOTAL UI COVERED",11,389,7504,246880969,633,{"$f":"IF(County!G1027=0,\"0\",IF(County!G1027<5,\"*\",ROUND((G1027*1),-1)))","v":7500},246881000,32900]
[null,75,1,"FEDERAL GOVERNMENT",11,6,42,2025538,927,{"$f":"IF(County!G1028=0,\"0\",IF(County!G1028<5,\"*\",ROUND((G1028*1),-1)))","v":40},2025500,{"$f":"IF(G1028=0,0,IF(J1028=\"*\",\"*\",ROUND((K1028/J1028),-2)))","v":50600}]
["D",77,5,"AGRICULTURE, FORESTRY, FISHING AND HUNTI",11,4,23,649664,543,{"$f":"IF(County!G1029=0,\"0\",IF(County!G1029<5,\"*\",ROUND((G1029*1),-1)))","v":20},649700,32500]
[null,77,5,"MINING, QUARRYING, AND OIL AND GAS EXTRA",21,0,0,0,0,{"$f":"IF(County!G1030=0,\"0\",IF(County!G1030<5,\"*\",ROUND((G1030*1),-1)))","v":"0"},0,0]
["D",77,5,"UTILITIES",22,10,409,32775821,1541,{"$f":"IF(County!G1031=0,\"0\",IF(County!G1031<5,\"*\",ROUND((G1031*1),-1)))","v":410},32775800,79900]
[null,77,5,"CONSTRUCTION",23,54,251,9075362,695,{"$f":"IF(County!G1032=0,\"0\",IF(County!G1032<5,\"*\",ROUND((G1032*1),-1)))","v":250},9075400,36300]
[null,77,5,"MANUFACTURING","31-33",48,2933,142747926,936,{"$f":"IF(County!G1033=0,\"0\",IF(County!G1033<5,\"*\",ROUND((G1033*1),-1)))","v":2930},{"$f":"ROUND((H1033),-2)","v":142747900},48700]
[null,77,5,"WHOLESALE TRADE",42,20,138,6305533,879,{"$f":"IF(County!G1034=0,\"0\",IF(County!G1034<5,\"*\",ROUND((G1034*1),-1)))","v":140},6305500,45000]
[null,77,5,"RETAIL TRADE","44-45",120,1589,38634872,468,{"$f":"IF(County!G1035=0,\"0\",IF(County!G1035<5,\"*\",ROUND((G1035*1),-1)))","v":1590},38634900,24300]
[null,77,5,"TRANSPORTATION AND WAREHOUSING","48-49",16,182,6984120,738,{"$f":"IF(County!G1036=0,\"0\",IF(County!G1036<5,\"*\",ROUND((G1036*1),-1)))","v":180},6984100,38800]
[null,77,5,"INFORMATION",51,9,105,2561319,469,{"$f":"IF(County!G1037=0,\"0\",IF(County!G1037<5,\"*\",ROUND((G1037*1),-1)))","v":110},2561300,23300]
[null,77,5,"FINANCE AND INSURANCE",52,34,173,7528713,837,{"$f":"IF(County!G1038=0,\"0\",IF(County!G1038<5,\"*\",ROUND((G1038*1),-1)))","v":170},7528700,44300]
[null,77,5,"REAL ESTATE AND RENTAL AND LEASING",53,31,96,2771595,555,{"$f":"IF(County!G1039=0,\"0\",IF(County!G1039<5,\"*\",ROUND((G1039*1),-1)))","v":100},2771600,27700]
[null,77,5,"PROFESSIONAL AND TECHNICAL SERVICES",54,48,200,6852902,659,{"$f":"IF(County!G1040=0,\"0\",IF(County!G1040<5,\"*\",ROUND((G1040*1),-1)))","v":200},6852900,34300]
["D",77,5,"MANAGEMENT OF COMPANIES AND ENTERPRISES",55,2,40,1578303,759,{"$f":"IF(County!G1041=0,\"0\",IF(County!G1041<5,\"*\",ROUND((G1041*1),-1)))","v":40},1578300,39500]
[null,77,5,"ADMINISTRATIVE AND WASTE SERVICES",56,23,323,9536128,568,{"$f":"IF(County!G1042=0,\"0\",IF(County!G1042<5,\"*\",ROUND((G1042*1),-1)))","v":320},9536100,29800]
["D",77,5,"EDUCATIONAL SERVICES",61,5,366,16782163,882,{"$f":"IF(County!G1043=0,\"0\",IF(County!G1043<5,\"*\",ROUND((G1043*1),-1)))","v":370},16782200,45400]
[null,77,5,"HEALTH CARE AND SOCIAL ASSISTANCE",62,71,1623,71751282,850,{"$f":"IF(County!G1044=0,\"0\",IF(County!G1044<5,\"*\",ROUND((G1044*1),-1)))","v":1620},71751300,44300]
[null,77,5,"ARTS, ENTERTAINMENT, AND RECREATION",71,10,49,611105,240,{"$f":"IF(County!G1045=0,\"0\",IF(County!G1045<5,\"*\",ROUND((G1045*1),-1)))","v":50},611100,12200]
[null,77,5,"ACCOMMODATION AND FOOD SERVICES",72,74,1228,14171709,222,{"$f":"IF(County!G1046=0,\"0\",IF(County!G1046<5,\"*\",ROUND((G1046*1),-1)))","v":1230},14171700,11500]
[null,77,5,"OTHER SERVICES, EXCEPT PUBLIC ADMIN",81,50,249,4924273,380,{"$f":"IF(County!G1047=0,\"0\",IF(County!G1047<5,\"*\",ROUND((G1047*1),-1)))","v":250},4924300,19700]
[null,77,3,"LOCAL GOVERNMENT",11,18,1159,35033256,581,{"$f":"IF(County!G1048=0,\"0\",IF(County!G1048<5,\"*\",ROUND((G1048*1),-1)))","v":1160},35033300,30200]
[null,77,3,"EDUCATIONAL SERVICES",61,9,776,24960839,619,{"$f":"IF(County!G1049=0,\"0\",IF(County!G1049<5,\"*\",ROUND((G1049*1),-1)))","v":780},24960800,32000]
["D",77,3,"HEALTH CARE AND SOCIAL ASSISTANCE",62,1,8,115844,278,{"$f":"IF(County!G1050=0,\"0\",IF(County!G1050<5,\"*\",ROUND((G1050*1),-1)))","v":10},115800,11600]
[null,77,2,"STATE GOVERNMENT",11,22,1068,36057009,649,{"$f":"IF(County!G1051=0,\"0\",IF(County!G1051<5,\"*\",ROUND((G1051*1),-1)))","v":1070},36057000,33700]
["D",77,2,"EDUCATIONAL SERVICES",61,1,290,8350374,554,{"$f":"IF(County!G1052=0,\"0\",IF(County!G1052<5,\"*\",ROUND((G1052*1),-1)))","v":290},8350400,28800]
["D",77,2,"HEALTH CARE AND SOCIAL ASSISTANCE",62,1,348,14165556,783,{"$f":"IF(County!G1053=0,\"0\",IF(County!G1053<5,\"*\",ROUND((G1053*1),-1)))","v":350},14165600,40500]
[null,77,"U","TOTAL UI COVERED",11,667,12203,447333055,705,{"$f":"IF(County!G1054=0,\"0\",IF(County!G1054<5,\"*\",ROUND((G1054*1),-1)))","v":12200},447333100,36700]
[null,77,1,"FEDERAL GOVERNMENT",11,10,79,4213215,1026,{"$f":"IF(County!G1055=0,\"0\",IF(County!G1055<5,\"*\",ROUND((G1055*1),-1)))","v":80},4213200,52700]
["D",79,5,"AGRICULTURE, FORESTRY, FISHING AND HUNTI",11,4,98,2707807,531,{"$f":"IF(County!G1056=0,\"0\",IF(County!G1056<5,\"*\",ROUND((G1056*1),-1)))","v":100},2707800,27100]
["D",79,5,"MINING, QUARRYING, AND OIL AND GAS EXTRA",21,2,19,862183,873,{"$f":"IF(County!G1057=0,\"0\",IF(County!G1057<5,\"*\",ROUND((G1057*1),-1)))","v":20},862200,43100]
[null,79,5,"UTILITIES",22,3,21,813018,745,{"$f":"IF(County!G1058=0,\"0\",IF(County!G1058<5,\"*\",ROUND((G1058*1),-1)))","v":20},813000,40700]
[null,79,5,"CONSTRUCTION",23,38,609,29580967,934,{"$f":"IF(County!G1059=0,\"0\",IF(County!G1059<5,\"*\",ROUND((G1059*1),-1)))","v":610},29581000,48500]
[null,79,5,"MANUFACTURING","31-33",41,1926,78520713,784,{"$f":"IF(County!G1060=0,\"0\",IF(County!G1060<5,\"*\",ROUND((G1060*1),-1)))","v":1930},78520700,40700]
[null,79,5,"WHOLESALE TRADE",42,16,234,8743778,719,{"$f":"IF(County!G1061=0,\"0\",IF(County!G1061<5,\"*\",ROUND((G1061*1),-1)))","v":230},8743800,38000]
[null,79,5,"RETAIL TRADE","44-45",53,691,16148560,449,{"$f":"IF(County!G1062=0,\"0\",IF(County!G1062<5,\"*\",ROUND((G1062*1),-1)))","v":690},16148600,23400]
["D",79,5,"TRANSPORTATION AND WAREHOUSING","48-49",19,909,31004011,656,{"$f":"IF(County!G1063=0,\"0\",IF(County!G1063<5,\"*\",ROUND((G1063*1),-1)))","v":910},31004000,34100]
[null,79,5,"INFORMATION",51,3,19,503554,510,{"$f":"IF(County!G1064=0,\"0\",IF(County!G1064<5,\"*\",ROUND((G1064*1),-1)))","v":20},503600,25200]
[null,79,5,"FINANCE AND INSURANCE",52,19,94,3505497,717,{"$f":"IF(County!G1065=0,\"0\",IF(County!G1065<5,\"*\",ROUND((G1065*1),-1)))","v":90},3505500,39000]
[null,79,5,"REAL ESTATE AND RENTAL AND LEASING",53,13,42,2007474,919,{"$f":"IF(County!G1066=0,\"0\",IF(County!G1066<5,\"*\",ROUND((G1066*1),-1)))","v":40},2007500,50200]
[null,79,5,"PROFESSIONAL AND TECHNICAL SERVICES",54,19,73,3274060,863,{"$f":"IF(County!G1067=0,\"0\",IF(County!G1067<5,\"*\",ROUND((G1067*1),-1)))","v":70},3274100,46800]
[null,79,5,"MANAGEMENT OF COMPANIES AND ENTERPRISES",55,0,0,0,0,{"$f":"IF(County!G1068=0,\"0\",IF(County!G1068<5,\"*\",ROUND((G1068*1),-1)))","v":"0"},0,0]
[null,79,5,"ADMINISTRATIVE AND WASTE SERVICES",56,11,67,1732719,497,{"$f":"IF(County!G1069=0,\"0\",IF(County!G1069<5,\"*\",ROUND((G1069*1),-1)))","v":70},1732700,24800]
[null,79,5,"EDUCATIONAL SERVICES",61,4,32,574028,345,{"$f":"IF(County!G1070=0,\"0\",IF(County!G1070<5,\"*\",ROUND((G1070*1),-1)))","v":30},574000,19100]
[null,79,5,"HEALTH CARE AND SOCIAL ASSISTANCE",62,54,692,21373232,594,{"$f":"IF(County!G1071=0,\"0\",IF(County!G1071<5,\"*\",ROUND((G1071*1),-1)))","v":690},21373200,31000]
[null,79,5,"ARTS, ENTERTAINMENT, AND RECREATION",71,4,8,38875,93,{"$f":"IF(County!G1072=0,\"0\",IF(County!G1072<5,\"*\",ROUND((G1072*1),-1)))","v":10},38900,3900]
[null,79,5,"ACCOMMODATION AND FOOD SERVICES",72,25,343,4225563,237,{"$f":"IF(County!G1073=0,\"0\",IF(County!G1073<5,\"*\",ROUND((G1073*1),-1)))","v":340},4225600,12400]
[null,79,5,"OTHER SERVICES, EXCEPT PUBLIC ADMIN",81,26,97,2022772,401,{"$f":"IF(County!G1074=0,\"0\",IF(County!G1074<5,\"*\",ROUND((G1074*1),-1)))","v":100},2022800,20200]
[null,79,3,"LOCAL GOVERNMENT",11,20,1020,33772292,637,{"$f":"IF(County!G1075=0,\"0\",IF(County!G1075<5,\"*\",ROUND((G1075*1),-1)))","v":1020},33772300,33100]
["D",79,3,"EDUCATIONAL SERVICES",61,11,727,25308074,669,{"$f":"IF(County!G1076=0,\"0\",IF(County!G1076<5,\"*\",ROUND((G1076*1),-1)))","v":730},25308100,34700]
[null,79,3,"HEALTH CARE AND SOCIAL ASSISTANCE",62,0,0,0,0,{"$f":"IF(County!G1077=0,\"0\",IF(County!G1077<5,\"*\",ROUND((G1077*1),-1)))","v":"0"},0,0]
[null,79,2,"STATE GOVERNMENT",11,12,166,6284069,728,{"$f":"IF(County!G1078=0,\"0\",IF(County!G1078<5,\"*\",ROUND((G1078*1),-1)))","v":170},6284100,37000]
[null,79,2,"EDUCATIONAL SERVICES",61,0,0,0,0,{"$f":"IF(County!G1079=0,\"0\",IF(County!G1079<5,\"*\",ROUND((G1079*1),-1)))","v":"0"},0,0]
[null,79,2,"HEALTH CARE AND SOCIAL ASSISTANCE",62,0,0,0,0,{"$f":"IF(County!G1080=0,\"0\",IF(County!G1080<5,\"*\",ROUND((G1080*1),-1)))","v":"0"},0,0]
[null,79,"U","TOTAL UI COVERED",11,383,7160,247695172,665,{"$f":"IF(County!G1081=0,\"0\",IF(County!G1081<5,\"*\",ROUND((G1081*1),-1)))","v":7160},247695200,34600]
[null,79,1,"FEDERAL GOVERNMENT",11,12,69,3763030,1049,{"$f":"IF(County!G1082=0,\"0\",IF(County!G1082<5,\"*\",ROUND((G1082*1),-1)))","v":70},3763000,53800]
[null,81,5,"AGRICULTURE, FORESTRY, FISHING AND HUNTI",11,13,113,3741320,637,{"$f":"IF(County!G1083=0,\"0\",IF(County!G1083<5,\"*\",ROUND((G1083*1),-1)))","v":110},3741300,34000]
[null,81,5,"MINING, QUARRYING, AND OIL AND GAS EXTRA",21,3,21,1133536,1038,{"$f":"IF(County!G1084=0,\"0\",IF(County!G1084<5,\"*\",ROUND((G1084*1),-1)))","v":20},1133500,56700]
[null,81,5,"UTILITIES",22,6,118,8552519,1394,{"$f":"IF(County!G1085=0,\"0\",IF(County!G1085<5,\"*\",ROUND((G1085*1),-1)))","v":120},8552500,71300]
[null,81,5,"CONSTRUCTION",23,352,2064,92171337,859,{"$f":"IF(County!G1086=0,\"0\",IF(County!G1086<5,\"*\",ROUND((G1086*1),-1)))","v":2060},92171300,44700]
[null,81,5,"MANUFACTURING","31-33",144,5375,270874713,969,{"$f":"IF(County!G1087=0,\"0\",IF(County!G1087<5,\"*\",ROUND((G1087*1),-1)))","v":5380},270874700,50300]
[null,81,5,"WHOLESALE TRADE",42,188,1996,107755463,1038,{"$f":"IF(County!G1088=0,\"0\",IF(County!G1088<5,\"*\",ROUND((G1088*1),-1)))","v":2000},107755500,53900]
[null,81,5,"RETAIL TRADE","44-45",467,8297,194133286,450,{"$f":"IF(County!G1089=0,\"0\",IF(County!G1089<5,\"*\",ROUND((G1089*1),-1)))","v":8300},194133300,23400]
[null,81,5,"TRANSPORTATION AND WAREHOUSING","48-49",93,2034,83173404,786,{"$f":"IF(County!G1090=0,\"0\",IF(County!G1090<5,\"*\",ROUND((G1090*1),-1)))","v":2030},83173400,41000]
[null,81,5,"INFORMATION",51,26,241,9989301,797,{"$f":"IF(County!G1091=0,\"0\",IF(County!G1091<5,\"*\",ROUND((G1091*1),-1)))","v":240},9989300,41600]
[null,81,5,"FINANCE AND INSURANCE",52,231,1028,53725619,1005,{"$f":"IF(County!G1092=0,\"0\",IF(County!G1092<5,\"*\",ROUND((G1092*1),-1)))","v":1030},53725600,{"$f":"IF(G1092=0,0,IF(J1092=\"*\",\"*\",ROUND((K1092/J1092),-2)))","v":52200}]
[null,81,5,"REAL ESTATE AND RENTAL AND LEASING",53,119,462,15109323,629,{"$f":"IF(County!G1093=0,\"0\",IF(County!G1093<5,\"*\",ROUND((G1093*1),-1)))","v":460},15109300,32800]
[null,81,5,"PROFESSIONAL AND TECHNICAL SERVICES",54,312,1157,57953736,963,{"$f":"IF(County!G1094=0,\"0\",IF(County!G1094<5,\"*\",ROUND((G1094*1),-1)))","v":1160},57953700,50000]
[null,81,5,"MANAGEMENT OF COMPANIES AND ENTERPRISES",55,26,184,12893449,1348,{"$f":"IF(County!G1095=0,\"0\",IF(County!G1095<5,\"*\",ROUND((G1095*1),-1)))","v":180},12893400,71600]
[null,81,5,"ADMINISTRATIVE AND WASTE SERVICES",56,185,3327,102230064,591,{"$f":"IF(County!G1096=0,\"0\",IF(County!G1096<5,\"*\",ROUND((G1096*1),-1)))","v":3330},102230100,30700]
[null,81,5,"EDUCATIONAL SERVICES",61,39,665,20420215,591,{"$f":"IF(County!G1097=0,\"0\",IF(County!G1097<5,\"*\",ROUND((G1097*1),-1)))","v":670},{"$f":"ROUND((H1097),-2)","v":20420200},30500]
[null,81,5,"HEALTH CARE AND SOCIAL ASSISTANCE",62,263,5702,217957963,735,{"$f":"IF(County!G1098=0,\"0\",IF(County!G1098<5,\"*\",ROUND((G1098*1),-1)))","v":5700},217958000,38200]
[null,81,5,"ARTS, ENTERTAINMENT, AND RECREATION",71,34,339,4921057,279,{"$f":"IF(County!G1099=0,\"0\",IF(County!G1099<5,\"*\",ROUND((G1099*1),-1)))","v":340},4921100,14500]
[null,81,5,"ACCOMMODATION AND FOOD SERVICES",72,278,6347,92329114,280,{"$f":"IF(County!G1100=0,\"0\",IF(County!G1100<5,\"*\",ROUND((G1100*1),-1)))","v":6350},92329100,14500]
[null,81,5,"OTHER SERVICES, EXCEPT PUBLIC ADMIN",81,252,1571,50307602,616,{"$f":"IF(County!G1101=0,\"0\",IF(County!G1101<5,\"*\",ROUND((G1101*1),-1)))","v":1570},50307600,32000]
[null,81,3,"LOCAL GOVERNMENT",11,63,6020,213232687,681,{"$f":"IF(County!G1102=0,\"0\",IF(County!G1102<5,\"*\",ROUND((G1102*1),-1)))","v":6020},213232700,35400]
[null,81,3,"EDUCATIONAL SERVICES",61,32,3383,117541820,668,{"$f":"IF(County!G1103=0,\"0\",IF(County!G1103<5,\"*\",ROUND((G1103*1),-1)))","v":3380},117541800,34800]
["D",81,3,"HEALTH CARE AND SOCIAL ASSISTANCE",62,5,737,35514698,927,{"$f":"IF(County!G1104=0,\"0\",IF(County!G1104<5,\"*\",ROUND((G1104*1),-1)))","v":740},35514700,48000]
[null,81,2,"STATE GOVERNMENT",11,22,345,12914826,720,{"$f":"IF(County!G1105=0,\"0\",IF(County!G1105<5,\"*\",ROUND((G1105*1),-1)))","v":350},12914800,36900]
[null,81,2,"EDUCATIONAL SERVICES",61,0,0,0,0,{"$f":"IF(County!G1106=0,\"0\",IF(County!G1106<5,\"*\",ROUND((G1106*1),-1)))","v":"0"},0,0]
[null,81,2,"HEALTH CARE AND SOCIAL ASSISTANCE",62,0,0,0,0,{"$f":"IF(County!G1107=0,\"0\",IF(County!G1107<5,\"*\",ROUND((G1107*1),-1)))","v":"0"},0,0]
[null,81,"U","TOTAL UI COVERED",11,3115,47404,1625520534,659,{"$f":"IF(County!G1108=0,\"0\",IF(County!G1108<5,\"*\",ROUND((G1108*1),-1)))","v":47400},1625520500,34300]
[null,81,1,"FEDERAL GOVERNMENT",11,16,401,23885603,1145,{"$f":"IF(County!G1109=0,\"0\",IF(County!G1109<5,\"*\",ROUND((G1109*1),-1)))","v":400},23885600,59700]
[null,83,5,"AGRICULTURE, FORESTRY, FISHING AND HUNTI",11,51,390,12159601,600,{"$f":"IF(County!G1110=0,\"0\",IF(County!G1110<5,\"*\",ROUND((G1110*1),-1)))","v":390},12159600,31200]
[null,83,5,"MINING, QUARRYING, AND OIL AND GAS EXTRA",21,12,888,69265674,1500,{"$f":"IF(County!G1111=0,\"0\",IF(County!G1111<5,\"*\",ROUND((G1111*1),-1)))","v":890},69265700,77800]
[null,83,5,"UTILITIES",22,10,260,23604124,1746,{"$f":"IF(County!G1112=0,\"0\",IF(County!G1112<5,\"*\",ROUND((G1112*1),-1)))","v":260},23604100,90800]
[null,83,5,"CONSTRUCTION",23,70,462,17438205,726,{"$f":"IF(County!G1113=0,\"0\",IF(County!G1113<5,\"*\",ROUND((G1113*1),-1)))","v":460},17438200,37900]
[null,83,5,"MANUFACTURING","31-33",40,2124,84024559,761,{"$f":"IF(County!G1114=0,\"0\",IF(County!G1114<5,\"*\",ROUND((G1114*1),-1)))","v":2120},84024600,39600]
[null,83,5,"WHOLESALE TRADE",42,64,640,28052995,843,{"$f":"IF(County!G1115=0,\"0\",IF(County!G1115<5,\"*\",ROUND((G1115*1),-1)))","v":640},28053000,43800]
[null,83,5,"RETAIL TRADE","44-45",142,1891,42784231,435,{"$f":"IF(County!G1116=0,\"0\",IF(County!G1116<5,\"*\",ROUND((G1116*1),-1)))","v":1890},42784200,22600]
[null,83,5,"TRANSPORTATION AND WAREHOUSING","48-49",44,627,21107032,647,{"$f":"IF(County!G1117=0,\"0\",IF(County!G1117<5,\"*\",ROUND((G1117*1),-1)))","v":630},21107000,33500]
[null,83,5,"INFORMATION",51,15,182,7216463,763,{"$f":"IF(County!G1118=0,\"0\",IF(County!G1118<5,\"*\",ROUND((G1118*1),-1)))","v":180},7216500,40100]
[null,83,5,"FINANCE AND INSURANCE",52,59,492,23857895,933,{"$f":"IF(County!G1119=0,\"0\",IF(County!G1119<5,\"*\",ROUND((G1119*1),-1)))","v":490},23857900,48700]
[null,83,5,"REAL ESTATE AND RENTAL AND LEASING",53,29,141,3324299,453,{"$f":"IF(County!G1120=0,\"0\",IF(County!G1120<5,\"*\",ROUND((G1120*1),-1)))","v":140},3324300,23700]
[null,83,5,"PROFESSIONAL AND TECHNICAL SERVICES",54,43,183,5958471,626,{"$f":"IF(County!G1121=0,\"0\",IF(County!G1121<5,\"*\",ROUND((G1121*1),-1)))","v":180},5958500,33100]
[null,83,5,"MANAGEMENT OF COMPANIES AND ENTERPRISES",55,7,77,3956357,988,{"$f":"IF(County!G1122=0,\"0\",IF(County!G1122<5,\"*\",ROUND((G1122*1),-1)))","v":80},3956400,49500]
[null,83,5,"ADMINISTRATIVE AND WASTE SERVICES",56,37,490,9466735,372,{"$f":"IF(County!G1123=0,\"0\",IF(County!G1123<5,\"*\",ROUND((G1123*1),-1)))","v":490},9466700,19300]
[null,83,5,"EDUCATIONAL SERVICES",61,9,121,2871590,456,{"$f":"IF(County!G1124=0,\"0\",IF(County!G1124<5,\"*\",ROUND((G1124*1),-1)))","v":120},2871600,23900]
[null,83,5,"HEALTH CARE AND SOCIAL ASSISTANCE",62,100,2071,84250903,782,{"$f":"IF(County!G1125=0,\"0\",IF(County!G1125<5,\"*\",ROUND((G1125*1),-1)))","v":2070},84250900,40700]
[null,83,5,"ARTS, ENTERTAINMENT, AND RECREATION",71,7,49,635158,249,{"$f":"IF(County!G1126=0,\"0\",IF(County!G1126<5,\"*\",ROUND((G1126*1),-1)))","v":50},635200,12700]
[null,83,5,"ACCOMMODATION AND FOOD SERVICES",72,86,1600,20241773,243,{"$f":"IF(County!G1127=0,\"0\",IF(County!G1127<5,\"*\",ROUND((G1127*1),-1)))","v":1600},20241800,12700]
[null,83,5,"OTHER SERVICES, EXCEPT PUBLIC ADMIN",81,79,546,12670129,446,{"$f":"IF(County!G1128=0,\"0\",IF(County!G1128<5,\"*\",ROUND((G1128*1),-1)))","v":550},12670100,23000]
[null,83,3,"LOCAL GOVERNMENT",11,34,2873,102984313,689,{"$f":"IF(County!G1129=0,\"0\",IF(County!G1129<5,\"*\",ROUND((G1129*1),-1)))","v":2870},102984300,35900]
[null,83,3,"EDUCATIONAL SERVICES",61,13,678,22900796,650,{"$f":"IF(County!G1130=0,\"0\",IF(County!G1130<5,\"*\",ROUND((G1130*1),-1)))","v":680},22900800,33700]
["D",83,3,"HEALTH CARE AND SOCIAL ASSISTANCE",62,1,1614,64355179,767,{"$f":"IF(County!G1131=0,\"0\",IF(County!G1131<5,\"*\",ROUND((G1131*1),-1)))","v":1610},64355200,40000]
["D",83,2,"STATE GOVERNMENT",11,15,1316,57261980,837,{"$f":"IF(County!G1132=0,\"0\",IF(County!G1132<5,\"*\",ROUND((G1132*1),-1)))","v":1320},57262000,43400]
["D",83,2,"EDUCATIONAL SERVICES",61,1,1076,47012665,840,{"$f":"IF(County!G1133=0,\"0\",IF(County!G1133<5,\"*\",ROUND((G1133*1),-1)))","v":1080},47012700,43500]
[null,83,2,"HEALTH CARE AND SOCIAL ASSISTANCE",62,0,0,0,0,{"$f":"IF(County!G1134=0,\"0\",IF(County!G1134<5,\"*\",ROUND((G1134*1),-1)))","v":"0"},0,0]
[null,83,"U","TOTAL UI COVERED",11,949,17423,633132487,699,{"$f":"IF(County!G1135=0,\"0\",IF(County!G1135<5,\"*\",ROUND((G1135*1),-1)))","v":17420},633132500,36300]
[null,83,1,"FEDERAL GOVERNMENT",11,17,168,10094154,1155,{"$f":"IF(County!G1136=0,\"0\",IF(County!G1136<5,\"*\",ROUND((G1136*1),-1)))","v":170},10094200,59400]
[null,85,5,"AGRICULTURE, FORESTRY, FISHING AND HUNTI",11,46,478,17196869,692,{"$f":"IF(County!G1137=0,\"0\",IF(County!G1137<5,\"*\",ROUND((G1137*1),-1)))","v":480},17196900,35800]
[null,85,5,"MINING, QUARRYING, AND OIL AND GAS EXTRA",21,3,12,452656,725,{"$f":"IF(County!G1138=0,\"0\",IF(County!G1138<5,\"*\",ROUND((G1138*1),-1)))","v":10},452700,45300]
[null,85,5,"UTILITIES",22,3,58,3919134,1299,{"$f":"IF(County!G1139=0,\"0\",IF(County!G1139<5,\"*\",ROUND((G1139*1),-1)))","v":60},3919100,65300]
[null,85,5,"CONSTRUCTION",23,199,967,36213978,720,{"$f":"IF(County!G1140=0,\"0\",IF(County!G1140<5,\"*\",ROUND((G1140*1),-1)))","v":970},36214000,37300]
[null,85,5,"MANUFACTURING","31-33",178,14614,936146170,1232,{"$f":"IF(County!G1141=0,\"0\",IF(County!G1141<5,\"*\",ROUND((G1141*1),-1)))","v":14610},936146200,64100]
[null,85,5,"WHOLESALE TRADE",42,128,1534,161872973,2029,{"$f":"IF(County!G1142=0,\"0\",IF(County!G1142<5,\"*\",ROUND((G1142*1),-1)))","v":1530},161873000,105800]
[null,85,5,"RETAIL TRADE","44-45",275,3700,88541569,460,{"$f":"IF(County!G1143=0,\"0\",IF(County!G1143<5,\"*\",ROUND((G1143*1),-1)))","v":3700},88541600,23900]
[null,85,5,"TRANSPORTATION AND WAREHOUSING","48-49",54,420,17240867,789,{"$f":"IF(County!G1144=0,\"0\",IF(County!G1144<5,\"*\",ROUND((G1144*1),-1)))","v":420},17240900,41000]
[null,85,5,"INFORMATION",51,18,400,16014497,770,{"$f":"IF(County!G1145=0,\"0\",IF(County!G1145<5,\"*\",ROUND((G1145*1),-1)))","v":400},16014500,40000]
[null,85,5,"FINANCE AND INSURANCE",52,117,655,36631047,1075,{"$f":"IF(County!G1146=0,\"0\",IF(County!G1146<5,\"*\",ROUND((G1146*1),-1)))","v":660},36631000,55500]
[null,85,5,"REAL ESTATE AND RENTAL AND LEASING",53,70,203,4704589,446,{"$f":"IF(County!G1147=0,\"0\",IF(County!G1147<5,\"*\",ROUND((G1147*1),-1)))","v":200},4704600,23500]
[null,85,5,"PROFESSIONAL AND TECHNICAL SERVICES",54,151,506,20891565,794,{"$f":"IF(County!G1148=0,\"0\",IF(County!G1148<5,\"*\",ROUND((G1148*1),-1)))","v":510},20891600,41000]
[null,85,5,"MANAGEMENT OF COMPANIES AND ENTERPRISES",55,15,441,29897021,1304,{"$f":"IF(County!G1149=0,\"0\",IF(County!G1149<5,\"*\",ROUND((G1149*1),-1)))","v":440},29897000,67900]
[null,85,5,"ADMINISTRATIVE AND WASTE SERVICES",56,93,1733,47697747,529,{"$f":"IF(County!G1150=0,\"0\",IF(County!G1150<5,\"*\",ROUND((G1150*1),-1)))","v":1730},47697700,27600]
[null,85,5,"EDUCATIONAL SERVICES",61,16,807,18322431,437,{"$f":"IF(County!G1151=0,\"0\",IF(County!G1151<5,\"*\",ROUND((G1151*1),-1)))","v":810},18322400,22600]
[null,85,5,"HEALTH CARE AND SOCIAL ASSISTANCE",62,104,3120,108544022,669,{"$f":"IF(County!G1152=0,\"0\",IF(County!G1152<5,\"*\",ROUND((G1152*1),-1)))","v":3120},108544000,34800]
[null,85,5,"ARTS, ENTERTAINMENT, AND RECREATION",71,22,254,4257744,322,{"$f":"IF(County!G1153=0,\"0\",IF(County!G1153<5,\"*\",ROUND((G1153*1),-1)))","v":250},4257700,17000]
[null,85,5,"ACCOMMODATION AND FOOD SERVICES",72,160,2649,34300463,249,{"$f":"IF(County!G1154=0,\"0\",IF(County!G1154<5,\"*\",ROUND((G1154*1),-1)))","v":2650},34300500,12900]
[null,85,5,"OTHER SERVICES, EXCEPT PUBLIC ADMIN",81,168,1170,34398795,565,{"$f":"IF(County!G1155=0,\"0\",IF(County!G1155<5,\"*\",ROUND((G1155*1),-1)))","v":1170},34398800,29400]
[null,85,3,"LOCAL GOVERNMENT",11,43,2912,93139023,615,{"$f":"IF(County!G1156=0,\"0\",IF(County!G1156<5,\"*\",ROUND((G1156*1),-1)))","v":2910},93139000,{"$f":"IF(G1156=0,0,IF(J1156=\"*\",\"*\",ROUND((K1156/J1156),-2)))","v":32000}]
[null,85,3,"EDUCATIONAL SERVICES",61,13,2103,66074536,604,{"$f":"IF(County!G1157=0,\"0\",IF(County!G1157<5,\"*\",ROUND((G1157*1),-1)))","v":2100},66074500,31500]
["D",85,3,"HEALTH CARE AND SOCIAL ASSISTANCE",62,1,14,701242,963,{"$f":"IF(County!G1158=0,\"0\",IF(County!G1158<5,\"*\",ROUND((G1158*1),-1)))","v":10},701200,70100]
[null,85,2,"STATE GOVERNMENT",11,12,82,3184628,747,{"$f":"IF(County!G1159=0,\"0\",IF(County!G1159<5,\"*\",ROUND((G1159*1),-1)))","v":80},3184600,39800]
[null,85,2,"EDUCATIONAL SERVICES",61,0,0,0,0,{"$f":"IF(County!G1160=0,\"0\",IF(County!G1160<5,\"*\",ROUND((G1160*1),-1)))","v":"0"},0,0]
[null,85,2,"HEALTH CARE AND SOCIAL ASSISTANCE",62,0,0,0,0,{"$f":"IF(County!G1161=0,\"0\",IF(County!G1161<5,\"*\",ROUND((G1161*1),-1)))","v":"0"},{"$f":"ROUND((H1161),-2)","v":0},0]
[null,85,"U","TOTAL UI COVERED",11,1873,36716,1713567788,898,{"$f":"IF(County!G1162=0,\"0\",IF(County!G1162<5,\"*\",ROUND((G1162*1),-1)))","v":36720},1713567800,46700]
[null,85,1,"FEDERAL GOVERNMENT",11,17,162,9388216,1114,{"$f":"IF(County!G1163=0,\"0\",IF(County!G1163<5,\"*\",ROUND((G1163*1),-1)))","v":160},9388200,58700]
[null,87,5,"AGRICULTURE, FORESTRY, FISHING AND HUNTI",11,31,211,7882826,718,{"$f":"IF(County!G1164=0,\"0\",IF(County!G1164<5,\"*\",ROUND((G1164*1),-1)))","v":210},7882800,37500]
["D",87,5,"MINING, QUARRYING, AND OIL AND GAS EXTRA",21,1,3,113938,730,{"$f":"IF(County!G1165=0,\"0\",IF(County!G1165<5,\"*\",ROUND((G1165*1),-1)))","v":"*"},113900,"*"]
["D",87,5,"UTILITIES",22,2,34,1855625,1050,{"$f":"IF(County!G1166=0,\"0\",IF(County!G1166<5,\"*\",ROUND((G1166*1),-1)))","v":30},1855600,61900]
[null,87,5,"CONSTRUCTION",23,100,446,16592236,715,{"$f":"IF(County!G1167=0,\"0\",IF(County!G1167<5,\"*\",ROUND((G1167*1),-1)))","v":450},16592200,36900]
[null,87,5,"MANUFACTURING","31-33",143,6089,289027999,913,{"$f":"IF(County!G1168=0,\"0\",IF(County!G1168<5,\"*\",ROUND((G1168*1),-1)))","v":6090},289028000,47500]
[null,87,5,"WHOLESALE TRADE",42,43,636,15900930,481,{"$f":"IF(County!G1169=0,\"0\",IF(County!G1169<5,\"*\",ROUND((G1169*1),-1)))","v":640},15900900,24800]
[null,87,5,"RETAIL TRADE","44-45",137,1083,24681038,438,{"$f":"IF(County!G1170=0,\"0\",IF(County!G1170<5,\"*\",ROUND((G1170*1),-1)))","v":1080},24681000,22900]
[null,87,5,"TRANSPORTATION AND WAREHOUSING","48-49",35,142,7372516,998,{"$f":"IF(County!G1171=0,\"0\",IF(County!G1171<5,\"*\",ROUND((G1171*1),-1)))","v":140},7372500,52700]
[null,87,5,"INFORMATION",51,4,23,1032189,863,{"$f":"IF(County!G1172=0,\"0\",IF(County!G1172<5,\"*\",ROUND((G1172*1),-1)))","v":20},1032200,51600]
[null,87,5,"FINANCE AND INSURANCE",52,24,256,10551215,793,{"$f":"IF(County!G1173=0,\"0\",IF(County!G1173<5,\"*\",ROUND((G1173*1),-1)))","v":260},10551200,40600]
[null,87,5,"REAL ESTATE AND RENTAL AND LEASING",53,25,73,1033131,272,{"$f":"IF(County!G1174=0,\"0\",IF(County!G1174<5,\"*\",ROUND((G1174*1),-1)))","v":70},1033100,14800]
[null,87,5,"PROFESSIONAL AND TECHNICAL SERVICES",54,42,187,6420678,660,{"$f":"IF(County!G1175=0,\"0\",IF(County!G1175<5,\"*\",ROUND((G1175*1),-1)))","v":190},6420700,33800]
[null,87,5,"MANAGEMENT OF COMPANIES AND ENTERPRISES",55,3,32,1454607,874,{"$f":"IF(County!G1176=0,\"0\",IF(County!G1176<5,\"*\",ROUND((G1176*1),-1)))","v":30},1454600,48500]
[null,87,5,"ADMINISTRATIVE AND WASTE SERVICES",56,25,71,1876155,508,{"$f":"IF(County!G1177=0,\"0\",IF(County!G1177<5,\"*\",ROUND((G1177*1),-1)))","v":70},1876200,26800]
["D",87,5,"EDUCATIONAL SERVICES",61,2,56,1744632,599,{"$f":"IF(County!G1178=0,\"0\",IF(County!G1178<5,\"*\",ROUND((G1178*1),-1)))","v":60},1744600,29100]
[null,87,5,"HEALTH CARE AND SOCIAL ASSISTANCE",62,29,746,23672007,610,{"$f":"IF(County!G1179=0,\"0\",IF(County!G1179<5,\"*\",ROUND((G1179*1),-1)))","v":750},23672000,31600]
[null,87,5,"ARTS, ENTERTAINMENT, AND RECREATION",71,7,26,517013,382,{"$f":"IF(County!G1180=0,\"0\",IF(County!G1180<5,\"*\",ROUND((G1180*1),-1)))","v":30},517000,17200]
[null,87,5,"ACCOMMODATION AND FOOD SERVICES",72,60,1011,12717036,242,{"$f":"IF(County!G1181=0,\"0\",IF(County!G1181<5,\"*\",ROUND((G1181*1),-1)))","v":1010},12717000,12600]
[null,87,5,"OTHER SERVICES, EXCEPT PUBLIC ADMIN",81,61,303,9220061,585,{"$f":"IF(County!G1182=0,\"0\",IF(County!G1182<5,\"*\",ROUND((G1182*1),-1)))","v":300},9220100,30700]
[null,87,3,"LOCAL GOVERNMENT",11,28,1258,39321815,601,{"$f":"IF(County!G1183=0,\"0\",IF(County!G1183<5,\"*\",ROUND((G1183*1),-1)))","v":1260},39321800,31200]
[null,87,3,"EDUCATIONAL SERVICES",61,16,965,30967948,617,{"$f":"IF(County!G1184=0,\"0\",IF(County!G1184<5,\"*\",ROUND((G1184*1),-1)))","v":970},30967900,31900]
[null,87,3,"HEALTH CARE AND SOCIAL ASSISTANCE",62,0,0,0,0,{"$f":"IF(County!G1185=0,\"0\",IF(County!G1185<5,\"*\",ROUND((G1185*1),-1)))","v":"0"},0,0]
[null,87,2,"STATE GOVERNMENT",11,12,57,2413992,814,{"$f":"IF(County!G1186=0,\"0\",IF(County!G1186<5,\"*\",ROUND((G1186*1),-1)))","v":60},2414000,40200]
[null,87,2,"EDUCATIONAL SERVICES",61,0,0,0,0,{"$f":"IF(County!G1187=0,\"0\",IF(County!G1187<5,\"*\",ROUND((G1187*1),-1)))","v":"0"},0,0]
[null,87,2,"HEALTH CARE AND SOCIAL ASSISTANCE",62,0,0,0,0,{"$f":"IF(County!G1188=0,\"0\",IF(County!G1188<5,\"*\",ROUND((G1188*1),-1)))","v":"0"},0,0]
[null,87,"U","TOTAL UI COVERED",11,812,12742,475401639,717,{"$f":"IF(County!G1189=0,\"0\",IF(County!G1189<5,\"*\",ROUND((G1189*1),-1)))","v":12740},475401600,37300]
[null,87,1,"FEDERAL GOVERNMENT",11,12,59,2765449,901,{"$f":"IF(County!G1190=0,\"0\",IF(County!G1190<5,\"*\",ROUND((G1190*1),-1)))","v":60},2765400,46100]
[null,89,5,"AGRICULTURE, FORESTRY, FISHING AND HUNTI",11,25,167,4195082,483,{"$f":"IF(County!G1191=0,\"0\",IF(County!G1191<5,\"*\",ROUND((G1191*1),-1)))","v":170},4195100,24700]
[null,89,5,"MINING, QUARRYING, AND OIL AND GAS EXTRA",21,12,107,7417603,1333,{"$f":"IF(County!G1192=0,\"0\",IF(County!G1192<5,\"*\",ROUND((G1192*1),-1)))","v":110},7417600,67400]
["D",89,5,"UTILITIES",22,15,1613,157730823,1881,{"$f":"IF(County!G1193=0,\"0\",IF(County!G1193<5,\"*\",ROUND((G1193*1),-1)))","v":1610},157730800,98000]
[null,89,5,"CONSTRUCTION",23,940,10903,731372093,1290,{"$f":"IF(County!G1194=0,\"0\",IF(County!G1194<5,\"*\",ROUND((G1194*1),-1)))","v":10900},731372100,67100]
[null,89,5,"MANUFACTURING","31-33",382,24693,2106114276,1640,{"$f":"IF(County!G1195=0,\"0\",IF(County!G1195<5,\"*\",ROUND((G1195*1),-1)))","v":24690},2106114300,85300]
[null,89,5,"WHOLESALE TRADE",42,629,5807,363228815,1203,{"$f":"IF(County!G1196=0,\"0\",IF(County!G1196<5,\"*\",ROUND((G1196*1),-1)))","v":5810},363228800,62500]
[null,89,5,"RETAIL TRADE","44-45",1456,24116,595451272,475,{"$f":"IF(County!G1197=0,\"0\",IF(County!G1197<5,\"*\",ROUND((G1197*1),-1)))","v":24120},595451300,24700]
[null,89,5,"TRANSPORTATION AND WAREHOUSING","48-49",404,6888,316878888,885,{"$f":"IF(County!G1198=0,\"0\",IF(County!G1198<5,\"*\",ROUND((G1198*1),-1)))","v":6890},316878900,46000]
[null,89,5,"INFORMATION",51,89,1366,61991097,873,{"$f":"IF(County!G1199=0,\"0\",IF(County!G1199<5,\"*\",ROUND((G1199*1),-1)))","v":1370},61991100,45200]
[null,89,5,"FINANCE AND INSURANCE",52,608,4111,209043764,978,{"$f":"IF(County!G1200=0,\"0\",IF(County!G1200<5,\"*\",ROUND((G1200*1),-1)))","v":4110},209043800,50900]
[null,89,5,"REAL ESTATE AND RENTAL AND LEASING",53,359,2050,69019533,647,{"$f":"IF(County!G1201=0,\"0\",IF(County!G1201<5,\"*\",ROUND((G1201*1),-1)))","v":2050},69019500,33700]
[null,89,5,"PROFESSIONAL AND TECHNICAL SERVICES",54,979,5530,277576055,965,{"$f":"IF(County!G1202=0,\"0\",IF(County!G1202<5,\"*\",ROUND((G1202*1),-1)))","v":5530},277576100,50200]
[null,89,5,"MANAGEMENT OF COMPANIES AND ENTERPRISES",55,45,2020,172984130,1647,{"$f":"IF(County!G1203=0,\"0\",IF(County!G1203<5,\"*\",ROUND((G1203*1),-1)))","v":2020},172984100,85600]
[null,89,5,"ADMINISTRATIVE AND WASTE SERVICES",56,478,8245,263129353,614,{"$f":"IF(County!G1204=0,\"0\",IF(County!G1204<5,\"*\",ROUND((G1204*1),-1)))","v":8250},263129400,31900]
[null,89,5,"EDUCATIONAL SERVICES",61,150,2980,86678504,559,{"$f":"IF(County!G1205=0,\"0\",IF(County!G1205<5,\"*\",ROUND((G1205*1),-1)))","v":2980},86678500,29100]
[null,89,5,"HEALTH CARE AND SOCIAL ASSISTANCE",62,1205,30199,1362154596,867,{"$f":"IF(County!G1206=0,\"0\",IF(County!G1206<5,\"*\",ROUND((G1206*1),-1)))","v":30200},1362154600,45100]
[null,89,5,"ARTS, ENTERTAINMENT, AND RECREATION",71,117,6118,173209010,544,{"$f":"IF(County!G1207=0,\"0\",IF(County!G1207<5,\"*\",ROUND((G1207*1),-1)))","v":6120},173209000,28300]
[null,89,5,"ACCOMMODATION AND FOOD SERVICES",72,967,17601,238280016,260,{"$f":"IF(County!G1208=0,\"0\",IF(County!G1208<5,\"*\",ROUND((G1208*1),-1)))","v":17600},238280000,13500]
[null,89,5,"OTHER SERVICES, EXCEPT PUBLIC ADMIN",81,990,6955,199187201,551,{"$f":"IF(County!G1209=0,\"0\",IF(County!G1209<5,\"*\",ROUND((G1209*1),-1)))","v":6960},199187200,28600]
[null,89,3,"LOCAL GOVERNMENT",11,175,19992,700922950,674,{"$f":"IF(County!G1210=0,\"0\",IF(County!G1210<5,\"*\",ROUND((G1210*1),-1)))","v":19990},700923000,35100]
[null,89,3,"EDUCATIONAL SERVICES",61,94,11347,409206932,694,{"$f":"IF(County!G1211=0,\"0\",IF(County!G1211<5,\"*\",ROUND((G1211*1),-1)))","v":11350},409206900,36100]
[null,89,3,"HEALTH CARE AND SOCIAL ASSISTANCE",62,0,0,0,0,{"$f":"IF(County!G1212=0,\"0\",IF(County!G1212<5,\"*\",ROUND((G1212*1),-1)))","v":"0"},0,0]
[null,89,2,"STATE GOVERNMENT",11,28,3299,129871168,757,{"$f":"IF(County!G1213=0,\"0\",IF(County!G1213<5,\"*\",ROUND((G1213*1),-1)))","v":3300},129871200,39400]
[null,89,2,"EDUCATIONAL SERVICES",61,3,2486,95647339,740,{"$f":"IF(County!G1214=0,\"0\",IF(County!G1214<5,\"*\",ROUND((G1214*1),-1)))","v":2490},95647300,38400]
[null,89,2,"HEALTH CARE AND SOCIAL ASSISTANCE",62,0,0,0,0,{"$f":"IF(County!G1215=0,\"0\",IF(County!G1215<5,\"*\",ROUND((G1215*1),-1)))","v":"0"},0,0]
[null,89,"U","TOTAL UI COVERED",11,10051,184763,8226906239,856,{"$f":"IF(County!G1216=0,\"0\",IF(County!G1216<5,\"*\",ROUND((G1216*1),-1)))","v":184760},8226906200,44500]
[null,89,1,"FEDERAL GOVERNMENT",11,45,1323,98459025,1431,{"$f":"IF(County!G1217=0,\"0\",IF(County!G1217<5,\"*\",ROUND((G1217*1),-1)))","v":1320},98459000,74600]
[null,91,5,"AGRICULTURE, FORESTRY, FISHING AND HUNTI",11,43,278,8565283,593,{"$f":"IF(County!G1218=0,\"0\",IF(County!G1218<5,\"*\",ROUND((G1218*1),-1)))","v":280},8565300,30600]
["D",91,5,"MINING, QUARRYING, AND OIL AND GAS EXTRA",21,2,21,673810,617,{"$f":"IF(County!G1219=0,\"0\",IF(County!G1219<5,\"*\",ROUND((G1219*1),-1)))","v":20},673800,33700]
["D",91,5,"UTILITIES",22,4,278,29179478,2019,{"$f":"IF(County!G1220=0,\"0\",IF(County!G1220<5,\"*\",ROUND((G1220*1),-1)))","v":280},29179500,{"$f":"IF(G1220=0,0,IF(J1220=\"*\",\"*\",ROUND((K1220/J1220),-2)))","v":104200}]
[null,91,5,"CONSTRUCTION",23,216,1727,105484689,1175,{"$f":"IF(County!G1221=0,\"0\",IF(County!G1221<5,\"*\",ROUND((G1221*1),-1)))","v":1730},105484700,61000]
[null,91,5,"MANUFACTURING","31-33",170,7618,376646012,951,{"$f":"IF(County!G1222=0,\"0\",IF(County!G1222<5,\"*\",ROUND((G1222*1),-1)))","v":7620},376646000,49400]
[null,91,5,"WHOLESALE TRADE",42,142,1198,56745884,911,{"$f":"IF(County!G1223=0,\"0\",IF(County!G1223<5,\"*\",ROUND((G1223*1),-1)))","v":1200},56745900,47300]
[null,91,5,"RETAIL TRADE","44-45",403,5441,119322804,422,{"$f":"IF(County!G1224=0,\"0\",IF(County!G1224<5,\"*\",ROUND((G1224*1),-1)))","v":5440},119322800,21900]
[null,91,5,"TRANSPORTATION AND WAREHOUSING","48-49",70,1139,49429343,835,{"$f":"IF(County!G1225=0,\"0\",IF(County!G1225<5,\"*\",ROUND((G1225*1),-1)))","v":1140},{"$f":"ROUND((H1225),-2)","v":49429300},43400]
[null,91,5,"INFORMATION",51,23,238,7417721,599,{"$f":"IF(County!G1226=0,\"0\",IF(County!G1226<5,\"*\",ROUND((G1226*1),-1)))","v":240},7417700,30900]
[null,91,5,"FINANCE AND INSURANCE",52,96,841,40390358,924,{"$f":"IF(County!G1227=0,\"0\",IF(County!G1227<5,\"*\",ROUND((G1227*1),-1)))","v":840},40390400,48100]
[null,91,5,"REAL ESTATE AND RENTAL AND LEASING",53,83,380,12729086,644,{"$f":"IF(County!G1228=0,\"0\",IF(County!G1228<5,\"*\",ROUND((G1228*1),-1)))","v":380},12729100,33500]
[null,91,5,"PROFESSIONAL AND TECHNICAL SERVICES",54,154,656,29961088,878,{"$f":"IF(County!G1229=0,\"0\",IF(County!G1229<5,\"*\",ROUND((G1229*1),-1)))","v":660},29961100,45400]
[null,91,5,"MANAGEMENT OF COMPANIES AND ENTERPRISES",55,11,99,6465416,1256,{"$f":"IF(County!G1230=0,\"0\",IF(County!G1230<5,\"*\",ROUND((G1230*1),-1)))","v":100},6465400,64700]
[null,91,5,"ADMINISTRATIVE AND WASTE SERVICES",56,120,2035,58412606,552,{"$f":"IF(County!G1231=0,\"0\",IF(County!G1231<5,\"*\",ROUND((G1231*1),-1)))","v":2040},58412600,28600]
[null,91,5,"EDUCATIONAL SERVICES",61,18,404,10407874,495,{"$f":"IF(County!G1232=0,\"0\",IF(County!G1232<5,\"*\",ROUND((G1232*1),-1)))","v":400},10407900,26000]
[null,91,5,"HEALTH CARE AND SOCIAL ASSISTANCE",62,185,5118,237325685,892,{"$f":"IF(County!G1233=0,\"0\",IF(County!G1233<5,\"*\",ROUND((G1233*1),-1)))","v":5120},237325700,46400]
[null,91,5,"ARTS, ENTERTAINMENT, AND RECREATION",71,33,1351,38556668,549,{"$f":"IF(County!G1234=0,\"0\",IF(County!G1234<5,\"*\",ROUND((G1234*1),-1)))","v":1350},38556700,28600]
[null,91,5,"ACCOMMODATION AND FOOD SERVICES",72,238,4065,51223529,242,{"$f":"IF(County!G1235=0,\"0\",IF(County!G1235<5,\"*\",ROUND((G1235*1),-1)))","v":4070},51223500,12600]
[null,91,5,"OTHER SERVICES, EXCEPT PUBLIC ADMIN",81,222,1247,30269019,467,{"$f":"IF(County!G1236=0,\"0\",IF(County!G1236<5,\"*\",ROUND((G1236*1),-1)))","v":1250},30269000,24200]
[null,91,3,"LOCAL GOVERNMENT",11,55,4236,148980935,676,{"$f":"IF(County!G1237=0,\"0\",IF(County!G1237<5,\"*\",ROUND((G1237*1),-1)))","v":4240},148980900,35100]
[null,91,3,"EDUCATIONAL SERVICES",61,24,2325,83033362,687,{"$f":"IF(County!G1238=0,\"0\",IF(County!G1238<5,\"*\",ROUND((G1238*1),-1)))","v":2330},83033400,35600]
[null,91,3,"HEALTH CARE AND SOCIAL ASSISTANCE",62,0,0,0,0,{"$f":"IF(County!G1239=0,\"0\",IF(County!G1239<5,\"*\",ROUND((G1239*1),-1)))","v":"0"},0,0]
[null,91,2,"STATE GOVERNMENT",11,26,2114,82099871,747,{"$f":"IF(County!G1240=0,\"0\",IF(County!G1240<5,\"*\",ROUND((G1240*1),-1)))","v":2110},82099900,38900]
["D",91,2,"EDUCATIONAL SERVICES",61,1,509,19173544,724,{"$f":"IF(County!G1241=0,\"0\",IF(County!G1241<5,\"*\",ROUND((G1241*1),-1)))","v":510},19173500,37600]
[null,91,2,"HEALTH CARE AND SOCIAL ASSISTANCE",62,0,0,0,0,{"$f":"IF(County!G1242=0,\"0\",IF(County!G1242<5,\"*\",ROUND((G1242*1),-1)))","v":"0"},0,0]
[null,91,"U","TOTAL UI COVERED",11,2313,40483,1500287835,713,{"$f":"IF(County!G1243=0,\"0\",IF(County!G1243<5,\"*\",ROUND((G1243*1),-1)))","v":40480},1500287800,37100]
[null,91,1,"FEDERAL GOVERNMENT",11,16,170,9308005,1053,{"$f":"IF(County!G1244=0,\"0\",IF(County!G1244<5,\"*\",ROUND((G1244*1),-1)))","v":170},9308000,54800]
[null,93,5,"AGRICULTURE, FORESTRY, FISHING AND HUNTI",11,4,14,339223,466,{"$f":"IF(County!G1245=0,\"0\",IF(County!G1245<5,\"*\",ROUND((G1245*1),-1)))","v":10},339200,33900]
[null,93,5,"MINING, QUARRYING, AND OIL AND GAS EXTRA",21,13,165,7335153,855,{"$f":"IF(County!G1246=0,\"0\",IF(County!G1246<5,\"*\",ROUND((G1246*1),-1)))","v":170},7335200,43100]
[null,93,5,"UTILITIES",22,5,54,3138738,1118,{"$f":"IF(County!G1247=0,\"0\",IF(County!G1247<5,\"*\",ROUND((G1247*1),-1)))","v":50},3138700,62800]
[null,93,5,"CONSTRUCTION",23,73,430,16210233,725,{"$f":"IF(County!G1248=0,\"0\",IF(County!G1248<5,\"*\",ROUND((G1248*1),-1)))","v":430},16210200,37700]
[null,93,5,"MANUFACTURING","31-33",58,2103,125397044,1147,{"$f":"IF(County!G1249=0,\"0\",IF(County!G1249<5,\"*\",ROUND((G1249*1),-1)))","v":2100},125397000,59700]
[null,93,5,"WHOLESALE TRADE",42,26,212,8100187,735,{"$f":"IF(County!G1250=0,\"0\",IF(County!G1250<5,\"*\",ROUND((G1250*1),-1)))","v":210},8100200,38600]
[null,93,5,"RETAIL TRADE","44-45",148,1910,44807838,451,{"$f":"IF(County!G1251=0,\"0\",IF(County!G1251<5,\"*\",ROUND((G1251*1),-1)))","v":1910},44807800,23500]
[null,93,5,"TRANSPORTATION AND WAREHOUSING","48-49",30,200,7304033,702,{"$f":"IF(County!G1252=0,\"0\",IF(County!G1252<5,\"*\",ROUND((G1252*1),-1)))","v":200},7304000,36500]
[null,93,5,"INFORMATION",51,15,141,5236758,714,{"$f":"IF(County!G1253=0,\"0\",IF(County!G1253<5,\"*\",ROUND((G1253*1),-1)))","v":140},5236800,37400]
[null,93,5,"FINANCE AND INSURANCE",52,55,373,15811608,815,{"$f":"IF(County!G1254=0,\"0\",IF(County!G1254<5,\"*\",ROUND((G1254*1),-1)))","v":370},15811600,42700]
[null,93,5,"REAL ESTATE AND RENTAL AND LEASING",53,20,82,2287068,536,{"$f":"IF(County!G1255=0,\"0\",IF(County!G1255<5,\"*\",ROUND((G1255*1),-1)))","v":80},2287100,28600]
[null,93,5,"PROFESSIONAL AND TECHNICAL SERVICES",54,61,527,24949062,910,{"$f":"IF(County!G1256=0,\"0\",IF(County!G1256<5,\"*\",ROUND((G1256*1),-1)))","v":530},24949100,47100]
["D",93,5,"MANAGEMENT OF COMPANIES AND ENTERPRISES",55,2,5,548461,2109,{"$f":"IF(County!G1257=0,\"0\",IF(County!G1257<5,\"*\",ROUND((G1257*1),-1)))","v":10},548500,54900]
[null,93,5,"ADMINISTRATIVE AND WASTE SERVICES",56,27,310,7036460,437,{"$f":"IF(County!G1258=0,\"0\",IF(County!G1258<5,\"*\",ROUND((G1258*1),-1)))","v":310},7036500,22700]
[null,93,5,"EDUCATIONAL SERVICES",61,4,44,1878231,821,{"$f":"IF(County!G1259=0,\"0\",IF(County!G1259<5,\"*\",ROUND((G1259*1),-1)))","v":40},1878200,47000]
[null,93,5,"HEALTH CARE AND SOCIAL ASSISTANCE",62,79,2445,71539085,563,{"$f":"IF(County!G1260=0,\"0\",IF(County!G1260<5,\"*\",ROUND((G1260*1),-1)))","v":2450},71539100,29200]
[null,93,5,"ARTS, ENTERTAINMENT, AND RECREATION",71,10,54,628823,224,{"$f":"IF(County!G1261=0,\"0\",IF(County!G1261<5,\"*\",ROUND((G1261*1),-1)))","v":50},628800,12600]
[null,93,5,"ACCOMMODATION AND FOOD SERVICES",72,59,1195,14658686,236,{"$f":"IF(County!G1262=0,\"0\",IF(County!G1262<5,\"*\",ROUND((G1262*1),-1)))","v":1200},14658700,12200]
[null,93,5,"OTHER SERVICES, EXCEPT PUBLIC ADMIN",81,70,352,8649337,473,{"$f":"IF(County!G1263=0,\"0\",IF(County!G1263<5,\"*\",ROUND((G1263*1),-1)))","v":350},8649300,24700]
[null,93,3,"LOCAL GOVERNMENT",11,35,1767,54301427,591,{"$f":"IF(County!G1264=0,\"0\",IF(County!G1264<5,\"*\",ROUND((G1264*1),-1)))","v":1770},54301400,30700]
["D",93,3,"EDUCATIONAL SERVICES",61,20,1144,35885838,603,{"$f":"IF(County!G1265=0,\"0\",IF(County!G1265<5,\"*\",ROUND((G1265*1),-1)))","v":1140},35885800,31500]
[null,93,3,"HEALTH CARE AND SOCIAL ASSISTANCE",62,0,0,0,0,{"$f":"IF(County!G1266=0,\"0\",IF(County!G1266<5,\"*\",ROUND((G1266*1),-1)))","v":"0"},0,0]
[null,93,2,"STATE GOVERNMENT",11,13,214,5683588,511,{"$f":"IF(County!G1267=0,\"0\",IF(County!G1267<5,\"*\",ROUND((G1267*1),-1)))","v":210},5683600,27100]
[null,93,2,"EDUCATIONAL SERVICES",61,0,0,0,0,{"$f":"IF(County!G1268=0,\"0\",IF(County!G1268<5,\"*\",ROUND((G1268*1),-1)))","v":"0"},0,0]
[null,93,2,"HEALTH CARE AND SOCIAL ASSISTANCE",62,0,0,0,0,{"$f":"IF(County!G1269=0,\"0\",IF(County!G1269<5,\"*\",ROUND((G1269*1),-1)))","v":"0"},0,0]
[null,93,"U","TOTAL UI COVERED",11,806,12593,425841043,650,{"$f":"IF(County!G1270=0,\"0\",IF(County!G1270<5,\"*\",ROUND((G1270*1),-1)))","v":12590},425841000,33800]
[null,93,1,"FEDERAL GOVERNMENT",11,14,121,6262477,995,{"$f":"IF(County!G1271=0,\"0\",IF(County!G1271<5,\"*\",ROUND((G1271*1),-1)))","v":120},6262500,52200]
[null,95,5,"AGRICULTURE, FORESTRY, FISHING AND HUNTI",11,21,171,5607504,631,{"$f":"IF(County!G1272=0,\"0\",IF(County!G1272<5,\"*\",ROUND((G1272*1),-1)))","v":170},5607500,33000]
["D",95,5,"MINING, QUARRYING, AND OIL AND GAS EXTRA",21,3,29,2566354,1702,{"$f":"IF(County!G1273=0,\"0\",IF(County!G1273<5,\"*\",ROUND((G1273*1),-1)))","v":30},2566400,85500]
["D",95,5,"UTILITIES",22,2,22,1545129,1351,{"$f":"IF(County!G1274=0,\"0\",IF(County!G1274<5,\"*\",ROUND((G1274*1),-1)))","v":20},1545100,77300]
[null,95,5,"CONSTRUCTION",23,212,1455,66619865,881,{"$f":"IF(County!G1275=0,\"0\",IF(County!G1275<5,\"*\",ROUND((G1275*1),-1)))","v":1460},66619900,45600]
[null,95,5,"MANUFACTURING","31-33",99,3935,210098286,1027,{"$f":"IF(County!G1276=0,\"0\",IF(County!G1276<5,\"*\",ROUND((G1276*1),-1)))","v":3940},210098300,53300]
[null,95,5,"WHOLESALE TRADE",42,108,1321,63806998,929,{"$f":"IF(County!G1277=0,\"0\",IF(County!G1277<5,\"*\",ROUND((G1277*1),-1)))","v":1320},63807000,48300]
[null,95,5,"RETAIL TRADE","44-45",333,4864,107622376,426,{"$f":"IF(County!G1278=0,\"0\",IF(County!G1278<5,\"*\",ROUND((G1278*1),-1)))","v":4860},107622400,22100]
[null,95,5,"TRANSPORTATION AND WAREHOUSING","48-49",69,1663,66817161,773,{"$f":"IF(County!G1279=0,\"0\",IF(County!G1279<5,\"*\",ROUND((G1279*1),-1)))","v":1660},66817200,40300]
[null,95,5,"INFORMATION",51,29,444,19338538,838,{"$f":"IF(County!G1280=0,\"0\",IF(County!G1280<5,\"*\",ROUND((G1280*1),-1)))","v":440},19338500,44000]
[null,95,5,"FINANCE AND INSURANCE",52,147,907,47226178,1001,{"$f":"IF(County!G1281=0,\"0\",IF(County!G1281<5,\"*\",ROUND((G1281*1),-1)))","v":910},47226200,51900]
[null,95,5,"REAL ESTATE AND RENTAL AND LEASING",53,79,442,12320368,536,{"$f":"IF(County!G1282=0,\"0\",IF(County!G1282<5,\"*\",ROUND((G1282*1),-1)))","v":440},12320400,28000]
[null,95,5,"PROFESSIONAL AND TECHNICAL SERVICES",54,188,753,30368593,776,{"$f":"IF(County!G1283=0,\"0\",IF(County!G1283<5,\"*\",ROUND((G1283*1),-1)))","v":750},30368600,40500]
[null,95,5,"MANAGEMENT OF COMPANIES AND ENTERPRISES",55,12,313,29333950,1802,{"$f":"IF(County!G1284=0,\"0\",IF(County!G1284<5,\"*\",ROUND((G1284*1),-1)))","v":310},29334000,{"$f":"IF(G1284=0,0,IF(J1284=\"*\",\"*\",ROUND((K1284/J1284),-2)))","v":94600}]
[null,95,5,"ADMINISTRATIVE AND WASTE SERVICES",56,104,2077,49554177,459,{"$f":"IF(County!G1285=0,\"0\",IF(County!G1285<5,\"*\",ROUND((G1285*1),-1)))","v":2080},49554200,23800]
[null,95,5,"EDUCATIONAL SERVICES",61,27,862,28874536,644,{"$f":"IF(County!G1286=0,\"0\",IF(County!G1286<5,\"*\",ROUND((G1286*1),-1)))","v":860},28874500,33600]
[null,95,5,"HEALTH CARE AND SOCIAL ASSISTANCE",62,207,6171,245394975,765,{"$f":"IF(County!G1287=0,\"0\",IF(County!G1287<5,\"*\",ROUND((G1287*1),-1)))","v":6170},245395000,39800]
[null,95,5,"ARTS, ENTERTAINMENT, AND RECREATION",71,37,1204,31485978,503,{"$f":"IF(County!G1288=0,\"0\",IF(County!G1288<5,\"*\",ROUND((G1288*1),-1)))","v":1200},31486000,26200]
[null,95,5,"ACCOMMODATION AND FOOD SERVICES",72,213,4058,52395340,248,{"$f":"IF(County!G1289=0,\"0\",IF(County!G1289<5,\"*\",ROUND((G1289*1),-1)))","v":4060},{"$f":"ROUND((H1289),-2)","v":52395300},12900]
[null,95,5,"OTHER SERVICES, EXCEPT PUBLIC ADMIN",81,217,1142,26197834,441,{"$f":"IF(County!G1290=0,\"0\",IF(County!G1290<5,\"*\",ROUND((G1290*1),-1)))","v":1140},26197800,23000]
[null,95,3,"LOCAL GOVERNMENT",11,56,4505,157606191,673,{"$f":"IF(County!G1291=0,\"0\",IF(County!G1291<5,\"*\",ROUND((G1291*1),-1)))","v":4510},157606200,34900]
[null,95,3,"EDUCATIONAL SERVICES",61,27,2396,81199326,652,{"$f":"IF(County!G1292=0,\"0\",IF(County!G1292<5,\"*\",ROUND((G1292*1),-1)))","v":2400},81199300,33800]
["D",95,3,"HEALTH CARE AND SOCIAL ASSISTANCE",62,1,25,971892,748,{"$f":"IF(County!G1293=0,\"0\",IF(County!G1293<5,\"*\",ROUND((G1293*1),-1)))","v":30},971900,32400]
[null,95,2,"STATE GOVERNMENT",11,25,1342,51320079,735,{"$f":"IF(County!G1294=0,\"0\",IF(County!G1294<5,\"*\",ROUND((G1294*1),-1)))","v":1340},51320100,38300]
[null,95,2,"EDUCATIONAL SERVICES",61,0,0,0,0,{"$f":"IF(County!G1295=0,\"0\",IF(County!G1295<5,\"*\",ROUND((G1295*1),-1)))","v":"0"},0,0]
[null,95,2,"HEALTH CARE AND SOCIAL ASSISTANCE",62,0,0,0,0,{"$f":"IF(County!G1296=0,\"0\",IF(County!G1296<5,\"*\",ROUND((G1296*1),-1)))","v":"0"},0,0]
[null,95,"U","TOTAL UI COVERED",11,2183,37679,1306100410,667,{"$f":"IF(County!G1297=0,\"0\",IF(County!G1297<5,\"*\",ROUND((G1297*1),-1)))","v":37680},1306100400,34700]
[null,95,1,"FEDERAL GOVERNMENT",11,16,243,13620189,1078,{"$f":"IF(County!G1298=0,\"0\",IF(County!G1298<5,\"*\",ROUND((G1298*1),-1)))","v":240},13620200,56800]
[null,97,5,"AGRICULTURE, FORESTRY, FISHING AND HUNTI",11,20,515,23311092,870,{"$f":"IF(County!G1299=0,\"0\",IF(County!G1299<5,\"*\",ROUND((G1299*1),-1)))","v":520},23311100,44800]
[null,97,5,"MINING, QUARRYING, AND OIL AND GAS EXTRA",21,6,152,8472531,1072,{"$f":"IF(County!G1300=0,\"0\",IF(County!G1300<5,\"*\",ROUND((G1300*1),-1)))","v":150},8472500,56500]
[null,97,5,"UTILITIES",22,18,1345,112821353,1613,{"$f":"IF(County!G1301=0,\"0\",IF(County!G1301<5,\"*\",ROUND((G1301*1),-1)))","v":1350},112821400,83600]
[null,97,5,"CONSTRUCTION",23,1688,24030,1393237908,1115,{"$f":"IF(County!G1302=0,\"0\",IF(County!G1302<5,\"*\",ROUND((G1302*1),-1)))","v":24030},1393237900,58000]
[null,97,5,"MANUFACTURING","31-33",930,54911,4826338125,1690,{"$f":"IF(County!G1303=0,\"0\",IF(County!G1303<5,\"*\",ROUND((G1303*1),-1)))","v":54910},4826338100,87900]
[null,97,5,"WHOLESALE TRADE",42,1948,26176,1627347242,1196,{"$f":"IF(County!G1304=0,\"0\",IF(County!G1304<5,\"*\",ROUND((G1304*1),-1)))","v":26180},1627347200,62200]
[null,97,5,"RETAIL TRADE","44-45",2870,51076,1451163790,546,{"$f":"IF(County!G1305=0,\"0\",IF(County!G1305<5,\"*\",ROUND((G1305*1),-1)))","v":51080},1451163800,28400]
[null,97,5,"TRANSPORTATION AND WAREHOUSING","48-49",728,37561,1557894910,798,{"$f":"IF(County!G1306=0,\"0\",IF(County!G1306<5,\"*\",ROUND((G1306*1),-1)))","v":37560},1557894900,41500]
[null,97,5,"INFORMATION",51,419,11479,796540132,1334,{"$f":"IF(County!G1307=0,\"0\",IF(County!G1307<5,\"*\",ROUND((G1307*1),-1)))","v":11480},796540100,69400]
[null,97,5,"FINANCE AND INSURANCE",52,1556,25511,1907782597,1438,{"$f":"IF(County!G1308=0,\"0\",IF(County!G1308<5,\"*\",ROUND((G1308*1),-1)))","v":25510},1907782600,74800]
[null,97,5,"REAL ESTATE AND RENTAL AND LEASING",53,1124,9656,460506630,917,{"$f":"IF(County!G1309=0,\"0\",IF(County!G1309<5,\"*\",ROUND((G1309*1),-1)))","v":9660},460506600,47700]
[null,97,5,"PROFESSIONAL AND TECHNICAL SERVICES",54,3166,33613,2482719961,1420,{"$f":"IF(County!G1310=0,\"0\",IF(County!G1310<5,\"*\",ROUND((G1310*1),-1)))","v":33610},2482720000,73900]
[null,97,5,"MANAGEMENT OF COMPANIES AND ENTERPRISES",55,215,7879,710905809,1735,{"$f":"IF(County!G1311=0,\"0\",IF(County!G1311<5,\"*\",ROUND((G1311*1),-1)))","v":7880},710905800,90200]
[null,97,5,"ADMINISTRATIVE AND WASTE SERVICES",56,1456,52050,1495264563,552,{"$f":"IF(County!G1312=0,\"0\",IF(County!G1312<5,\"*\",ROUND((G1312*1),-1)))","v":52050},1495264600,28700]
[null,97,5,"EDUCATIONAL SERVICES",61,321,10772,421656563,753,{"$f":"IF(County!G1313=0,\"0\",IF(County!G1313<5,\"*\",ROUND((G1313*1),-1)))","v":10770},421656600,39200]
[null,97,5,"HEALTH CARE AND SOCIAL ASSISTANCE",62,1907,81523,4443579541,1048,{"$f":"IF(County!G1314=0,\"0\",IF(County!G1314<5,\"*\",ROUND((G1314*1),-1)))","v":81520},4443579500,54500]
[null,97,5,"ARTS, ENTERTAINMENT, AND RECREATION",71,300,7803,471635969,1162,{"$f":"IF(County!G1315=0,\"0\",IF(County!G1315<5,\"*\",ROUND((G1315*1),-1)))","v":7800},471636000,60500]
[null,97,5,"ACCOMMODATION AND FOOD SERVICES",72,2129,48300,829761680,330,{"$f":"IF(County!G1316=0,\"0\",IF(County!G1316<5,\"*\",ROUND((G1316*1),-1)))","v":48300},829761700,17200]
[null,97,5,"OTHER SERVICES, EXCEPT PUBLIC ADMIN",81,2093,18572,702794448,728,{"$f":"IF(County!G1317=0,\"0\",IF(County!G1317<5,\"*\",ROUND((G1317*1),-1)))","v":18570},702794400,37800]
[null,97,3,"LOCAL GOVERNMENT",11,151,35203,1630495993,891,{"$f":"IF(County!G1318=0,\"0\",IF(County!G1318<5,\"*\",ROUND((G1318*1),-1)))","v":35200},1630496000,46300]
[null,97,3,"EDUCATIONAL SERVICES",61,91,17284,749998621,834,{"$f":"IF(County!G1319=0,\"0\",IF(County!G1319<5,\"*\",ROUND((G1319*1),-1)))","v":17280},749998600,43400]
["D",97,3,"HEALTH CARE AND SOCIAL ASSISTANCE",62,2,4295,208419568,933,{"$f":"IF(County!G1320=0,\"0\",IF(County!G1320<5,\"*\",ROUND((G1320*1),-1)))","v":4300},208419600,48500]
[null,97,2,"STATE GOVERNMENT",11,109,23852,1101991286,888,{"$f":"IF(County!G1321=0,\"0\",IF(County!G1321<5,\"*\",ROUND((G1321*1),-1)))","v":23850},1101991300,46200]
["D",97,2,"EDUCATIONAL SERVICES",61,6,12019,543570186,870,{"$f":"IF(County!G1322=0,\"0\",IF(County!G1322<5,\"*\",ROUND((G1322*1),-1)))","v":12020},543570200,45200]
["D",97,2,"HEALTH CARE AND SOCIAL ASSISTANCE",62,2,329,13685601,800,{"$f":"IF(County!G1323=0,\"0\",IF(County!G1323<5,\"*\",ROUND((G1323*1),-1)))","v":330},13685600,41500]
[null,97,"U","TOTAL UI COVERED",11,23152,561979,28456234623,974,{"$f":"IF(County!G1324=0,\"0\",IF(County!G1324<5,\"*\",ROUND((G1324*1),-1)))","v":561980},28456234600,50600]
[null,97,1,"FEDERAL GOVERNMENT",11,96,14491,1060703716,1408,{"$f":"IF(County!G1325=0,\"0\",IF(County!G1325<5,\"*\",ROUND((G1325*1),-1)))","v":14490},1060703700,73200]
[null,99,5,"AGRICULTURE, FORESTRY, FISHING AND HUNTI",11,18,323,11888162,708,{"$f":"IF(County!G1326=0,\"0\",IF(County!G1326<5,\"*\",ROUND((G1326*1),-1)))","v":320},11888200,37200]
["D",99,5,"MINING, QUARRYING, AND OIL AND GAS EXTRA",21,1,2,77338,744,{"$f":"IF(County!G1327=0,\"0\",IF(County!G1327<5,\"*\",ROUND((G1327*1),-1)))","v":"*"},77300,"*"]
["D",99,5,"UTILITIES",22,2,87,8313033,1838,{"$f":"IF(County!G1328=0,\"0\",IF(County!G1328<5,\"*\",ROUND((G1328*1),-1)))","v":90},8313000,92400]
[null,99,5,"CONSTRUCTION",23,95,462,18303041,762,{"$f":"IF(County!G1329=0,\"0\",IF(County!G1329<5,\"*\",ROUND((G1329*1),-1)))","v":460},18303000,39800]
[null,99,5,"MANUFACTURING","31-33",126,6685,281923989,811,{"$f":"IF(County!G1330=0,\"0\",IF(County!G1330<5,\"*\",ROUND((G1330*1),-1)))","v":6690},281924000,42100]
[null,99,5,"WHOLESALE TRADE",42,69,489,24050174,946,{"$f":"IF(County!G1331=0,\"0\",IF(County!G1331<5,\"*\",ROUND((G1331*1),-1)))","v":490},24050200,49100]
[null,99,5,"RETAIL TRADE","44-45",161,2032,49285621,466,{"$f":"IF(County!G1332=0,\"0\",IF(County!G1332<5,\"*\",ROUND((G1332*1),-1)))","v":2030},49285600,24300]
[null,99,5,"TRANSPORTATION AND WAREHOUSING","48-49",38,348,15494132,856,{"$f":"IF(County!G1333=0,\"0\",IF(County!G1333<5,\"*\",ROUND((G1333*1),-1)))","v":350},15494100,44300]
[null,99,5,"INFORMATION",51,11,99,3459226,672,{"$f":"IF(County!G1334=0,\"0\",IF(County!G1334<5,\"*\",ROUND((G1334*1),-1)))","v":100},3459200,34600]
[null,99,5,"FINANCE AND INSURANCE",52,60,543,30468786,1079,{"$f":"IF(County!G1335=0,\"0\",IF(County!G1335<5,\"*\",ROUND((G1335*1),-1)))","v":540},30468800,56400]
[null,99,5,"REAL ESTATE AND RENTAL AND LEASING",53,22,77,1835203,458,{"$f":"IF(County!G1336=0,\"0\",IF(County!G1336<5,\"*\",ROUND((G1336*1),-1)))","v":80},1835200,22900]
[null,99,5,"PROFESSIONAL AND TECHNICAL SERVICES",54,62,310,11601638,720,{"$f":"IF(County!G1337=0,\"0\",IF(County!G1337<5,\"*\",ROUND((G1337*1),-1)))","v":310},11601600,37400]
["D",99,5,"MANAGEMENT OF COMPANIES AND ENTERPRISES",55,3,40,954623,459,{"$f":"IF(County!G1338=0,\"0\",IF(County!G1338<5,\"*\",ROUND((G1338*1),-1)))","v":40},954600,23900]
[null,99,5,"ADMINISTRATIVE AND WASTE SERVICES",56,39,888,22474498,487,{"$f":"IF(County!G1339=0,\"0\",IF(County!G1339<5,\"*\",ROUND((G1339*1),-1)))","v":890},22474500,25300]
["D",99,5,"EDUCATIONAL SERVICES",61,8,807,28135000,670,{"$f":"IF(County!G1340=0,\"0\",IF(County!G1340<5,\"*\",ROUND((G1340*1),-1)))","v":810},28135000,34700]
[null,99,5,"HEALTH CARE AND SOCIAL ASSISTANCE",62,70,1640,53185802,624,{"$f":"IF(County!G1341=0,\"0\",IF(County!G1341<5,\"*\",ROUND((G1341*1),-1)))","v":1640},53185800,32400]
[null,99,5,"ARTS, ENTERTAINMENT, AND RECREATION",71,11,146,1704302,224,{"$f":"IF(County!G1342=0,\"0\",IF(County!G1342<5,\"*\",ROUND((G1342*1),-1)))","v":150},1704300,11400]
[null,99,5,"ACCOMMODATION AND FOOD SERVICES",72,81,1491,20168246,260,{"$f":"IF(County!G1343=0,\"0\",IF(County!G1343<5,\"*\",ROUND((G1343*1),-1)))","v":1490},20168200,13500]
[null,99,5,"OTHER SERVICES, EXCEPT PUBLIC ADMIN",81,94,642,18874079,565,{"$f":"IF(County!G1344=0,\"0\",IF(County!G1344<5,\"*\",ROUND((G1344*1),-1)))","v":640},18874100,29500]
[null,99,3,"LOCAL GOVERNMENT",11,34,1905,61144051,617,{"$f":"IF(County!G1345=0,\"0\",IF(County!G1345<5,\"*\",ROUND((G1345*1),-1)))","v":1910},61144100,32000]
[null,99,3,"EDUCATIONAL SERVICES",61,12,1218,41348889,653,{"$f":"IF(County!G1346=0,\"0\",IF(County!G1346<5,\"*\",ROUND((G1346*1),-1)))","v":1220},41348900,33900]
[null,99,3,"HEALTH CARE AND SOCIAL ASSISTANCE",62,0,0,0,0,{"$f":"IF(County!G1347=0,\"0\",IF(County!G1347<5,\"*\",ROUND((G1347*1),-1)))","v":"0"},0,0]
[null,99,2,"STATE GOVERNMENT",11,16,103,4420436,825,{"$f":"IF(County!G1348=0,\"0\",IF(County!G1348<5,\"*\",ROUND((G1348*1),-1)))","v":100},4420400,{"$f":"IF(G1348=0,0,IF(J1348=\"*\",\"*\",ROUND((K1348/J1348),-2)))","v":44200}]
[null,99,2,"EDUCATIONAL SERVICES",61,0,0,0,0,{"$f":"IF(County!G1349=0,\"0\",IF(County!G1349<5,\"*\",ROUND((G1349*1),-1)))","v":"0"},0,0]
[null,99,2,"HEALTH CARE AND SOCIAL ASSISTANCE",62,0,0,0,0,{"$f":"IF(County!G1350=0,\"0\",IF(County!G1350<5,\"*\",ROUND((G1350*1),-1)))","v":"0"},0,0]
[null,99,"U","TOTAL UI COVERED",11,1020,19120,667761380,672,{"$f":"IF(County!G1351=0,\"0\",IF(County!G1351<5,\"*\",ROUND((G1351*1),-1)))","v":19120},667761400,34900]
[null,99,1,"FEDERAL GOVERNMENT",11,11,92,4302273,899,{"$f":"IF(County!G1352=0,\"0\",IF(County!G1352<5,\"*\",ROUND((G1352*1),-1)))","v":90},4302300,47800]
["D",101,5,"AGRICULTURE, FORESTRY, FISHING AND HUNTI",11,3,8,225372,542,{"$f":"IF(County!G1353=0,\"0\",IF(County!G1353<5,\"*\",ROUND((G1353*1),-1)))","v":10},{"$f":"ROUND((H1353),-2)","v":225400},22500]
[null,101,5,"MINING, QUARRYING, AND OIL AND GAS EXTRA",21,0,0,0,0,{"$f":"IF(County!G1354=0,\"0\",IF(County!G1354<5,\"*\",ROUND((G1354*1),-1)))","v":"0"},0,0]
[null,101,5,"UTILITIES",22,3,14,729967,1003,{"$f":"IF(County!G1355=0,\"0\",IF(County!G1355<5,\"*\",ROUND((G1355*1),-1)))","v":10},730000,73000]
[null,101,5,"CONSTRUCTION",23,19,76,3162763,800,{"$f":"IF(County!G1356=0,\"0\",IF(County!G1356<5,\"*\",ROUND((G1356*1),-1)))","v":80},3162800,39500]
[null,101,5,"MANUFACTURING","31-33",11,378,18879540,960,{"$f":"IF(County!G1357=0,\"0\",IF(County!G1357<5,\"*\",ROUND((G1357*1),-1)))","v":380},18879500,49700]
[null,101,5,"WHOLESALE TRADE",42,11,118,5340107,870,{"$f":"IF(County!G1358=0,\"0\",IF(County!G1358<5,\"*\",ROUND((G1358*1),-1)))","v":120},5340100,44500]
[null,101,5,"RETAIL TRADE","44-45",30,306,6074705,382,{"$f":"IF(County!G1359=0,\"0\",IF(County!G1359<5,\"*\",ROUND((G1359*1),-1)))","v":310},6074700,19600]
[null,101,5,"TRANSPORTATION AND WAREHOUSING","48-49",11,112,3850687,661,{"$f":"IF(County!G1360=0,\"0\",IF(County!G1360<5,\"*\",ROUND((G1360*1),-1)))","v":110},3850700,35000]
[null,101,5,"INFORMATION",51,4,40,971062,467,{"$f":"IF(County!G1361=0,\"0\",IF(County!G1361<5,\"*\",ROUND((G1361*1),-1)))","v":40},971100,24300]
[null,101,5,"FINANCE AND INSURANCE",52,9,52,1676720,620,{"$f":"IF(County!G1362=0,\"0\",IF(County!G1362<5,\"*\",ROUND((G1362*1),-1)))","v":50},1676700,33500]
[null,101,5,"REAL ESTATE AND RENTAL AND LEASING",53,4,19,472935,479,{"$f":"IF(County!G1363=0,\"0\",IF(County!G1363<5,\"*\",ROUND((G1363*1),-1)))","v":20},472900,23600]
[null,101,5,"PROFESSIONAL AND TECHNICAL SERVICES",54,24,891,55578416,1200,{"$f":"IF(County!G1364=0,\"0\",IF(County!G1364<5,\"*\",ROUND((G1364*1),-1)))","v":890},55578400,62400]
[null,101,5,"MANAGEMENT OF COMPANIES AND ENTERPRISES",55,0,0,0,0,{"$f":"IF(County!G1365=0,\"0\",IF(County!G1365<5,\"*\",ROUND((G1365*1),-1)))","v":"0"},0,0]
[null,101,5,"ADMINISTRATIVE AND WASTE SERVICES",56,8,24,459907,369,{"$f":"IF(County!G1366=0,\"0\",IF(County!G1366<5,\"*\",ROUND((G1366*1),-1)))","v":20},459900,23000]
[null,101,5,"EDUCATIONAL SERVICES",61,0,0,0,0,{"$f":"IF(County!G1367=0,\"0\",IF(County!G1367<5,\"*\",ROUND((G1367*1),-1)))","v":"0"},0,0]
[null,101,5,"HEALTH CARE AND SOCIAL ASSISTANCE",62,11,120,2802473,449,{"$f":"IF(County!G1368=0,\"0\",IF(County!G1368<5,\"*\",ROUND((G1368*1),-1)))","v":120},2802500,23400]
["D",101,5,"ARTS, ENTERTAINMENT, AND RECREATION",71,1,3,8365,54,{"$f":"IF(County!G1369=0,\"0\",IF(County!G1369<5,\"*\",ROUND((G1369*1),-1)))","v":"*"},8400,"*"]
[null,101,5,"ACCOMMODATION AND FOOD SERVICES",72,21,285,2878639,194,{"$f":"IF(County!G1370=0,\"0\",IF(County!G1370<5,\"*\",ROUND((G1370*1),-1)))","v":290},2878600,9900]
[null,101,5,"OTHER SERVICES, EXCEPT PUBLIC ADMIN",81,22,64,1143449,344,{"$f":"IF(County!G1371=0,\"0\",IF(County!G1371<5,\"*\",ROUND((G1371*1),-1)))","v":60},1143400,19100]
[null,101,3,"LOCAL GOVERNMENT",11,14,386,10859404,541,{"$f":"IF(County!G1372=0,\"0\",IF(County!G1372<5,\"*\",ROUND((G1372*1),-1)))","v":390},10859400,27800]
[null,101,3,"EDUCATIONAL SERVICES",61,3,223,7391138,637,{"$f":"IF(County!G1373=0,\"0\",IF(County!G1373<5,\"*\",ROUND((G1373*1),-1)))","v":220},7391100,33600]
[null,101,3,"HEALTH CARE AND SOCIAL ASSISTANCE",62,0,0,0,0,{"$f":"IF(County!G1374=0,\"0\",IF(County!G1374<5,\"*\",ROUND((G1374*1),-1)))","v":"0"},0,0]
[null,101,2,"STATE GOVERNMENT",11,8,24,980428,786,{"$f":"IF(County!G1375=0,\"0\",IF(County!G1375<5,\"*\",ROUND((G1375*1),-1)))","v":20},980400,49000]
[null,101,2,"EDUCATIONAL SERVICES",61,0,0,0,0,{"$f":"IF(County!G1376=0,\"0\",IF(County!G1376<5,\"*\",ROUND((G1376*1),-1)))","v":"0"},0,0]
[null,101,2,"HEALTH CARE AND SOCIAL ASSISTANCE",62,0,0,0,0,{"$f":"IF(County!G1377=0,\"0\",IF(County!G1377<5,\"*\",ROUND((G1377*1),-1)))","v":"0"},0,0]
[null,101,"U","TOTAL UI COVERED",11,212,2921,116094939,764,{"$f":"IF(County!G1378=0,\"0\",IF(County!G1378<5,\"*\",ROUND((G1378*1),-1)))","v":2920},116094900,39800]
[null,101,1,"FEDERAL GOVERNMENT",11,6,4004,336261367,1615,{"$f":"IF(County!G1379=0,\"0\",IF(County!G1379<5,\"*\",ROUND((G1379*1),-1)))","v":4000},336261400,84100]
[null,103,5,"AGRICULTURE, FORESTRY, FISHING AND HUNTI",11,23,179,4262427,458,{"$f":"IF(County!G1380=0,\"0\",IF(County!G1380<5,\"*\",ROUND((G1380*1),-1)))","v":180},4262400,23700]
[null,103,5,"MINING, QUARRYING, AND OIL AND GAS EXTRA",21,3,42,2085295,955,{"$f":"IF(County!G1381=0,\"0\",IF(County!G1381<5,\"*\",ROUND((G1381*1),-1)))","v":40},2085300,52100]
["D",103,5,"UTILITIES",22,2,52,4041594,1495,{"$f":"IF(County!G1382=0,\"0\",IF(County!G1382<5,\"*\",ROUND((G1382*1),-1)))","v":50},4041600,80800]
[null,103,5,"CONSTRUCTION",23,57,311,13232858,818,{"$f":"IF(County!G1383=0,\"0\",IF(County!G1383<5,\"*\",ROUND((G1383*1),-1)))","v":310},13232900,42700]
[null,103,5,"MANUFACTURING","31-33",39,1821,76201546,805,{"$f":"IF(County!G1384=0,\"0\",IF(County!G1384<5,\"*\",ROUND((G1384*1),-1)))","v":1820},76201500,41900]
[null,103,5,"WHOLESALE TRADE",42,35,244,9946967,784,{"$f":"IF(County!G1385=0,\"0\",IF(County!G1385<5,\"*\",ROUND((G1385*1),-1)))","v":240},9947000,41400]
[null,103,5,"RETAIL TRADE","44-45",88,868,18903209,419,{"$f":"IF(County!G1386=0,\"0\",IF(County!G1386<5,\"*\",ROUND((G1386*1),-1)))","v":870},18903200,21700]
[null,103,5,"TRANSPORTATION AND WAREHOUSING","48-49",22,300,9512942,610,{"$f":"IF(County!G1387=0,\"0\",IF(County!G1387<5,\"*\",ROUND((G1387*1),-1)))","v":300},9512900,31700]
[null,103,5,"INFORMATION",51,7,96,2137150,428,{"$f":"IF(County!G1388=0,\"0\",IF(County!G1388<5,\"*\",ROUND((G1388*1),-1)))","v":100},2137200,21400]
[null,103,5,"FINANCE AND INSURANCE",52,40,263,11410540,834,{"$f":"IF(County!G1389=0,\"0\",IF(County!G1389<5,\"*\",ROUND((G1389*1),-1)))","v":260},11410500,43900]
[null,103,5,"REAL ESTATE AND RENTAL AND LEASING",53,18,66,1420550,414,{"$f":"IF(County!G1390=0,\"0\",IF(County!G1390<5,\"*\",ROUND((G1390*1),-1)))","v":70},1420600,20300]
[null,103,5,"PROFESSIONAL AND TECHNICAL SERVICES",54,28,90,3016543,645,{"$f":"IF(County!G1391=0,\"0\",IF(County!G1391<5,\"*\",ROUND((G1391*1),-1)))","v":90},3016500,33500]
[null,103,5,"MANAGEMENT OF COMPANIES AND ENTERPRISES",55,0,0,0,0,{"$f":"IF(County!G1392=0,\"0\",IF(County!G1392<5,\"*\",ROUND((G1392*1),-1)))","v":"0"},0,0]
[null,103,5,"ADMINISTRATIVE AND WASTE SERVICES",56,20,162,6358319,755,{"$f":"IF(County!G1393=0,\"0\",IF(County!G1393<5,\"*\",ROUND((G1393*1),-1)))","v":160},6358300,39700]
["D",103,5,"EDUCATIONAL SERVICES",61,2,13,872306,1290,{"$f":"IF(County!G1394=0,\"0\",IF(County!G1394<5,\"*\",ROUND((G1394*1),-1)))","v":10},872300,87200]
[null,103,5,"HEALTH CARE AND SOCIAL ASSISTANCE",62,33,984,31314741,612,{"$f":"IF(County!G1395=0,\"0\",IF(County!G1395<5,\"*\",ROUND((G1395*1),-1)))","v":980},31314700,32000]
[null,103,5,"ARTS, ENTERTAINMENT, AND RECREATION",71,6,37,487816,254,{"$f":"IF(County!G1396=0,\"0\",IF(County!G1396<5,\"*\",ROUND((G1396*1),-1)))","v":40},487800,12200]
[null,103,5,"ACCOMMODATION AND FOOD SERVICES",72,57,846,9305502,212,{"$f":"IF(County!G1397=0,\"0\",IF(County!G1397<5,\"*\",ROUND((G1397*1),-1)))","v":850},9305500,10900]
[null,103,5,"OTHER SERVICES, EXCEPT PUBLIC ADMIN",81,47,296,6584983,428,{"$f":"IF(County!G1398=0,\"0\",IF(County!G1398<5,\"*\",ROUND((G1398*1),-1)))","v":300},6585000,22000]
[null,103,3,"LOCAL GOVERNMENT",11,29,1344,41483305,594,{"$f":"IF(County!G1399=0,\"0\",IF(County!G1399<5,\"*\",ROUND((G1399*1),-1)))","v":1340},41483300,31000]
[null,103,3,"EDUCATIONAL SERVICES",61,13,802,26125865,626,{"$f":"IF(County!G1400=0,\"0\",IF(County!G1400<5,\"*\",ROUND((G1400*1),-1)))","v":800},26125900,32700]
[null,103,3,"HEALTH CARE AND SOCIAL ASSISTANCE",62,0,0,0,0,{"$f":"IF(County!G1401=0,\"0\",IF(County!G1401<5,\"*\",ROUND((G1401*1),-1)))","v":"0"},0,0]
[null,103,2,"STATE GOVERNMENT",11,14,610,22095245,697,{"$f":"IF(County!G1402=0,\"0\",IF(County!G1402<5,\"*\",ROUND((G1402*1),-1)))","v":610},22095200,36200]
[null,103,2,"EDUCATIONAL SERVICES",61,0,0,0,0,{"$f":"IF(County!G1403=0,\"0\",IF(County!G1403<5,\"*\",ROUND((G1403*1),-1)))","v":"0"},0,0]
[null,103,2,"HEALTH CARE AND SOCIAL ASSISTANCE",62,0,0,0,0,{"$f":"IF(County!G1404=0,\"0\",IF(County!G1404<5,\"*\",ROUND((G1404*1),-1)))","v":"0"},0,0]
[null,103,"U","TOTAL UI COVERED",11,568,8626,274673838,612,{"$f":"IF(County!G1405=0,\"0\",IF(County!G1405<5,\"*\",ROUND((G1405*1),-1)))","v":8630},274673800,31800]
[null,103,1,"FEDERAL GOVERNMENT",11,18,642,39961956,1197,{"$f":"IF(County!G1406=0,\"0\",IF(County!G1406<5,\"*\",ROUND((G1406*1),-1)))","v":640},39962000,62400]
[null,105,5,"AGRICULTURE, FORESTRY, FISHING AND HUNTI",11,12,75,1853210,475,{"$f":"IF(County!G1407=0,\"0\",IF(County!G1407<5,\"*\",ROUND((G1407*1),-1)))","v":80},1853200,23200]
[null,105,5,"MINING, QUARRYING, AND OIL AND GAS EXTRA",21,10,156,7518384,927,{"$f":"IF(County!G1408=0,\"0\",IF(County!G1408<5,\"*\",ROUND((G1408*1),-1)))","v":160},7518400,47000]
[null,105,5,"UTILITIES",22,13,367,33565825,1759,{"$f":"IF(County!G1409=0,\"0\",IF(County!G1409<5,\"*\",ROUND((G1409*1),-1)))","v":370},33565800,90700]
[null,105,5,"CONSTRUCTION",23,249,2045,97603613,918,{"$f":"IF(County!G1410=0,\"0\",IF(County!G1410<5,\"*\",ROUND((G1410*1),-1)))","v":2050},97603600,47600]
[null,105,5,"MANUFACTURING","31-33",103,6808,321364243,908,{"$f":"IF(County!G1411=0,\"0\",IF(County!G1411<5,\"*\",ROUND((G1411*1),-1)))","v":6810},321364200,47200]
[null,105,5,"WHOLESALE TRADE",42,128,1401,69930181,960,{"$f":"IF(County!G1412=0,\"0\",IF(County!G1412<5,\"*\",ROUND((G1412*1),-1)))","v":1400},69930200,{"$f":"IF(G1412=0,0,IF(J1412=\"*\",\"*\",ROUND((K1412/J1412),-2)))","v":50000}]
[null,105,5,"RETAIL TRADE","44-45",425,7023,150467278,412,{"$f":"IF(County!G1413=0,\"0\",IF(County!G1413<5,\"*\",ROUND((G1413*1),-1)))","v":7020},150467300,21400]
[null,105,5,"TRANSPORTATION AND WAREHOUSING","48-49",48,961,30298105,606,{"$f":"IF(County!G1414=0,\"0\",IF(County!G1414<5,\"*\",ROUND((G1414*1),-1)))","v":960},30298100,31600]
[null,105,5,"INFORMATION",51,58,1103,47834070,834,{"$f":"IF(County!G1415=0,\"0\",IF(County!G1415<5,\"*\",ROUND((G1415*1),-1)))","v":1100},47834100,43500]
[null,105,5,"FINANCE AND INSURANCE",52,157,1377,63590046,888,{"$f":"IF(County!G1416=0,\"0\",IF(County!G1416<5,\"*\",ROUND((G1416*1),-1)))","v":1380},63590000,46100]
[null,105,5,"REAL ESTATE AND RENTAL AND LEASING",53,173,1111,34617097,599,{"$f":"IF(County!G1417=0,\"0\",IF(County!G1417<5,\"*\",ROUND((G1417*1),-1)))","v":1110},{"$f":"ROUND((H1417),-2)","v":34617100},31200]
[null,105,5,"PROFESSIONAL AND TECHNICAL SERVICES",54,285,1707,96457016,1087,{"$f":"IF(County!G1418=0,\"0\",IF(County!G1418<5,\"*\",ROUND((G1418*1),-1)))","v":1710},96457000,56400]
[null,105,5,"MANAGEMENT OF COMPANIES AND ENTERPRISES",55,23,360,40897039,2185,{"$f":"IF(County!G1419=0,\"0\",IF(County!G1419<5,\"*\",ROUND((G1419*1),-1)))","v":360},40897000,113600]
[null,105,5,"ADMINISTRATIVE AND WASTE SERVICES",56,157,2008,57498098,551,{"$f":"IF(County!G1420=0,\"0\",IF(County!G1420<5,\"*\",ROUND((G1420*1),-1)))","v":2010},57498100,28600]
[null,105,5,"EDUCATIONAL SERVICES",61,50,499,12235491,472,{"$f":"IF(County!G1421=0,\"0\",IF(County!G1421<5,\"*\",ROUND((G1421*1),-1)))","v":500},12235500,24500]
[null,105,5,"HEALTH CARE AND SOCIAL ASSISTANCE",62,297,8677,357738810,793,{"$f":"IF(County!G1422=0,\"0\",IF(County!G1422<5,\"*\",ROUND((G1422*1),-1)))","v":8680},357738800,41200]
[null,105,5,"ARTS, ENTERTAINMENT, AND RECREATION",71,46,402,7835099,375,{"$f":"IF(County!G1423=0,\"0\",IF(County!G1423<5,\"*\",ROUND((G1423*1),-1)))","v":400},7835100,19600]
[null,105,5,"ACCOMMODATION AND FOOD SERVICES",72,322,7448,102789144,265,{"$f":"IF(County!G1424=0,\"0\",IF(County!G1424<5,\"*\",ROUND((G1424*1),-1)))","v":7450},102789100,13800]
[null,105,5,"OTHER SERVICES, EXCEPT PUBLIC ADMIN",81,242,1983,53182369,516,{"$f":"IF(County!G1425=0,\"0\",IF(County!G1425<5,\"*\",ROUND((G1425*1),-1)))","v":1980},53182400,26900]
[null,105,3,"LOCAL GOVERNMENT",11,55,4319,147630780,657,{"$f":"IF(County!G1426=0,\"0\",IF(County!G1426<5,\"*\",ROUND((G1426*1),-1)))","v":4320},147630800,34200]
["D",105,3,"EDUCATIONAL SERVICES",61,30,2098,70202599,643,{"$f":"IF(County!G1427=0,\"0\",IF(County!G1427<5,\"*\",ROUND((G1427*1),-1)))","v":2100},70202600,33400]
[null,105,3,"HEALTH CARE AND SOCIAL ASSISTANCE",62,0,0,0,0,{"$f":"IF(County!G1428=0,\"0\",IF(County!G1428<5,\"*\",ROUND((G1428*1),-1)))","v":"0"},0,0]
["D",105,2,"STATE GOVERNMENT",11,26,11394,605246577,1022,{"$f":"IF(County!G1429=0,\"0\",IF(County!G1429<5,\"*\",ROUND((G1429*1),-1)))","v":11390},605246600,53100]
["D",105,2,"EDUCATIONAL SERVICES",61,2,11094,594174725,1030,{"$f":"IF(County!G1430=0,\"0\",IF(County!G1430<5,\"*\",ROUND((G1430*1),-1)))","v":11090},594174700,53600]
[null,105,2,"HEALTH CARE AND SOCIAL ASSISTANCE",62,0,0,0,0,{"$f":"IF(County!G1431=0,\"0\",IF(County!G1431<5,\"*\",ROUND((G1431*1),-1)))","v":"0"},0,0]
[null,105,"U","TOTAL UI COVERED",11,2876,61226,2340199101,735,{"$f":"IF(County!G1432=0,\"0\",IF(County!G1432<5,\"*\",ROUND((G1432*1),-1)))","v":61230},2340199100,38200]
[null,105,1,"FEDERAL GOVERNMENT",11,22,279,17817532,1228,{"$f":"IF(County!G1433=0,\"0\",IF(County!G1433<5,\"*\",ROUND((G1433*1),-1)))","v":280},17817500,63600]
[null,107,5,"AGRICULTURE, FORESTRY, FISHING AND HUNTI",11,22,145,4881132,647,{"$f":"IF(County!G1434=0,\"0\",IF(County!G1434<5,\"*\",ROUND((G1434*1),-1)))","v":150},4881100,32500]
["D",107,5,"MINING, QUARRYING, AND OIL AND GAS EXTRA",21,2,25,1078280,829,{"$f":"IF(County!G1435=0,\"0\",IF(County!G1435<5,\"*\",ROUND((G1435*1),-1)))","v":30},1078300,35900]
["D",107,5,"UTILITIES",22,2,69,5326154,1484,{"$f":"IF(County!G1436=0,\"0\",IF(County!G1436<5,\"*\",ROUND((G1436*1),-1)))","v":70},5326200,76100]
[null,107,5,"CONSTRUCTION",23,81,375,15420415,791,{"$f":"IF(County!G1437=0,\"0\",IF(County!G1437<5,\"*\",ROUND((G1437*1),-1)))","v":380},15420400,40600]
[null,107,5,"MANUFACTURING","31-33",56,4952,274616176,1066,{"$f":"IF(County!G1438=0,\"0\",IF(County!G1438<5,\"*\",ROUND((G1438*1),-1)))","v":4950},274616200,55500]
[null,107,5,"WHOLESALE TRADE",42,46,422,23858360,1087,{"$f":"IF(County!G1439=0,\"0\",IF(County!G1439<5,\"*\",ROUND((G1439*1),-1)))","v":420},23858400,56800]
[null,107,5,"RETAIL TRADE","44-45",121,1581,34933670,425,{"$f":"IF(County!G1440=0,\"0\",IF(County!G1440<5,\"*\",ROUND((G1440*1),-1)))","v":1580},34933700,22100]
[null,107,5,"TRANSPORTATION AND WAREHOUSING","48-49",47,693,22455618,623,{"$f":"IF(County!G1441=0,\"0\",IF(County!G1441<5,\"*\",ROUND((G1441*1),-1)))","v":690},22455600,32500]
[null,107,5,"INFORMATION",51,11,123,5376814,841,{"$f":"IF(County!G1442=0,\"0\",IF(County!G1442<5,\"*\",ROUND((G1442*1),-1)))","v":120},5376800,44800]
[null,107,5,"FINANCE AND INSURANCE",52,53,272,11936182,844,{"$f":"IF(County!G1443=0,\"0\",IF(County!G1443<5,\"*\",ROUND((G1443*1),-1)))","v":270},11936200,44200]
[null,107,5,"REAL ESTATE AND RENTAL AND LEASING",53,28,81,2363412,561,{"$f":"IF(County!G1444=0,\"0\",IF(County!G1444<5,\"*\",ROUND((G1444*1),-1)))","v":80},2363400,29500]
[null,107,5,"PROFESSIONAL AND TECHNICAL SERVICES",54,50,209,7677637,706,{"$f":"IF(County!G1445=0,\"0\",IF(County!G1445<5,\"*\",ROUND((G1445*1),-1)))","v":210},7677600,36600]
["D",107,5,"MANAGEMENT OF COMPANIES AND ENTERPRISES",55,3,31,1744902,1082,{"$f":"IF(County!G1446=0,\"0\",IF(County!G1446<5,\"*\",ROUND((G1446*1),-1)))","v":30},1744900,58200]
[null,107,5,"ADMINISTRATIVE AND WASTE SERVICES",56,42,821,17940861,420,{"$f":"IF(County!G1447=0,\"0\",IF(County!G1447<5,\"*\",ROUND((G1447*1),-1)))","v":820},17940900,21900]
["D",107,5,"EDUCATIONAL SERVICES",61,7,292,13708152,903,{"$f":"IF(County!G1448=0,\"0\",IF(County!G1448<5,\"*\",ROUND((G1448*1),-1)))","v":290},13708200,47300]
[null,107,5,"HEALTH CARE AND SOCIAL ASSISTANCE",62,72,1368,55152722,775,{"$f":"IF(County!G1449=0,\"0\",IF(County!G1449<5,\"*\",ROUND((G1449*1),-1)))","v":1370},55152700,40300]
[null,107,5,"ARTS, ENTERTAINMENT, AND RECREATION",71,10,116,1269946,211,{"$f":"IF(County!G1450=0,\"0\",IF(County!G1450<5,\"*\",ROUND((G1450*1),-1)))","v":120},1269900,10600]
[null,107,5,"ACCOMMODATION AND FOOD SERVICES",72,79,1259,17972430,275,{"$f":"IF(County!G1451=0,\"0\",IF(County!G1451<5,\"*\",ROUND((G1451*1),-1)))","v":1260},17972400,14300]
[null,107,5,"OTHER SERVICES, EXCEPT PUBLIC ADMIN",81,80,311,6457536,399,{"$f":"IF(County!G1452=0,\"0\",IF(County!G1452<5,\"*\",ROUND((G1452*1),-1)))","v":310},6457500,20800]
[null,107,3,"LOCAL GOVERNMENT",11,39,1586,50440596,612,{"$f":"IF(County!G1453=0,\"0\",IF(County!G1453<5,\"*\",ROUND((G1453*1),-1)))","v":1590},50440600,31700]
[null,107,3,"EDUCATIONAL SERVICES",61,17,1017,32056920,606,{"$f":"IF(County!G1454=0,\"0\",IF(County!G1454<5,\"*\",ROUND((G1454*1),-1)))","v":1020},32056900,31400]
["D",107,3,"HEALTH CARE AND SOCIAL ASSISTANCE",62,1,2,51239,493,{"$f":"IF(County!G1455=0,\"0\",IF(County!G1455<5,\"*\",ROUND((G1455*1),-1)))","v":"*"},51200,"*"]
[null,107,2,"STATE GOVERNMENT",11,15,221,9935117,865,{"$f":"IF(County!G1456=0,\"0\",IF(County!G1456<5,\"*\",ROUND((G1456*1),-1)))","v":220},9935100,45200]
[null,107,2,"EDUCATIONAL SERVICES",61,0,0,0,0,{"$f":"IF(County!G1457=0,\"0\",IF(County!G1457<5,\"*\",ROUND((G1457*1),-1)))","v":"0"},0,0]
[null,107,2,"HEALTH CARE AND SOCIAL ASSISTANCE",62,0,0,0,0,{"$f":"IF(County!G1458=0,\"0\",IF(County!G1458<5,\"*\",ROUND((G1458*1),-1)))","v":"0"},0,0]
[null,107,"U","TOTAL UI COVERED",11,863,14950,584546112,752,{"$f":"IF(County!G1459=0,\"0\",IF(County!G1459<5,\"*\",ROUND((G1459*1),-1)))","v":14950},584546100,39100]
[null,107,1,"FEDERAL GOVERNMENT",11,14,82,4008042,940,{"$f":"IF(County!G1460=0,\"0\",IF(County!G1460<5,\"*\",ROUND((G1460*1),-1)))","v":80},4008000,50100]
[null,109,5,"AGRICULTURE, FORESTRY, FISHING AND HUNTI",11,16,73,2180794,574,{"$f":"IF(County!G1461=0,\"0\",IF(County!G1461<5,\"*\",ROUND((G1461*1),-1)))","v":70},2180800,31200]
[null,109,5,"MINING, QUARRYING, AND OIL AND GAS EXTRA",21,8,52,2330102,862,{"$f":"IF(County!G1462=0,\"0\",IF(County!G1462<5,\"*\",ROUND((G1462*1),-1)))","v":50},2330100,46600]
[null,109,5,"UTILITIES",22,10,191,14874041,1498,{"$f":"IF(County!G1463=0,\"0\",IF(County!G1463<5,\"*\",ROUND((G1463*1),-1)))","v":190},14874000,78300]
[null,109,5,"CONSTRUCTION",23,176,921,37974149,793,{"$f":"IF(County!G1464=0,\"0\",IF(County!G1464<5,\"*\",ROUND((G1464*1),-1)))","v":920},37974100,41300]
[null,109,5,"MANUFACTURING","31-33",65,2363,109969708,895,{"$f":"IF(County!G1465=0,\"0\",IF(County!G1465<5,\"*\",ROUND((G1465*1),-1)))","v":2360},109969700,46600]
[null,109,5,"WHOLESALE TRADE",42,57,373,21826426,1125,{"$f":"IF(County!G1466=0,\"0\",IF(County!G1466<5,\"*\",ROUND((G1466*1),-1)))","v":370},21826400,59000]
[null,109,5,"RETAIL TRADE","44-45",168,2290,53603643,450,{"$f":"IF(County!G1467=0,\"0\",IF(County!G1467<5,\"*\",ROUND((G1467*1),-1)))","v":2290},53603600,23400]
[null,109,5,"TRANSPORTATION AND WAREHOUSING","48-49",37,139,4957142,686,{"$f":"IF(County!G1468=0,\"0\",IF(County!G1468<5,\"*\",ROUND((G1468*1),-1)))","v":140},4957100,35400]
[null,109,5,"INFORMATION",51,9,92,3444617,720,{"$f":"IF(County!G1469=0,\"0\",IF(County!G1469<5,\"*\",ROUND((G1469*1),-1)))","v":90},3444600,38300]
[null,109,5,"FINANCE AND INSURANCE",52,74,380,17745582,898,{"$f":"IF(County!G1470=0,\"0\",IF(County!G1470<5,\"*\",ROUND((G1470*1),-1)))","v":380},17745600,46700]
[null,109,5,"REAL ESTATE AND RENTAL AND LEASING",53,47,140,4772488,656,{"$f":"IF(County!G1471=0,\"0\",IF(County!G1471<5,\"*\",ROUND((G1471*1),-1)))","v":140},4772500,34100]
[null,109,5,"PROFESSIONAL AND TECHNICAL SERVICES",54,107,395,16841291,820,{"$f":"IF(County!G1472=0,\"0\",IF(County!G1472<5,\"*\",ROUND((G1472*1),-1)))","v":400},16841300,42100]
["D",109,5,"MANAGEMENT OF COMPANIES AND ENTERPRISES",55,1,1,36922,710,{"$f":"IF(County!G1473=0,\"0\",IF(County!G1473<5,\"*\",ROUND((G1473*1),-1)))","v":"*"},36900,"*"]
[null,109,5,"ADMINISTRATIVE AND WASTE SERVICES",56,71,588,20919428,684,{"$f":"IF(County!G1474=0,\"0\",IF(County!G1474<5,\"*\",ROUND((G1474*1),-1)))","v":590},20919400,35500]
[null,109,5,"EDUCATIONAL SERVICES",61,8,43,509340,228,{"$f":"IF(County!G1475=0,\"0\",IF(County!G1475<5,\"*\",ROUND((G1475*1),-1)))","v":40},509300,12700]
[null,109,5,"HEALTH CARE AND SOCIAL ASSISTANCE",62,88,1821,62937534,665,{"$f":"IF(County!G1476=0,\"0\",IF(County!G1476<5,\"*\",ROUND((G1476*1),-1)))","v":1820},62937500,{"$f":"IF(G1476=0,0,IF(J1476=\"*\",\"*\",ROUND((K1476/J1476),-2)))","v":34600}]
[null,109,5,"ARTS, ENTERTAINMENT, AND RECREATION",71,13,105,1427604,261,{"$f":"IF(County!G1477=0,\"0\",IF(County!G1477<5,\"*\",ROUND((G1477*1),-1)))","v":110},1427600,13000]
[null,109,5,"ACCOMMODATION AND FOOD SERVICES",72,80,1640,22111599,259,{"$f":"IF(County!G1478=0,\"0\",IF(County!G1478<5,\"*\",ROUND((G1478*1),-1)))","v":1640},22111600,13500]
[null,109,5,"OTHER SERVICES, EXCEPT PUBLIC ADMIN",81,107,499,14372517,554,{"$f":"IF(County!G1479=0,\"0\",IF(County!G1479<5,\"*\",ROUND((G1479*1),-1)))","v":500},14372500,28700]
[null,109,3,"LOCAL GOVERNMENT",11,49,2410,77228430,616,{"$f":"IF(County!G1480=0,\"0\",IF(County!G1480<5,\"*\",ROUND((G1480*1),-1)))","v":2410},77228400,32000]
[null,109,3,"EDUCATIONAL SERVICES",61,31,1436,51808796,694,{"$f":"IF(County!G1481=0,\"0\",IF(County!G1481<5,\"*\",ROUND((G1481*1),-1)))","v":1440},{"$f":"ROUND((H1481),-2)","v":51808800},36000]
[null,109,3,"HEALTH CARE AND SOCIAL ASSISTANCE",62,0,0,0,0,{"$f":"IF(County!G1482=0,\"0\",IF(County!G1482<5,\"*\",ROUND((G1482*1),-1)))","v":"0"},0,0]
[null,109,2,"STATE GOVERNMENT",11,13,93,3646452,754,{"$f":"IF(County!G1483=0,\"0\",IF(County!G1483<5,\"*\",ROUND((G1483*1),-1)))","v":90},3646500,40500]
[null,109,2,"EDUCATIONAL SERVICES",61,0,0,0,0,{"$f":"IF(County!G1484=0,\"0\",IF(County!G1484<5,\"*\",ROUND((G1484*1),-1)))","v":"0"},0,0]
[null,109,2,"HEALTH CARE AND SOCIAL ASSISTANCE",62,0,0,0,0,{"$f":"IF(County!G1485=0,\"0\",IF(County!G1485<5,\"*\",ROUND((G1485*1),-1)))","v":"0"},0,0]
[null,109,"U","TOTAL UI COVERED",11,1202,14610,493709809,650,{"$f":"IF(County!G1486=0,\"0\",IF(County!G1486<5,\"*\",ROUND((G1486*1),-1)))","v":14610},493709800,33800]
[null,109,1,"FEDERAL GOVERNMENT",11,7,91,4724302,998,{"$f":"IF(County!G1487=0,\"0\",IF(County!G1487<5,\"*\",ROUND((G1487*1),-1)))","v":90},4724300,52500]
[null,111,5,"AGRICULTURE, FORESTRY, FISHING AND HUNTI",11,17,392,15659662,768,{"$f":"IF(County!G1488=0,\"0\",IF(County!G1488<5,\"*\",ROUND((G1488*1),-1)))","v":390},15659700,40200]
["D",111,5,"MINING, QUARRYING, AND OIL AND GAS EXTRA",21,2,12,606969,973,{"$f":"IF(County!G1489=0,\"0\",IF(County!G1489<5,\"*\",ROUND((G1489*1),-1)))","v":10},607000,60700]
["D",111,5,"UTILITIES",22,1,15,564643,724,{"$f":"IF(County!G1490=0,\"0\",IF(County!G1490<5,\"*\",ROUND((G1490*1),-1)))","v":20},564600,28200]
[null,111,5,"CONSTRUCTION",23,35,125,4056244,624,{"$f":"IF(County!G1491=0,\"0\",IF(County!G1491<5,\"*\",ROUND((G1491*1),-1)))","v":130},4056200,31200]
[null,111,5,"MANUFACTURING","31-33",22,606,23981713,761,{"$f":"IF(County!G1492=0,\"0\",IF(County!G1492<5,\"*\",ROUND((G1492*1),-1)))","v":610},23981700,39300]
[null,111,5,"WHOLESALE TRADE",42,20,175,10146285,1115,{"$f":"IF(County!G1493=0,\"0\",IF(County!G1493<5,\"*\",ROUND((G1493*1),-1)))","v":180},10146300,56400]
[null,111,5,"RETAIL TRADE","44-45",35,233,5204129,430,{"$f":"IF(County!G1494=0,\"0\",IF(County!G1494<5,\"*\",ROUND((G1494*1),-1)))","v":230},5204100,22600]
[null,111,5,"TRANSPORTATION AND WAREHOUSING","48-49",21,221,8639708,752,{"$f":"IF(County!G1495=0,\"0\",IF(County!G1495<5,\"*\",ROUND((G1495*1),-1)))","v":220},8639700,39300]
["D",111,5,"INFORMATION",51,1,2,59055,568,{"$f":"IF(County!G1496=0,\"0\",IF(County!G1496<5,\"*\",ROUND((G1496*1),-1)))","v":"*"},59100,"*"]
[null,111,5,"FINANCE AND INSURANCE",52,11,115,4337673,725,{"$f":"IF(County!G1497=0,\"0\",IF(County!G1497<5,\"*\",ROUND((G1497*1),-1)))","v":120},4337700,36100]
[null,111,5,"REAL ESTATE AND RENTAL AND LEASING",53,5,12,272555,437,{"$f":"IF(County!G1498=0,\"0\",IF(County!G1498<5,\"*\",ROUND((G1498*1),-1)))","v":10},272600,27300]
[null,111,5,"PROFESSIONAL AND TECHNICAL SERVICES",54,16,52,1653583,612,{"$f":"IF(County!G1499=0,\"0\",IF(County!G1499<5,\"*\",ROUND((G1499*1),-1)))","v":50},1653600,33100]
[null,111,5,"MANAGEMENT OF COMPANIES AND ENTERPRISES",55,0,0,0,0,{"$f":"IF(County!G1500=0,\"0\",IF(County!G1500<5,\"*\",ROUND((G1500*1),-1)))","v":"0"},0,0]
[null,111,5,"ADMINISTRATIVE AND WASTE SERVICES",56,5,166,7052323,817,{"$f":"IF(County!G1501=0,\"0\",IF(County!G1501<5,\"*\",ROUND((G1501*1),-1)))","v":170},7052300,41500]
[null,111,5,"EDUCATIONAL SERVICES",61,0,0,0,0,{"$f":"IF(County!G1502=0,\"0\",IF(County!G1502<5,\"*\",ROUND((G1502*1),-1)))","v":"0"},0,0]
[null,111,5,"HEALTH CARE AND SOCIAL ASSISTANCE",62,9,238,7474476,604,{"$f":"IF(County!G1503=0,\"0\",IF(County!G1503<5,\"*\",ROUND((G1503*1),-1)))","v":240},7474500,31100]
["D",111,5,"ARTS, ENTERTAINMENT, AND RECREATION",71,2,66,778050,227,{"$f":"IF(County!G1504=0,\"0\",IF(County!G1504<5,\"*\",ROUND((G1504*1),-1)))","v":70},778100,11100]
[null,111,5,"ACCOMMODATION AND FOOD SERVICES",72,22,252,3406129,260,{"$f":"IF(County!G1505=0,\"0\",IF(County!G1505<5,\"*\",ROUND((G1505*1),-1)))","v":250},3406100,13600]
[null,111,5,"OTHER SERVICES, EXCEPT PUBLIC ADMIN",81,19,43,777554,348,{"$f":"IF(County!G1506=0,\"0\",IF(County!G1506<5,\"*\",ROUND((G1506*1),-1)))","v":40},777600,19400]
[null,111,3,"LOCAL GOVERNMENT",11,15,673,18849227,539,{"$f":"IF(County!G1507=0,\"0\",IF(County!G1507<5,\"*\",ROUND((G1507*1),-1)))","v":670},18849200,28100]
["D",111,3,"EDUCATIONAL SERVICES",61,2,394,11762697,574,{"$f":"IF(County!G1508=0,\"0\",IF(County!G1508<5,\"*\",ROUND((G1508*1),-1)))","v":390},11762700,30200]
["D",111,3,"HEALTH CARE AND SOCIAL ASSISTANCE",62,1,4,189609,912,{"$f":"IF(County!G1509=0,\"0\",IF(County!G1509<5,\"*\",ROUND((G1509*1),-1)))","v":"*"},189600,"*"]
[null,111,2,"STATE GOVERNMENT",11,6,42,1629056,746,{"$f":"IF(County!G1510=0,\"0\",IF(County!G1510<5,\"*\",ROUND((G1510*1),-1)))","v":40},1629100,40700]
[null,111,2,"EDUCATIONAL SERVICES",61,0,0,0,0,{"$f":"IF(County!G1511=0,\"0\",IF(County!G1511<5,\"*\",ROUND((G1511*1),-1)))","v":"0"},0,0]
[null,111,2,"HEALTH CARE AND SOCIAL ASSISTANCE",62,0,0,0,0,{"$f":"IF(County!G1512=0,\"0\",IF(County!G1512<5,\"*\",ROUND((G1512*1),-1)))","v":"0"},0,0]
[null,111,"U","TOTAL UI COVERED",11,264,3439,115149034,644,{"$f":"IF(County!G1513=0,\"0\",IF(County!G1513<5,\"*\",ROUND((G1513*1),-1)))","v":3440},115149000,33500]
[null,111,1,"FEDERAL GOVERNMENT",11,9,26,1017146,752,{"$f":"IF(County!G1514=0,\"0\",IF(County!G1514<5,\"*\",ROUND((G1514*1),-1)))","v":30},1017100,33900]
[null,113,5,"AGRICULTURE, FORESTRY, FISHING AND HUNTI",11,21,171,5636677,634,{"$f":"IF(County!G1515=0,\"0\",IF(County!G1515<5,\"*\",ROUND((G1515*1),-1)))","v":170},5636700,33200]
["D",113,5,"MINING, QUARRYING, AND OIL AND GAS EXTRA",21,3,12,477482,765,{"$f":"IF(County!G1516=0,\"0\",IF(County!G1516<5,\"*\",ROUND((G1516*1),-1)))","v":10},477500,47800]
[null,113,5,"UTILITIES",22,4,54,3830906,1364,{"$f":"IF(County!G1517=0,\"0\",IF(County!G1517<5,\"*\",ROUND((G1517*1),-1)))","v":50},3830900,76600]
[null,113,5,"CONSTRUCTION",23,81,455,18539881,784,{"$f":"IF(County!G1518=0,\"0\",IF(County!G1518<5,\"*\",ROUND((G1518*1),-1)))","v":460},18539900,40300]
[null,113,5,"MANUFACTURING","31-33",128,8909,393773450,850,{"$f":"IF(County!G1519=0,\"0\",IF(County!G1519<5,\"*\",ROUND((G1519*1),-1)))","v":8910},393773500,44200]
[null,113,5,"WHOLESALE TRADE",42,50,375,18584675,953,{"$f":"IF(County!G1520=0,\"0\",IF(County!G1520<5,\"*\",ROUND((G1520*1),-1)))","v":380},18584700,48900]
[null,113,5,"RETAIL TRADE","44-45",121,1449,33275513,442,{"$f":"IF(County!G1521=0,\"0\",IF(County!G1521<5,\"*\",ROUND((G1521*1),-1)))","v":1450},33275500,22900]
[null,113,5,"TRANSPORTATION AND WAREHOUSING","48-49",28,251,9327245,715,{"$f":"IF(County!G1522=0,\"0\",IF(County!G1522<5,\"*\",ROUND((G1522*1),-1)))","v":250},9327200,37300]
[null,113,5,"INFORMATION",51,11,242,8592007,683,{"$f":"IF(County!G1523=0,\"0\",IF(County!G1523<5,\"*\",ROUND((G1523*1),-1)))","v":240},8592000,35800]
[null,113,5,"FINANCE AND INSURANCE",52,46,256,9892565,743,{"$f":"IF(County!G1524=0,\"0\",IF(County!G1524<5,\"*\",ROUND((G1524*1),-1)))","v":260},9892600,38000]
[null,113,5,"REAL ESTATE AND RENTAL AND LEASING",53,30,85,2288230,518,{"$f":"IF(County!G1525=0,\"0\",IF(County!G1525<5,\"*\",ROUND((G1525*1),-1)))","v":90},2288200,25400]
[null,113,5,"PROFESSIONAL AND TECHNICAL SERVICES",54,51,180,5967468,638,{"$f":"IF(County!G1526=0,\"0\",IF(County!G1526<5,\"*\",ROUND((G1526*1),-1)))","v":180},5967500,33200]
["D",113,5,"MANAGEMENT OF COMPANIES AND ENTERPRISES",55,1,30,1334326,855,{"$f":"IF(County!G1527=0,\"0\",IF(County!G1527<5,\"*\",ROUND((G1527*1),-1)))","v":30},1334300,44500]
[null,113,5,"ADMINISTRATIVE AND WASTE SERVICES",56,37,897,23668205,507,{"$f":"IF(County!G1528=0,\"0\",IF(County!G1528<5,\"*\",ROUND((G1528*1),-1)))","v":900},23668200,26300]
[null,113,5,"EDUCATIONAL SERVICES",61,8,194,3954364,392,{"$f":"IF(County!G1529=0,\"0\",IF(County!G1529<5,\"*\",ROUND((G1529*1),-1)))","v":190},3954400,20800]
[null,113,5,"HEALTH CARE AND SOCIAL ASSISTANCE",62,45,1245,38265402,591,{"$f":"IF(County!G1530=0,\"0\",IF(County!G1530<5,\"*\",ROUND((G1530*1),-1)))","v":1250},38265400,30600]
[null,113,5,"ARTS, ENTERTAINMENT, AND RECREATION",71,9,49,610933,240,{"$f":"IF(County!G1531=0,\"0\",IF(County!G1531<5,\"*\",ROUND((G1531*1),-1)))","v":50},610900,12200]
[null,113,5,"ACCOMMODATION AND FOOD SERVICES",72,70,1085,11702723,207,{"$f":"IF(County!G1532=0,\"0\",IF(County!G1532<5,\"*\",ROUND((G1532*1),-1)))","v":1090},11702700,10700]
[null,113,5,"OTHER SERVICES, EXCEPT PUBLIC ADMIN",81,68,436,7817478,345,{"$f":"IF(County!G1533=0,\"0\",IF(County!G1533<5,\"*\",ROUND((G1533*1),-1)))","v":440},7817500,17800]
[null,113,3,"LOCAL GOVERNMENT",11,23,1706,55503310,626,{"$f":"IF(County!G1534=0,\"0\",IF(County!G1534<5,\"*\",ROUND((G1534*1),-1)))","v":1710},55503300,32500]
[null,113,3,"EDUCATIONAL SERVICES",61,7,1108,37885372,658,{"$f":"IF(County!G1535=0,\"0\",IF(County!G1535<5,\"*\",ROUND((G1535*1),-1)))","v":1110},37885400,34100]
[null,113,3,"HEALTH CARE AND SOCIAL ASSISTANCE",62,0,0,0,0,{"$f":"IF(County!G1536=0,\"0\",IF(County!G1536<5,\"*\",ROUND((G1536*1),-1)))","v":"0"},0,0]
[null,113,2,"STATE GOVERNMENT",11,16,127,4638698,702,{"$f":"IF(County!G1537=0,\"0\",IF(County!G1537<5,\"*\",ROUND((G1537*1),-1)))","v":130},4638700,35700]
[null,113,2,"EDUCATIONAL SERVICES",61,0,0,0,0,{"$f":"IF(County!G1538=0,\"0\",IF(County!G1538<5,\"*\",ROUND((G1538*1),-1)))","v":"0"},0,0]
[null,113,2,"HEALTH CARE AND SOCIAL ASSISTANCE",62,0,0,0,0,{"$f":"IF(County!G1539=0,\"0\",IF(County!G1539<5,\"*\",ROUND((G1539*1),-1)))","v":"0"},0,0]
[null,113,"U","TOTAL UI COVERED",11,849,18211,657737262,695,{"$f":"IF(County!G1540=0,\"0\",IF(County!G1540<5,\"*\",ROUND((G1540*1),-1)))","v":18210},657737300,{"$f":"IF(G1540=0,0,IF(J1540=\"*\",\"*\",ROUND((K1540/J1540),-2)))","v":36100}]
[null,113,1,"FEDERAL GOVERNMENT",11,12,78,3702097,913,{"$f":"IF(County!G1541=0,\"0\",IF(County!G1541<5,\"*\",ROUND((G1541*1),-1)))","v":80},3702100,46300]
["D",115,5,"AGRICULTURE, FORESTRY, FISHING AND HUNTI",11,1,3,63200,405,{"$f":"IF(County!G1542=0,\"0\",IF(County!G1542<5,\"*\",ROUND((G1542*1),-1)))","v":"*"},63200,"*"]
[null,115,5,"MINING, QUARRYING, AND OIL AND GAS EXTRA",21,0,0,0,0,{"$f":"IF(County!G1543=0,\"0\",IF(County!G1543<5,\"*\",ROUND((G1543*1),-1)))","v":"0"},0,0]
["D",115,5,"UTILITIES",22,2,26,1025175,758,{"$f":"IF(County!G1544=0,\"0\",IF(County!G1544<5,\"*\",ROUND((G1544*1),-1)))","v":30},1025200,34200]
[null,115,5,"CONSTRUCTION",23,13,32,1167935,702,{"$f":"IF(County!G1545=0,\"0\",IF(County!G1545<5,\"*\",ROUND((G1545*1),-1)))","v":30},{"$f":"ROUND((H1545),-2)","v":1167900},38900]
[null,115,5,"MANUFACTURING","31-33",5,20,566456,545,{"$f":"IF(County!G1546=0,\"0\",IF(County!G1546<5,\"*\",ROUND((G1546*1),-1)))","v":20},566500,28300]
[null,115,5,"WHOLESALE TRADE",42,4,8,429508,1032,{"$f":"IF(County!G1547=0,\"0\",IF(County!G1547<5,\"*\",ROUND((G1547*1),-1)))","v":10},429500,43000]
[null,115,5,"RETAIL TRADE","44-45",10,79,1145975,279,{"$f":"IF(County!G1548=0,\"0\",IF(County!G1548<5,\"*\",ROUND((G1548*1),-1)))","v":80},1146000,14300]
[null,115,5,"TRANSPORTATION AND WAREHOUSING","48-49",5,42,1396296,639,{"$f":"IF(County!G1549=0,\"0\",IF(County!G1549<5,\"*\",ROUND((G1549*1),-1)))","v":40},1396300,34900]
[null,115,5,"INFORMATION",51,0,0,0,0,{"$f":"IF(County!G1550=0,\"0\",IF(County!G1550<5,\"*\",ROUND((G1550*1),-1)))","v":"0"},0,0]
[null,115,5,"FINANCE AND INSURANCE",52,4,13,418893,620,{"$f":"IF(County!G1551=0,\"0\",IF(County!G1551<5,\"*\",ROUND((G1551*1),-1)))","v":10},418900,41900]
["D",115,5,"REAL ESTATE AND RENTAL AND LEASING",53,1,2,62380,600,{"$f":"IF(County!G1552=0,\"0\",IF(County!G1552<5,\"*\",ROUND((G1552*1),-1)))","v":"*"},62400,"*"]
[null,115,5,"PROFESSIONAL AND TECHNICAL SERVICES",54,4,11,190614,333,{"$f":"IF(County!G1553=0,\"0\",IF(County!G1553<5,\"*\",ROUND((G1553*1),-1)))","v":10},190600,19100]
[null,115,5,"MANAGEMENT OF COMPANIES AND ENTERPRISES",55,0,0,0,0,{"$f":"IF(County!G1554=0,\"0\",IF(County!G1554<5,\"*\",ROUND((G1554*1),-1)))","v":"0"},0,0]
["D",115,5,"ADMINISTRATIVE AND WASTE SERVICES",56,6,98,1787310,351,{"$f":"IF(County!G1555=0,\"0\",IF(County!G1555<5,\"*\",ROUND((G1555*1),-1)))","v":100},1787300,17900]
[null,115,5,"EDUCATIONAL SERVICES",61,0,0,0,0,{"$f":"IF(County!G1556=0,\"0\",IF(County!G1556<5,\"*\",ROUND((G1556*1),-1)))","v":"0"},0,0]
[null,115,5,"HEALTH CARE AND SOCIAL ASSISTANCE",62,6,84,1948750,446,{"$f":"IF(County!G1557=0,\"0\",IF(County!G1557<5,\"*\",ROUND((G1557*1),-1)))","v":80},1948800,24400]
["D",115,5,"ARTS, ENTERTAINMENT, AND RECREATION",71,3,686,15997006,448,{"$f":"IF(County!G1558=0,\"0\",IF(County!G1558<5,\"*\",ROUND((G1558*1),-1)))","v":690},15997000,23200]
[null,115,5,"ACCOMMODATION AND FOOD SERVICES",72,9,59,687127,224,{"$f":"IF(County!G1559=0,\"0\",IF(County!G1559<5,\"*\",ROUND((G1559*1),-1)))","v":60},687100,11500]
[null,115,5,"OTHER SERVICES, EXCEPT PUBLIC ADMIN",81,4,13,292625,433,{"$f":"IF(County!G1560=0,\"0\",IF(County!G1560<5,\"*\",ROUND((G1560*1),-1)))","v":10},292600,29300]
[null,115,3,"LOCAL GOVERNMENT",11,6,309,8272938,515,{"$f":"IF(County!G1561=0,\"0\",IF(County!G1561<5,\"*\",ROUND((G1561*1),-1)))","v":310},8272900,26700]
["D",115,3,"EDUCATIONAL SERVICES",61,1,148,4603767,598,{"$f":"IF(County!G1562=0,\"0\",IF(County!G1562<5,\"*\",ROUND((G1562*1),-1)))","v":150},4603800,30700]
["D",115,3,"HEALTH CARE AND SOCIAL ASSISTANCE",62,1,9,665571,1422,{"$f":"IF(County!G1563=0,\"0\",IF(County!G1563<5,\"*\",ROUND((G1563*1),-1)))","v":10},665600,66600]
[null,115,2,"STATE GOVERNMENT",11,7,27,1316119,937,{"$f":"IF(County!G1564=0,\"0\",IF(County!G1564<5,\"*\",ROUND((G1564*1),-1)))","v":30},1316100,43900]
[null,115,2,"EDUCATIONAL SERVICES",61,0,0,0,0,{"$f":"IF(County!G1565=0,\"0\",IF(County!G1565<5,\"*\",ROUND((G1565*1),-1)))","v":"0"},0,0]
[null,115,2,"HEALTH CARE AND SOCIAL ASSISTANCE",62,0,0,0,0,{"$f":"IF(County!G1566=0,\"0\",IF(County!G1566<5,\"*\",ROUND((G1566*1),-1)))","v":"0"},0,0]
[null,115,"U","TOTAL UI COVERED",11,88,1511,36768307,468,{"$f":"IF(County!G1567=0,\"0\",IF(County!G1567<5,\"*\",ROUND((G1567*1),-1)))","v":1510},36768300,24300]
[null,115,1,"FEDERAL GOVERNMENT",11,2,14,571595,785,{"$f":"IF(County!G1568=0,\"0\",IF(County!G1568<5,\"*\",ROUND((G1568*1),-1)))","v":10},571600,57200]
[null,117,5,"AGRICULTURE, FORESTRY, FISHING AND HUNTI",11,5,89,2980125,644,{"$f":"IF(County!G1569=0,\"0\",IF(County!G1569<5,\"*\",ROUND((G1569*1),-1)))","v":90},2980100,33100]
["D",117,5,"MINING, QUARRYING, AND OIL AND GAS EXTRA",21,2,45,2131974,911,{"$f":"IF(County!G1570=0,\"0\",IF(County!G1570<5,\"*\",ROUND((G1570*1),-1)))","v":50},2132000,42600]
["D",117,5,"UTILITIES",22,2,42,2485433,1138,{"$f":"IF(County!G1571=0,\"0\",IF(County!G1571<5,\"*\",ROUND((G1571*1),-1)))","v":40},2485400,62100]
[null,117,5,"CONSTRUCTION",23,41,550,26440251,924,{"$f":"IF(County!G1572=0,\"0\",IF(County!G1572<5,\"*\",ROUND((G1572*1),-1)))","v":550},26440300,48100]
[null,117,5,"MANUFACTURING","31-33",24,1299,44373279,657,{"$f":"IF(County!G1573=0,\"0\",IF(County!G1573<5,\"*\",ROUND((G1573*1),-1)))","v":1300},44373300,34100]
[null,117,5,"WHOLESALE TRADE",42,14,108,6681132,1190,{"$f":"IF(County!G1574=0,\"0\",IF(County!G1574<5,\"*\",ROUND((G1574*1),-1)))","v":110},6681100,60700]
[null,117,5,"RETAIL TRADE","44-45",57,633,13951152,424,{"$f":"IF(County!G1575=0,\"0\",IF(County!G1575<5,\"*\",ROUND((G1575*1),-1)))","v":630},13951200,22100]
[null,117,5,"TRANSPORTATION AND WAREHOUSING","48-49",16,130,5562997,823,{"$f":"IF(County!G1576=0,\"0\",IF(County!G1576<5,\"*\",ROUND((G1576*1),-1)))","v":130},5563000,42800]
[null,117,5,"INFORMATION",51,7,44,1143777,500,{"$f":"IF(County!G1577=0,\"0\",IF(County!G1577<5,\"*\",ROUND((G1577*1),-1)))","v":40},1143800,28600]
[null,117,5,"FINANCE AND INSURANCE",52,19,82,2931559,688,{"$f":"IF(County!G1578=0,\"0\",IF(County!G1578<5,\"*\",ROUND((G1578*1),-1)))","v":80},2931600,36600]
[null,117,5,"REAL ESTATE AND RENTAL AND LEASING",53,9,24,429196,344,{"$f":"IF(County!G1579=0,\"0\",IF(County!G1579<5,\"*\",ROUND((G1579*1),-1)))","v":20},429200,21500]
[null,117,5,"PROFESSIONAL AND TECHNICAL SERVICES",54,16,61,1977883,624,{"$f":"IF(County!G1580=0,\"0\",IF(County!G1580<5,\"*\",ROUND((G1580*1),-1)))","v":60},1977900,33000]
[null,117,5,"MANAGEMENT OF COMPANIES AND ENTERPRISES",55,5,69,3683318,1027,{"$f":"IF(County!G1581=0,\"0\",IF(County!G1581<5,\"*\",ROUND((G1581*1),-1)))","v":70},3683300,52600]
[null,117,5,"ADMINISTRATIVE AND WASTE SERVICES",56,13,194,5849886,580,{"$f":"IF(County!G1582=0,\"0\",IF(County!G1582<5,\"*\",ROUND((G1582*1),-1)))","v":190},5849900,30800]
["D",117,5,"EDUCATIONAL SERVICES",61,1,24,621424,498,{"$f":"IF(County!G1583=0,\"0\",IF(County!G1583<5,\"*\",ROUND((G1583*1),-1)))","v":20},621400,31100]
[null,117,5,"HEALTH CARE AND SOCIAL ASSISTANCE",62,39,766,22166375,556,{"$f":"IF(County!G1584=0,\"0\",IF(County!G1584<5,\"*\",ROUND((G1584*1),-1)))","v":770},22166400,28800]
[null,117,5,"ARTS, ENTERTAINMENT, AND RECREATION",71,7,130,2048849,303,{"$f":"IF(County!G1585=0,\"0\",IF(County!G1585<5,\"*\",ROUND((G1585*1),-1)))","v":130},2048800,15800]
[null,117,5,"ACCOMMODATION AND FOOD SERVICES",72,35,1932,44770342,446,{"$f":"IF(County!G1586=0,\"0\",IF(County!G1586<5,\"*\",ROUND((G1586*1),-1)))","v":1930},44770300,23200]
[null,117,5,"OTHER SERVICES, EXCEPT PUBLIC ADMIN",81,30,135,2800461,399,{"$f":"IF(County!G1587=0,\"0\",IF(County!G1587<5,\"*\",ROUND((G1587*1),-1)))","v":140},2800500,20000]
[null,117,3,"LOCAL GOVERNMENT",11,18,812,23975686,568,{"$f":"IF(County!G1588=0,\"0\",IF(County!G1588<5,\"*\",ROUND((G1588*1),-1)))","v":810},23975700,29600]
[null,117,3,"EDUCATIONAL SERVICES",61,8,570,17900405,604,{"$f":"IF(County!G1589=0,\"0\",IF(County!G1589<5,\"*\",ROUND((G1589*1),-1)))","v":570},17900400,31400]
[null,117,3,"HEALTH CARE AND SOCIAL ASSISTANCE",62,0,0,0,0,{"$f":"IF(County!G1590=0,\"0\",IF(County!G1590<5,\"*\",ROUND((G1590*1),-1)))","v":"0"},0,0]
[null,117,2,"STATE GOVERNMENT",11,10,98,4061323,797,{"$f":"IF(County!G1591=0,\"0\",IF(County!G1591<5,\"*\",ROUND((G1591*1),-1)))","v":100},4061300,40600]
[null,117,2,"EDUCATIONAL SERVICES",61,0,0,0,0,{"$f":"IF(County!G1592=0,\"0\",IF(County!G1592<5,\"*\",ROUND((G1592*1),-1)))","v":"0"},0,0]
[null,117,2,"HEALTH CARE AND SOCIAL ASSISTANCE",62,0,0,0,0,{"$f":"IF(County!G1593=0,\"0\",IF(County!G1593<5,\"*\",ROUND((G1593*1),-1)))","v":"0"},0,0]
[null,117,"U","TOTAL UI COVERED",11,367,7269,221066422,585,{"$f":"IF(County!G1594=0,\"0\",IF(County!G1594<5,\"*\",ROUND((G1594*1),-1)))","v":7270},221066400,30400]
[null,117,1,"FEDERAL GOVERNMENT",11,6,41,1836026,861,{"$f":"IF(County!G1595=0,\"0\",IF(County!G1595<5,\"*\",ROUND((G1595*1),-1)))","v":40},1836000,45900]
[null,119,5,"AGRICULTURE, FORESTRY, FISHING AND HUNTI",11,5,18,364118,389,{"$f":"IF(County!G1596=0,\"0\",IF(County!G1596<5,\"*\",ROUND((G1596*1),-1)))","v":20},364100,18200]
[null,119,5,"MINING, QUARRYING, AND OIL AND GAS EXTRA",21,0,0,0,0,{"$f":"IF(County!G1597=0,\"0\",IF(County!G1597<5,\"*\",ROUND((G1597*1),-1)))","v":"0"},0,0]
["D",119,5,"UTILITIES",22,2,13,564085,834,{"$f":"IF(County!G1598=0,\"0\",IF(County!G1598<5,\"*\",ROUND((G1598*1),-1)))","v":10},564100,56400]
[null,119,5,"CONSTRUCTION",23,35,143,4354693,586,{"$f":"IF(County!G1599=0,\"0\",IF(County!G1599<5,\"*\",ROUND((G1599*1),-1)))","v":140},4354700,31100]
[null,119,5,"MANUFACTURING","31-33",28,1712,87214839,980,{"$f":"IF(County!G1600=0,\"0\",IF(County!G1600<5,\"*\",ROUND((G1600*1),-1)))","v":1710},87214800,51000]
[null,119,5,"WHOLESALE TRADE",42,18,51,1727919,652,{"$f":"IF(County!G1601=0,\"0\",IF(County!G1601<5,\"*\",ROUND((G1601*1),-1)))","v":50},1727900,34600]
[null,119,5,"RETAIL TRADE","44-45",37,422,8916322,406,{"$f":"IF(County!G1602=0,\"0\",IF(County!G1602<5,\"*\",ROUND((G1602*1),-1)))","v":420},8916300,21200]
[null,119,5,"TRANSPORTATION AND WAREHOUSING","48-49",15,65,1866756,552,{"$f":"IF(County!G1603=0,\"0\",IF(County!G1603<5,\"*\",ROUND((G1603*1),-1)))","v":70},1866800,26700]
["D",119,5,"INFORMATION",51,5,96,3770925,755,{"$f":"IF(County!G1604=0,\"0\",IF(County!G1604<5,\"*\",ROUND((G1604*1),-1)))","v":100},3770900,{"$f":"IF(G1604=0,0,IF(J1604=\"*\",\"*\",ROUND((K1604/J1604),-2)))","v":37700}]
[null,119,5,"FINANCE AND INSURANCE",52,13,119,4661276,753,{"$f":"IF(County!G1605=0,\"0\",IF(County!G1605<5,\"*\",ROUND((G1605*1),-1)))","v":120},4661300,38800]
[null,119,5,"REAL ESTATE AND RENTAL AND LEASING",53,7,9,119684,256,{"$f":"IF(County!G1606=0,\"0\",IF(County!G1606<5,\"*\",ROUND((G1606*1),-1)))","v":10},119700,12000]
[null,119,5,"PROFESSIONAL AND TECHNICAL SERVICES",54,18,65,1829218,541,{"$f":"IF(County!G1607=0,\"0\",IF(County!G1607<5,\"*\",ROUND((G1607*1),-1)))","v":70},1829200,26100]
[null,119,5,"MANAGEMENT OF COMPANIES AND ENTERPRISES",55,0,0,0,0,{"$f":"IF(County!G1608=0,\"0\",IF(County!G1608<5,\"*\",ROUND((G1608*1),-1)))","v":"0"},0,0]
[null,119,5,"ADMINISTRATIVE AND WASTE SERVICES",56,10,147,3082672,403,{"$f":"IF(County!G1609=0,\"0\",IF(County!G1609<5,\"*\",ROUND((G1609*1),-1)))","v":150},{"$f":"ROUND((H1609),-2)","v":3082700},20600]
["D",119,5,"EDUCATIONAL SERVICES",61,2,7,44957,124,{"$f":"IF(County!G1610=0,\"0\",IF(County!G1610<5,\"*\",ROUND((G1610*1),-1)))","v":10},45000,4500]
[null,119,5,"HEALTH CARE AND SOCIAL ASSISTANCE",62,16,353,16997438,926,{"$f":"IF(County!G1611=0,\"0\",IF(County!G1611<5,\"*\",ROUND((G1611*1),-1)))","v":350},16997400,48600]
[null,119,5,"ARTS, ENTERTAINMENT, AND RECREATION",71,3,14,187535,258,{"$f":"IF(County!G1612=0,\"0\",IF(County!G1612<5,\"*\",ROUND((G1612*1),-1)))","v":10},187500,18800]
[null,119,5,"ACCOMMODATION AND FOOD SERVICES",72,22,394,4206511,205,{"$f":"IF(County!G1613=0,\"0\",IF(County!G1613<5,\"*\",ROUND((G1613*1),-1)))","v":390},4206500,10800]
[null,119,5,"OTHER SERVICES, EXCEPT PUBLIC ADMIN",81,21,86,1492770,334,{"$f":"IF(County!G1614=0,\"0\",IF(County!G1614<5,\"*\",ROUND((G1614*1),-1)))","v":90},1492800,16600]
[null,119,3,"LOCAL GOVERNMENT",11,14,613,18736187,588,{"$f":"IF(County!G1615=0,\"0\",IF(County!G1615<5,\"*\",ROUND((G1615*1),-1)))","v":610},18736200,30700]
["D",119,3,"EDUCATIONAL SERVICES",61,7,392,12634922,620,{"$f":"IF(County!G1616=0,\"0\",IF(County!G1616<5,\"*\",ROUND((G1616*1),-1)))","v":390},12634900,32400]
[null,119,3,"HEALTH CARE AND SOCIAL ASSISTANCE",62,0,0,0,0,{"$f":"IF(County!G1617=0,\"0\",IF(County!G1617<5,\"*\",ROUND((G1617*1),-1)))","v":"0"},0,0]
[null,119,2,"STATE GOVERNMENT",11,8,136,3221372,456,{"$f":"IF(County!G1618=0,\"0\",IF(County!G1618<5,\"*\",ROUND((G1618*1),-1)))","v":140},3221400,23000]
[null,119,2,"EDUCATIONAL SERVICES",61,0,0,0,0,{"$f":"IF(County!G1619=0,\"0\",IF(County!G1619<5,\"*\",ROUND((G1619*1),-1)))","v":"0"},0,0]
[null,119,2,"HEALTH CARE AND SOCIAL ASSISTANCE",62,0,0,0,0,{"$f":"IF(County!G1620=0,\"0\",IF(County!G1620<5,\"*\",ROUND((G1620*1),-1)))","v":"0"},0,0]
[null,119,"U","TOTAL UI COVERED",11,278,4465,163359277,704,{"$f":"IF(County!G1621=0,\"0\",IF(County!G1621<5,\"*\",ROUND((G1621*1),-1)))","v":4470},163359300,36500]
[null,119,1,"FEDERAL GOVERNMENT",11,6,34,1385492,784,{"$f":"IF(County!G1622=0,\"0\",IF(County!G1622<5,\"*\",ROUND((G1622*1),-1)))","v":30},1385500,46200]
[null,121,5,"AGRICULTURE, FORESTRY, FISHING AND HUNTI",11,16,63,1965451,600,{"$f":"IF(County!G1623=0,\"0\",IF(County!G1623<5,\"*\",ROUND((G1623*1),-1)))","v":60},1965500,32800]
["D",121,5,"MINING, QUARRYING, AND OIL AND GAS EXTRA",21,1,5,154875,596,{"$f":"IF(County!G1624=0,\"0\",IF(County!G1624<5,\"*\",ROUND((G1624*1),-1)))","v":10},154900,15500]
["D",121,5,"UTILITIES",22,2,40,2668616,1283,{"$f":"IF(County!G1625=0,\"0\",IF(County!G1625<5,\"*\",ROUND((G1625*1),-1)))","v":40},2668600,66700]
[null,121,5,"CONSTRUCTION",23,18,77,2716077,678,{"$f":"IF(County!G1626=0,\"0\",IF(County!G1626<5,\"*\",ROUND((G1626*1),-1)))","v":80},2716100,34000]
[null,121,5,"MANUFACTURING","31-33",15,457,17437288,734,{"$f":"IF(County!G1627=0,\"0\",IF(County!G1627<5,\"*\",ROUND((G1627*1),-1)))","v":460},17437300,37900]
[null,121,5,"WHOLESALE TRADE",42,12,99,2935611,570,{"$f":"IF(County!G1628=0,\"0\",IF(County!G1628<5,\"*\",ROUND((G1628*1),-1)))","v":100},2935600,29400]
[null,121,5,"RETAIL TRADE","44-45",38,335,6541109,375,{"$f":"IF(County!G1629=0,\"0\",IF(County!G1629<5,\"*\",ROUND((G1629*1),-1)))","v":340},6541100,19200]
[null,121,5,"TRANSPORTATION AND WAREHOUSING","48-49",16,65,2083398,616,{"$f":"IF(County!G1630=0,\"0\",IF(County!G1630<5,\"*\",ROUND((G1630*1),-1)))","v":70},2083400,29800]
[null,121,5,"INFORMATION",51,5,33,1283484,748,{"$f":"IF(County!G1631=0,\"0\",IF(County!G1631<5,\"*\",ROUND((G1631*1),-1)))","v":30},1283500,42800]
[null,121,5,"FINANCE AND INSURANCE",52,16,77,2995477,748,{"$f":"IF(County!G1632=0,\"0\",IF(County!G1632<5,\"*\",ROUND((G1632*1),-1)))","v":80},2995500,37400]
[null,121,5,"REAL ESTATE AND RENTAL AND LEASING",53,9,53,1786016,648,{"$f":"IF(County!G1633=0,\"0\",IF(County!G1633<5,\"*\",ROUND((G1633*1),-1)))","v":50},1786000,35700]
[null,121,5,"PROFESSIONAL AND TECHNICAL SERVICES",54,10,57,1420844,479,{"$f":"IF(County!G1634=0,\"0\",IF(County!G1634<5,\"*\",ROUND((G1634*1),-1)))","v":60},1420800,23700]
["D",121,5,"MANAGEMENT OF COMPANIES AND ENTERPRISES",55,1,31,1285082,797,{"$f":"IF(County!G1635=0,\"0\",IF(County!G1635<5,\"*\",ROUND((G1635*1),-1)))","v":30},1285100,42800]
[null,121,5,"ADMINISTRATIVE AND WASTE SERVICES",56,19,88,2171730,475,{"$f":"IF(County!G1636=0,\"0\",IF(County!G1636<5,\"*\",ROUND((G1636*1),-1)))","v":90},2171700,24100]
["D",121,5,"EDUCATIONAL SERVICES",61,3,2,44682,430,{"$f":"IF(County!G1637=0,\"0\",IF(County!G1637<5,\"*\",ROUND((G1637*1),-1)))","v":"*"},44700,"*"]
[null,121,5,"HEALTH CARE AND SOCIAL ASSISTANCE",62,19,172,4221066,472,{"$f":"IF(County!G1638=0,\"0\",IF(County!G1638<5,\"*\",ROUND((G1638*1),-1)))","v":170},4221100,24800]
[null,121,5,"ARTS, ENTERTAINMENT, AND RECREATION",71,4,22,204153,178,{"$f":"IF(County!G1639=0,\"0\",IF(County!G1639<5,\"*\",ROUND((G1639*1),-1)))","v":20},204200,10200]
[null,121,5,"ACCOMMODATION AND FOOD SERVICES",72,26,245,2833616,222,{"$f":"IF(County!G1640=0,\"0\",IF(County!G1640<5,\"*\",ROUND((G1640*1),-1)))","v":250},2833600,11300]
[null,121,5,"OTHER SERVICES, EXCEPT PUBLIC ADMIN",81,27,77,1765323,441,{"$f":"IF(County!G1641=0,\"0\",IF(County!G1641<5,\"*\",ROUND((G1641*1),-1)))","v":80},1765300,22100]
[null,121,3,"LOCAL GOVERNMENT",11,22,628,16843388,516,{"$f":"IF(County!G1642=0,\"0\",IF(County!G1642<5,\"*\",ROUND((G1642*1),-1)))","v":630},16843400,26700]
["D",121,3,"EDUCATIONAL SERVICES",61,9,389,11666238,577,{"$f":"IF(County!G1643=0,\"0\",IF(County!G1643<5,\"*\",ROUND((G1643*1),-1)))","v":390},11666200,29900]
[null,121,3,"HEALTH CARE AND SOCIAL ASSISTANCE",62,0,0,0,0,{"$f":"IF(County!G1644=0,\"0\",IF(County!G1644<5,\"*\",ROUND((G1644*1),-1)))","v":"0"},0,0]
[null,121,2,"STATE GOVERNMENT",11,12,412,12448623,581,{"$f":"IF(County!G1645=0,\"0\",IF(County!G1645<5,\"*\",ROUND((G1645*1),-1)))","v":410},12448600,30400]
[null,121,2,"EDUCATIONAL SERVICES",61,0,0,0,0,{"$f":"IF(County!G1646=0,\"0\",IF(County!G1646<5,\"*\",ROUND((G1646*1),-1)))","v":"0"},0,0]
[null,121,2,"HEALTH CARE AND SOCIAL ASSISTANCE",62,0,0,0,0,{"$f":"IF(County!G1647=0,\"0\",IF(County!G1647<5,\"*\",ROUND((G1647*1),-1)))","v":"0"},0,0]
[null,121,"U","TOTAL UI COVERED",11,290,3037,85805909,543,{"$f":"IF(County!G1648=0,\"0\",IF(County!G1648<5,\"*\",ROUND((G1648*1),-1)))","v":3040},85805900,28200]
[null,121,1,"FEDERAL GOVERNMENT",11,10,46,2005494,838,{"$f":"IF(County!G1649=0,\"0\",IF(County!G1649<5,\"*\",ROUND((G1649*1),-1)))","v":50},2005500,40100]
[null,123,5,"AGRICULTURE, FORESTRY, FISHING AND HUNTI",11,10,43,1263267,565,{"$f":"IF(County!G1650=0,\"0\",IF(County!G1650<5,\"*\",ROUND((G1650*1),-1)))","v":40},1263300,31600]
["D",123,5,"MINING, QUARRYING, AND OIL AND GAS EXTRA",21,2,9,379974,812,{"$f":"IF(County!G1651=0,\"0\",IF(County!G1651<5,\"*\",ROUND((G1651*1),-1)))","v":10},380000,38000]
[null,123,5,"UTILITIES",22,3,47,2603896,1065,{"$f":"IF(County!G1652=0,\"0\",IF(County!G1652<5,\"*\",ROUND((G1652*1),-1)))","v":50},2603900,52100]
[null,123,5,"CONSTRUCTION",23,38,152,5691547,720,{"$f":"IF(County!G1653=0,\"0\",IF(County!G1653<5,\"*\",ROUND((G1653*1),-1)))","v":150},5691500,37900]
[null,123,5,"MANUFACTURING","31-33",24,2241,119725770,1027,{"$f":"IF(County!G1654=0,\"0\",IF(County!G1654<5,\"*\",ROUND((G1654*1),-1)))","v":2240},119725800,53400]
[null,123,5,"WHOLESALE TRADE",42,14,58,2496429,828,{"$f":"IF(County!G1655=0,\"0\",IF(County!G1655<5,\"*\",ROUND((G1655*1),-1)))","v":60},2496400,41600]
[null,123,5,"RETAIL TRADE","44-45",57,718,13846351,371,{"$f":"IF(County!G1656=0,\"0\",IF(County!G1656<5,\"*\",ROUND((G1656*1),-1)))","v":720},13846400,19200]
[null,123,5,"TRANSPORTATION AND WAREHOUSING","48-49",13,109,3492426,616,{"$f":"IF(County!G1657=0,\"0\",IF(County!G1657<5,\"*\",ROUND((G1657*1),-1)))","v":110},3492400,31700]
[null,123,5,"INFORMATION",51,6,51,1773874,669,{"$f":"IF(County!G1658=0,\"0\",IF(County!G1658<5,\"*\",ROUND((G1658*1),-1)))","v":50},1773900,35500]
[null,123,5,"FINANCE AND INSURANCE",52,24,112,5076070,872,{"$f":"IF(County!G1659=0,\"0\",IF(County!G1659<5,\"*\",ROUND((G1659*1),-1)))","v":110},5076100,46100]
[null,123,5,"REAL ESTATE AND RENTAL AND LEASING",53,12,77,2300478,575,{"$f":"IF(County!G1660=0,\"0\",IF(County!G1660<5,\"*\",ROUND((G1660*1),-1)))","v":80},2300500,28800]
[null,123,5,"PROFESSIONAL AND TECHNICAL SERVICES",54,27,77,2995978,748,{"$f":"IF(County!G1661=0,\"0\",IF(County!G1661<5,\"*\",ROUND((G1661*1),-1)))","v":80},2996000,37500]
["D",123,5,"MANAGEMENT OF COMPANIES AND ENTERPRISES",55,3,101,6514591,1240,{"$f":"IF(County!G1662=0,\"0\",IF(County!G1662<5,\"*\",ROUND((G1662*1),-1)))","v":100},6514600,65100]
[null,123,5,"ADMINISTRATIVE AND WASTE SERVICES",56,10,49,1236936,485,{"$f":"IF(County!G1663=0,\"0\",IF(County!G1663<5,\"*\",ROUND((G1663*1),-1)))","v":50},1236900,24700]
["D",123,5,"EDUCATIONAL SERVICES",61,2,7,24225,67,{"$f":"IF(County!G1664=0,\"0\",IF(County!G1664<5,\"*\",ROUND((G1664*1),-1)))","v":10},24200,2400]
[null,123,5,"HEALTH CARE AND SOCIAL ASSISTANCE",62,30,396,10320985,501,{"$f":"IF(County!G1665=0,\"0\",IF(County!G1665<5,\"*\",ROUND((G1665*1),-1)))","v":400},10321000,25800]
[null,123,5,"ARTS, ENTERTAINMENT, AND RECREATION",71,3,21,207027,190,{"$f":"IF(County!G1666=0,\"0\",IF(County!G1666<5,\"*\",ROUND((G1666*1),-1)))","v":20},207000,10400]
[null,123,5,"ACCOMMODATION AND FOOD SERVICES",72,42,615,7510452,235,{"$f":"IF(County!G1667=0,\"0\",IF(County!G1667<5,\"*\",ROUND((G1667*1),-1)))","v":620},7510500,12100]
[null,123,5,"OTHER SERVICES, EXCEPT PUBLIC ADMIN",81,28,89,2476191,535,{"$f":"IF(County!G1668=0,\"0\",IF(County!G1668<5,\"*\",ROUND((G1668*1),-1)))","v":90},2476200,{"$f":"IF(G1668=0,0,IF(J1668=\"*\",\"*\",ROUND((K1668/J1668),-2)))","v":27500}]
[null,123,3,"LOCAL GOVERNMENT",11,16,1081,35792049,637,{"$f":"IF(County!G1669=0,\"0\",IF(County!G1669<5,\"*\",ROUND((G1669*1),-1)))","v":1080},35792000,33100]
[null,123,3,"EDUCATIONAL SERVICES",61,3,478,14657069,590,{"$f":"IF(County!G1670=0,\"0\",IF(County!G1670<5,\"*\",ROUND((G1670*1),-1)))","v":480},14657100,30500]
["D",123,3,"HEALTH CARE AND SOCIAL ASSISTANCE",62,1,298,12938708,835,{"$f":"IF(County!G1671=0,\"0\",IF(County!G1671<5,\"*\",ROUND((G1671*1),-1)))","v":300},12938700,43100]
[null,123,2,"STATE GOVERNMENT",11,13,326,12688295,748,{"$f":"IF(County!G1672=0,\"0\",IF(County!G1672<5,\"*\",ROUND((G1672*1),-1)))","v":330},12688300,38400]
[null,123,2,"EDUCATIONAL SERVICES",61,0,0,0,0,{"$f":"IF(County!G1673=0,\"0\",IF(County!G1673<5,\"*\",ROUND((G1673*1),-1)))","v":"0"},{"$f":"ROUND((H1673),-2)","v":0},0]
[null,123,2,"HEALTH CARE AND SOCIAL ASSISTANCE",62,0,0,0,0,{"$f":"IF(County!G1674=0,\"0\",IF(County!G1674<5,\"*\",ROUND((G1674*1),-1)))","v":"0"},0,0]
[null,123,"U","TOTAL UI COVERED",11,377,6377,238416811,719,{"$f":"IF(County!G1675=0,\"0\",IF(County!G1675<5,\"*\",ROUND((G1675*1),-1)))","v":6380},238416800,37400]
[null,123,1,"FEDERAL GOVERNMENT",11,8,70,3736612,1027,{"$f":"IF(County!G1676=0,\"0\",IF(County!G1676<5,\"*\",ROUND((G1676*1),-1)))","v":70},3736600,53400]
[null,125,5,"AGRICULTURE, FORESTRY, FISHING AND HUNTI",11,4,23,785692,657,{"$f":"IF(County!G1677=0,\"0\",IF(County!G1677<5,\"*\",ROUND((G1677*1),-1)))","v":20},785700,39300]
[null,125,5,"MINING, QUARRYING, AND OIL AND GAS EXTRA",21,12,411,31394317,1469,{"$f":"IF(County!G1678=0,\"0\",IF(County!G1678<5,\"*\",ROUND((G1678*1),-1)))","v":410},31394300,76600]
["D",125,5,"UTILITIES",22,3,375,38693973,1984,{"$f":"IF(County!G1679=0,\"0\",IF(County!G1679<5,\"*\",ROUND((G1679*1),-1)))","v":380},38694000,101800]
["D",125,5,"CONSTRUCTION",23,15,311,23607902,1460,{"$f":"IF(County!G1680=0,\"0\",IF(County!G1680<5,\"*\",ROUND((G1680*1),-1)))","v":310},23607900,76200]
[null,125,5,"MANUFACTURING","31-33",5,174,9330438,1031,{"$f":"IF(County!G1681=0,\"0\",IF(County!G1681<5,\"*\",ROUND((G1681*1),-1)))","v":170},9330400,54900]
[null,125,5,"WHOLESALE TRADE",42,7,86,6493635,1452,{"$f":"IF(County!G1682=0,\"0\",IF(County!G1682<5,\"*\",ROUND((G1682*1),-1)))","v":90},6493600,72200]
[null,125,5,"RETAIL TRADE","44-45",33,272,4814763,340,{"$f":"IF(County!G1683=0,\"0\",IF(County!G1683<5,\"*\",ROUND((G1683*1),-1)))","v":270},4814800,17800]
[null,125,5,"TRANSPORTATION AND WAREHOUSING","48-49",12,208,8329327,770,{"$f":"IF(County!G1684=0,\"0\",IF(County!G1684<5,\"*\",ROUND((G1684*1),-1)))","v":210},8329300,39700]
[null,125,5,"INFORMATION",51,3,29,858990,570,{"$f":"IF(County!G1685=0,\"0\",IF(County!G1685<5,\"*\",ROUND((G1685*1),-1)))","v":30},859000,28600]
[null,125,5,"FINANCE AND INSURANCE",52,6,39,1599283,789,{"$f":"IF(County!G1686=0,\"0\",IF(County!G1686<5,\"*\",ROUND((G1686*1),-1)))","v":40},1599300,40000]
["D",125,5,"REAL ESTATE AND RENTAL AND LEASING",53,3,41,1497613,702,{"$f":"IF(County!G1687=0,\"0\",IF(County!G1687<5,\"*\",ROUND((G1687*1),-1)))","v":40},1497600,37400]
[null,125,5,"PROFESSIONAL AND TECHNICAL SERVICES",54,9,20,550095,529,{"$f":"IF(County!G1688=0,\"0\",IF(County!G1688<5,\"*\",ROUND((G1688*1),-1)))","v":20},550100,27500]
["D",125,5,"MANAGEMENT OF COMPANIES AND ENTERPRISES",55,1,38,3038228,1538,{"$f":"IF(County!G1689=0,\"0\",IF(County!G1689<5,\"*\",ROUND((G1689*1),-1)))","v":40},3038200,76000]
[null,125,5,"ADMINISTRATIVE AND WASTE SERVICES",56,12,104,2734583,506,{"$f":"IF(County!G1690=0,\"0\",IF(County!G1690<5,\"*\",ROUND((G1690*1),-1)))","v":100},2734600,27300]
[null,125,5,"EDUCATIONAL SERVICES",61,0,0,0,0,{"$f":"IF(County!G1691=0,\"0\",IF(County!G1691<5,\"*\",ROUND((G1691*1),-1)))","v":"0"},0,0]
[null,125,5,"HEALTH CARE AND SOCIAL ASSISTANCE",62,16,287,6992778,469,{"$f":"IF(County!G1692=0,\"0\",IF(County!G1692<5,\"*\",ROUND((G1692*1),-1)))","v":290},6992800,24100]
[null,125,5,"ARTS, ENTERTAINMENT, AND RECREATION",71,4,11,156487,274,{"$f":"IF(County!G1693=0,\"0\",IF(County!G1693<5,\"*\",ROUND((G1693*1),-1)))","v":10},156500,15700]
[null,125,5,"ACCOMMODATION AND FOOD SERVICES",72,12,135,1406166,200,{"$f":"IF(County!G1694=0,\"0\",IF(County!G1694<5,\"*\",ROUND((G1694*1),-1)))","v":140},1406200,10000]
[null,125,5,"OTHER SERVICES, EXCEPT PUBLIC ADMIN",81,21,88,3468204,758,{"$f":"IF(County!G1695=0,\"0\",IF(County!G1695<5,\"*\",ROUND((G1695*1),-1)))","v":90},3468200,38500]
[null,125,3,"LOCAL GOVERNMENT",11,14,525,15622721,572,{"$f":"IF(County!G1696=0,\"0\",IF(County!G1696<5,\"*\",ROUND((G1696*1),-1)))","v":530},15622700,29500]
["D",125,3,"EDUCATIONAL SERVICES",61,1,312,10727028,661,{"$f":"IF(County!G1697=0,\"0\",IF(County!G1697<5,\"*\",ROUND((G1697*1),-1)))","v":310},10727000,34600]
[null,125,3,"HEALTH CARE AND SOCIAL ASSISTANCE",62,0,0,0,0,{"$f":"IF(County!G1698=0,\"0\",IF(County!G1698<5,\"*\",ROUND((G1698*1),-1)))","v":"0"},0,0]
[null,125,2,"STATE GOVERNMENT",11,8,50,2032653,782,{"$f":"IF(County!G1699=0,\"0\",IF(County!G1699<5,\"*\",ROUND((G1699*1),-1)))","v":50},2032700,40700]
[null,125,2,"EDUCATIONAL SERVICES",61,0,0,0,0,{"$f":"IF(County!G1700=0,\"0\",IF(County!G1700<5,\"*\",ROUND((G1700*1),-1)))","v":"0"},0,0]
[null,125,2,"HEALTH CARE AND SOCIAL ASSISTANCE",62,0,0,0,0,{"$f":"IF(County!G1701=0,\"0\",IF(County!G1701<5,\"*\",ROUND((G1701*1),-1)))","v":"0"},0,0]
[null,125,"U","TOTAL UI COVERED",11,201,3225,163407848,974,{"$f":"IF(County!G1702=0,\"0\",IF(County!G1702<5,\"*\",ROUND((G1702*1),-1)))","v":3230},163407800,50600]
[null,125,1,"FEDERAL GOVERNMENT",11,7,31,1301505,807,{"$f":"IF(County!G1703=0,\"0\",IF(County!G1703<5,\"*\",ROUND((G1703*1),-1)))","v":30},1301500,43400]
[null,127,5,"AGRICULTURE, FORESTRY, FISHING AND HUNTI",11,11,45,1183994,506,{"$f":"IF(County!G1704=0,\"0\",IF(County!G1704<5,\"*\",ROUND((G1704*1),-1)))","v":50},1184000,23700]
["D",127,5,"MINING, QUARRYING, AND OIL AND GAS EXTRA",21,2,23,1373394,1148,{"$f":"IF(County!G1705=0,\"0\",IF(County!G1705<5,\"*\",ROUND((G1705*1),-1)))","v":20},1373400,68700]
["D",127,5,"UTILITIES",22,5,302,30836401,1964,{"$f":"IF(County!G1706=0,\"0\",IF(County!G1706<5,\"*\",ROUND((G1706*1),-1)))","v":300},30836400,102800]
[null,127,5,"CONSTRUCTION",23,374,3528,238648645,1301,{"$f":"IF(County!G1707=0,\"0\",IF(County!G1707<5,\"*\",ROUND((G1707*1),-1)))","v":3530},238648600,67600]
[null,127,5,"MANUFACTURING","31-33",157,9774,664351967,1307,{"$f":"IF(County!G1708=0,\"0\",IF(County!G1708<5,\"*\",ROUND((G1708*1),-1)))","v":9770},664352000,68000]
[null,127,5,"WHOLESALE TRADE",42,245,2177,122812877,1085,{"$f":"IF(County!G1709=0,\"0\",IF(County!G1709<5,\"*\",ROUND((G1709*1),-1)))","v":2180},122812900,56300]
[null,127,5,"RETAIL TRADE","44-45",417,7275,174605912,462,{"$f":"IF(County!G1710=0,\"0\",IF(County!G1710<5,\"*\",ROUND((G1710*1),-1)))","v":7280},174605900,24000]
[null,127,5,"TRANSPORTATION AND WAREHOUSING","48-49",152,1909,91840073,925,{"$f":"IF(County!G1711=0,\"0\",IF(County!G1711<5,\"*\",ROUND((G1711*1),-1)))","v":1910},91840100,48100]
[null,127,5,"INFORMATION",51,36,524,24858638,912,{"$f":"IF(County!G1712=0,\"0\",IF(County!G1712<5,\"*\",ROUND((G1712*1),-1)))","v":520},24858600,47800]
[null,127,5,"FINANCE AND INSURANCE",52,225,1136,57468937,973,{"$f":"IF(County!G1713=0,\"0\",IF(County!G1713<5,\"*\",ROUND((G1713*1),-1)))","v":1140},57468900,50400]
[null,127,5,"REAL ESTATE AND RENTAL AND LEASING",53,142,577,18562900,619,{"$f":"IF(County!G1714=0,\"0\",IF(County!G1714<5,\"*\",ROUND((G1714*1),-1)))","v":580},18562900,32000]
[null,127,5,"PROFESSIONAL AND TECHNICAL SERVICES",54,380,1642,82066026,961,{"$f":"IF(County!G1715=0,\"0\",IF(County!G1715<5,\"*\",ROUND((G1715*1),-1)))","v":1640},82066000,50000]
[null,127,5,"MANAGEMENT OF COMPANIES AND ENTERPRISES",55,24,225,17648151,1508,{"$f":"IF(County!G1716=0,\"0\",IF(County!G1716<5,\"*\",ROUND((G1716*1),-1)))","v":230},17648200,76700]
[null,127,5,"ADMINISTRATIVE AND WASTE SERVICES",56,202,2778,95307818,660,{"$f":"IF(County!G1717=0,\"0\",IF(County!G1717<5,\"*\",ROUND((G1717*1),-1)))","v":2780},95307800,34300]
[null,127,5,"EDUCATIONAL SERVICES",61,36,2512,71863383,550,{"$f":"IF(County!G1718=0,\"0\",IF(County!G1718<5,\"*\",ROUND((G1718*1),-1)))","v":2510},71863400,28600]
[null,127,5,"HEALTH CARE AND SOCIAL ASSISTANCE",62,327,8011,336403126,808,{"$f":"IF(County!G1719=0,\"0\",IF(County!G1719<5,\"*\",ROUND((G1719*1),-1)))","v":8010},336403100,42000]
[null,127,5,"ARTS, ENTERTAINMENT, AND RECREATION",71,44,478,8701918,350,{"$f":"IF(County!G1720=0,\"0\",IF(County!G1720<5,\"*\",ROUND((G1720*1),-1)))","v":480},8701900,18100]
[null,127,5,"ACCOMMODATION AND FOOD SERVICES",72,310,6235,82319519,254,{"$f":"IF(County!G1721=0,\"0\",IF(County!G1721<5,\"*\",ROUND((G1721*1),-1)))","v":6240},82319500,13200]
[null,127,5,"OTHER SERVICES, EXCEPT PUBLIC ADMIN",81,330,2471,58998373,459,{"$f":"IF(County!G1722=0,\"0\",IF(County!G1722<5,\"*\",ROUND((G1722*1),-1)))","v":2470},58998400,23900]
[null,127,3,"LOCAL GOVERNMENT",11,72,6160,205737612,642,{"$f":"IF(County!G1723=0,\"0\",IF(County!G1723<5,\"*\",ROUND((G1723*1),-1)))","v":6160},205737600,33400]
[null,127,3,"EDUCATIONAL SERVICES",61,41,3749,126752774,650,{"$f":"IF(County!G1724=0,\"0\",IF(County!G1724<5,\"*\",ROUND((G1724*1),-1)))","v":3750},126752800,33800]
[null,127,3,"HEALTH CARE AND SOCIAL ASSISTANCE",62,0,0,0,0,{"$f":"IF(County!G1725=0,\"0\",IF(County!G1725<5,\"*\",ROUND((G1725*1),-1)))","v":"0"},0,0]
[null,127,2,"STATE GOVERNMENT",11,16,225,9106002,778,{"$f":"IF(County!G1726=0,\"0\",IF(County!G1726<5,\"*\",ROUND((G1726*1),-1)))","v":230},9106000,39600]
[null,127,2,"EDUCATIONAL SERVICES",61,0,0,0,0,{"$f":"IF(County!G1727=0,\"0\",IF(County!G1727<5,\"*\",ROUND((G1727*1),-1)))","v":"0"},0,0]
[null,127,2,"HEALTH CARE AND SOCIAL ASSISTANCE",62,0,0,0,0,{"$f":"IF(County!G1728=0,\"0\",IF(County!G1728<5,\"*\",ROUND((G1728*1),-1)))","v":"0"},0,0]
[null,127,"U","TOTAL UI COVERED",11,3504,58007,2394695666,794,{"$f":"IF(County!G1729=0,\"0\",IF(County!G1729<5,\"*\",ROUND((G1729*1),-1)))","v":58010},2394695700,41300]
[null,127,1,"FEDERAL GOVERNMENT",11,19,416,25288247,1169,{"$f":"IF(County!G1730=0,\"0\",IF(County!G1730<5,\"*\",ROUND((G1730*1),-1)))","v":420},25288200,60200]
[null,129,5,"AGRICULTURE, FORESTRY, FISHING AND HUNTI",11,22,85,2917313,660,{"$f":"IF(County!G1731=0,\"0\",IF(County!G1731<5,\"*\",ROUND((G1731*1),-1)))","v":90},2917300,32400]
[null,129,5,"MINING, QUARRYING, AND OIL AND GAS EXTRA",21,11,48,1868583,749,{"$f":"IF(County!G1732=0,\"0\",IF(County!G1732<5,\"*\",ROUND((G1732*1),-1)))","v":50},1868600,{"$f":"IF(G1732=0,0,IF(J1732=\"*\",\"*\",ROUND((K1732/J1732),-2)))","v":37400}]
["D",129,5,"UTILITIES",22,3,118,9685366,1578,{"$f":"IF(County!G1733=0,\"0\",IF(County!G1733<5,\"*\",ROUND((G1733*1),-1)))","v":120},9685400,80700]
[null,129,5,"CONSTRUCTION",23,81,464,22404006,929,{"$f":"IF(County!G1734=0,\"0\",IF(County!G1734<5,\"*\",ROUND((G1734*1),-1)))","v":460},22404000,48700]
[null,129,5,"MANUFACTURING","31-33",32,2637,218967793,1597,{"$f":"IF(County!G1735=0,\"0\",IF(County!G1735<5,\"*\",ROUND((G1735*1),-1)))","v":2640},218967800,82900]
[null,129,5,"WHOLESALE TRADE",42,22,265,13567854,985,{"$f":"IF(County!G1736=0,\"0\",IF(County!G1736<5,\"*\",ROUND((G1736*1),-1)))","v":270},13567900,50300]
[null,129,5,"RETAIL TRADE","44-45",55,727,22510175,595,{"$f":"IF(County!G1737=0,\"0\",IF(County!G1737<5,\"*\",ROUND((G1737*1),-1)))","v":730},{"$f":"ROUND((H1737),-2)","v":22510200},30800]
[null,129,5,"TRANSPORTATION AND WAREHOUSING","48-49",28,678,30635977,869,{"$f":"IF(County!G1738=0,\"0\",IF(County!G1738<5,\"*\",ROUND((G1738*1),-1)))","v":680},30636000,45100]
[null,129,5,"INFORMATION",51,5,17,436196,493,{"$f":"IF(County!G1739=0,\"0\",IF(County!G1739<5,\"*\",ROUND((G1739*1),-1)))","v":20},436200,21800]
[null,129,5,"FINANCE AND INSURANCE",52,19,159,8490534,1027,{"$f":"IF(County!G1740=0,\"0\",IF(County!G1740<5,\"*\",ROUND((G1740*1),-1)))","v":160},8490500,53100]
[null,129,5,"REAL ESTATE AND RENTAL AND LEASING",53,12,37,1098355,571,{"$f":"IF(County!G1741=0,\"0\",IF(County!G1741<5,\"*\",ROUND((G1741*1),-1)))","v":40},1098400,27500]
[null,129,5,"PROFESSIONAL AND TECHNICAL SERVICES",54,38,290,18686410,1239,{"$f":"IF(County!G1742=0,\"0\",IF(County!G1742<5,\"*\",ROUND((G1742*1),-1)))","v":290},18686400,64400]
["D",129,5,"MANAGEMENT OF COMPANIES AND ENTERPRISES",55,2,14,811783,1115,{"$f":"IF(County!G1743=0,\"0\",IF(County!G1743<5,\"*\",ROUND((G1743*1),-1)))","v":10},811800,81200]
[null,129,5,"ADMINISTRATIVE AND WASTE SERVICES",56,25,334,9893206,570,{"$f":"IF(County!G1744=0,\"0\",IF(County!G1744<5,\"*\",ROUND((G1744*1),-1)))","v":330},9893200,30000]
[null,129,5,"EDUCATIONAL SERVICES",61,5,75,1352343,347,{"$f":"IF(County!G1745=0,\"0\",IF(County!G1745<5,\"*\",ROUND((G1745*1),-1)))","v":80},1352300,16900]
[null,129,5,"HEALTH CARE AND SOCIAL ASSISTANCE",62,24,353,9082304,495,{"$f":"IF(County!G1746=0,\"0\",IF(County!G1746<5,\"*\",ROUND((G1746*1),-1)))","v":350},9082300,25900]
["D",129,5,"ARTS, ENTERTAINMENT, AND RECREATION",71,4,27,366159,261,{"$f":"IF(County!G1747=0,\"0\",IF(County!G1747<5,\"*\",ROUND((G1747*1),-1)))","v":30},366200,12200]
[null,129,5,"ACCOMMODATION AND FOOD SERVICES",72,31,510,6822873,257,{"$f":"IF(County!G1748=0,\"0\",IF(County!G1748<5,\"*\",ROUND((G1748*1),-1)))","v":510},6822900,13400]
[null,129,5,"OTHER SERVICES, EXCEPT PUBLIC ADMIN",81,41,160,4724033,568,{"$f":"IF(County!G1749=0,\"0\",IF(County!G1749<5,\"*\",ROUND((G1749*1),-1)))","v":160},4724000,29500]
[null,129,3,"LOCAL GOVERNMENT",11,19,1028,31863894,596,{"$f":"IF(County!G1750=0,\"0\",IF(County!G1750<5,\"*\",ROUND((G1750*1),-1)))","v":1030},31863900,30900]
["D",129,3,"EDUCATIONAL SERVICES",61,2,605,20885231,664,{"$f":"IF(County!G1751=0,\"0\",IF(County!G1751<5,\"*\",ROUND((G1751*1),-1)))","v":610},20885200,34200]
[null,129,3,"HEALTH CARE AND SOCIAL ASSISTANCE",62,0,0,0,0,{"$f":"IF(County!G1752=0,\"0\",IF(County!G1752<5,\"*\",ROUND((G1752*1),-1)))","v":"0"},0,0]
[null,129,2,"STATE GOVERNMENT",11,10,77,2695376,673,{"$f":"IF(County!G1753=0,\"0\",IF(County!G1753<5,\"*\",ROUND((G1753*1),-1)))","v":80},2695400,33700]
[null,129,2,"EDUCATIONAL SERVICES",61,0,0,0,0,{"$f":"IF(County!G1754=0,\"0\",IF(County!G1754<5,\"*\",ROUND((G1754*1),-1)))","v":"0"},0,0]
[null,129,2,"HEALTH CARE AND SOCIAL ASSISTANCE",62,0,0,0,0,{"$f":"IF(County!G1755=0,\"0\",IF(County!G1755<5,\"*\",ROUND((G1755*1),-1)))","v":"0"},0,0]
[null,129,"U","TOTAL UI COVERED",11,485,8105,418880533,994,{"$f":"IF(County!G1756=0,\"0\",IF(County!G1756<5,\"*\",ROUND((G1756*1),-1)))","v":8110},418880500,51600]
[null,129,1,"FEDERAL GOVERNMENT",11,10,64,3342805,1004,{"$f":"IF(County!G1757=0,\"0\",IF(County!G1757<5,\"*\",ROUND((G1757*1),-1)))","v":60},3342800,55700]
[null,131,5,"AGRICULTURE, FORESTRY, FISHING AND HUNTI",11,22,368,12239404,640,{"$f":"IF(County!G1758=0,\"0\",IF(County!G1758<5,\"*\",ROUND((G1758*1),-1)))","v":370},12239400,33100]
["D",131,5,"MINING, QUARRYING, AND OIL AND GAS EXTRA",21,2,23,1165028,974,{"$f":"IF(County!G1759=0,\"0\",IF(County!G1759<5,\"*\",ROUND((G1759*1),-1)))","v":20},1165000,58300]
[null,131,5,"UTILITIES",22,0,0,0,0,{"$f":"IF(County!G1760=0,\"0\",IF(County!G1760<5,\"*\",ROUND((G1760*1),-1)))","v":"0"},0,0]
[null,131,5,"CONSTRUCTION",23,30,129,4435893,661,{"$f":"IF(County!G1761=0,\"0\",IF(County!G1761<5,\"*\",ROUND((G1761*1),-1)))","v":130},4435900,34100]
[null,131,5,"MANUFACTURING","31-33",21,1324,62046935,901,{"$f":"IF(County!G1762=0,\"0\",IF(County!G1762<5,\"*\",ROUND((G1762*1),-1)))","v":1320},62046900,47000]
[null,131,5,"WHOLESALE TRADE",42,25,239,10893808,877,{"$f":"IF(County!G1763=0,\"0\",IF(County!G1763<5,\"*\",ROUND((G1763*1),-1)))","v":240},10893800,45400]
[null,131,5,"RETAIL TRADE","44-45",56,439,9976792,437,{"$f":"IF(County!G1764=0,\"0\",IF(County!G1764<5,\"*\",ROUND((G1764*1),-1)))","v":440},9976800,22700]
[null,131,5,"TRANSPORTATION AND WAREHOUSING","48-49",24,109,4565619,806,{"$f":"IF(County!G1765=0,\"0\",IF(County!G1765<5,\"*\",ROUND((G1765*1),-1)))","v":110},4565600,41500]
["D",131,5,"INFORMATION",51,3,12,285605,458,{"$f":"IF(County!G1766=0,\"0\",IF(County!G1766<5,\"*\",ROUND((G1766*1),-1)))","v":10},285600,28600]
[null,131,5,"FINANCE AND INSURANCE",52,19,145,6708968,890,{"$f":"IF(County!G1767=0,\"0\",IF(County!G1767<5,\"*\",ROUND((G1767*1),-1)))","v":150},6709000,44700]
[null,131,5,"REAL ESTATE AND RENTAL AND LEASING",53,7,8,110067,265,{"$f":"IF(County!G1768=0,\"0\",IF(County!G1768<5,\"*\",ROUND((G1768*1),-1)))","v":10},110100,11000]
[null,131,5,"PROFESSIONAL AND TECHNICAL SERVICES",54,22,68,2223938,629,{"$f":"IF(County!G1769=0,\"0\",IF(County!G1769<5,\"*\",ROUND((G1769*1),-1)))","v":70},2223900,31800]
["D",131,5,"MANAGEMENT OF COMPANIES AND ENTERPRISES",55,1,26,1364889,1010,{"$f":"IF(County!G1770=0,\"0\",IF(County!G1770<5,\"*\",ROUND((G1770*1),-1)))","v":30},1364900,45500]
[null,131,5,"ADMINISTRATIVE AND WASTE SERVICES",56,4,15,455076,583,{"$f":"IF(County!G1771=0,\"0\",IF(County!G1771<5,\"*\",ROUND((G1771*1),-1)))","v":20},455100,22800]
["D",131,5,"EDUCATIONAL SERVICES",61,1,0,10000,0,{"$f":"IF(County!G1772=0,\"0\",IF(County!G1772<5,\"*\",ROUND((G1772*1),-1)))","v":"0"},10000,0]
[null,131,5,"HEALTH CARE AND SOCIAL ASSISTANCE",62,21,334,9416155,542,{"$f":"IF(County!G1773=0,\"0\",IF(County!G1773<5,\"*\",ROUND((G1773*1),-1)))","v":330},9416200,28500]
[null,131,5,"ARTS, ENTERTAINMENT, AND RECREATION",71,5,18,118270,126,{"$f":"IF(County!G1774=0,\"0\",IF(County!G1774<5,\"*\",ROUND((G1774*1),-1)))","v":20},118300,5900]
[null,131,5,"ACCOMMODATION AND FOOD SERVICES",72,21,158,1509700,184,{"$f":"IF(County!G1775=0,\"0\",IF(County!G1775<5,\"*\",ROUND((G1775*1),-1)))","v":160},1509700,9400]
[null,131,5,"OTHER SERVICES, EXCEPT PUBLIC ADMIN",81,26,90,2328859,498,{"$f":"IF(County!G1776=0,\"0\",IF(County!G1776<5,\"*\",ROUND((G1776*1),-1)))","v":90},2328900,25900]
[null,131,3,"LOCAL GOVERNMENT",11,11,910,30449383,643,{"$f":"IF(County!G1777=0,\"0\",IF(County!G1777<5,\"*\",ROUND((G1777*1),-1)))","v":910},30449400,33500]
["D",131,3,"EDUCATIONAL SERVICES",61,2,409,11548105,543,{"$f":"IF(County!G1778=0,\"0\",IF(County!G1778<5,\"*\",ROUND((G1778*1),-1)))","v":410},11548100,28200]
["D",131,3,"HEALTH CARE AND SOCIAL ASSISTANCE",62,1,239,12592175,1013,{"$f":"IF(County!G1779=0,\"0\",IF(County!G1779<5,\"*\",ROUND((G1779*1),-1)))","v":240},12592200,52500]
[null,131,2,"STATE GOVERNMENT",11,10,89,3257396,704,{"$f":"IF(County!G1780=0,\"0\",IF(County!G1780<5,\"*\",ROUND((G1780*1),-1)))","v":90},3257400,36200]
[null,131,2,"EDUCATIONAL SERVICES",61,0,0,0,0,{"$f":"IF(County!G1781=0,\"0\",IF(County!G1781<5,\"*\",ROUND((G1781*1),-1)))","v":"0"},0,0]
[null,131,2,"HEALTH CARE AND SOCIAL ASSISTANCE",62,0,0,0,0,{"$f":"IF(County!G1782=0,\"0\",IF(County!G1782<5,\"*\",ROUND((G1782*1),-1)))","v":"0"},0,0]
[null,131,"U","TOTAL UI COVERED",11,330,4503,163561785,699,{"$f":"IF(County!G1783=0,\"0\",IF(County!G1783<5,\"*\",ROUND((G1783*1),-1)))","v":4500},163561800,36300]
[null,131,1,"FEDERAL GOVERNMENT",11,8,38,1659754,840,{"$f":"IF(County!G1784=0,\"0\",IF(County!G1784<5,\"*\",ROUND((G1784*1),-1)))","v":40},1659800,41500]
[null,133,5,"AGRICULTURE, FORESTRY, FISHING AND HUNTI",11,16,77,2120219,530,{"$f":"IF(County!G1785=0,\"0\",IF(County!G1785<5,\"*\",ROUND((G1785*1),-1)))","v":80},2120200,26500]
[null,133,5,"MINING, QUARRYING, AND OIL AND GAS EXTRA",21,7,62,3408979,1057,{"$f":"IF(County!G1786=0,\"0\",IF(County!G1786<5,\"*\",ROUND((G1786*1),-1)))","v":60},3409000,56800]
[null,133,5,"UTILITIES",22,5,29,2132425,1414,{"$f":"IF(County!G1787=0,\"0\",IF(County!G1787<5,\"*\",ROUND((G1787*1),-1)))","v":30},2132400,71100]
[null,133,5,"CONSTRUCTION",23,83,333,12095338,699,{"$f":"IF(County!G1788=0,\"0\",IF(County!G1788<5,\"*\",ROUND((G1788*1),-1)))","v":330},12095300,36700]
[null,133,5,"MANUFACTURING","31-33",25,2449,108195028,850,{"$f":"IF(County!G1789=0,\"0\",IF(County!G1789<5,\"*\",ROUND((G1789*1),-1)))","v":2450},108195000,44200]
[null,133,5,"WHOLESALE TRADE",42,23,164,7679690,901,{"$f":"IF(County!G1790=0,\"0\",IF(County!G1790<5,\"*\",ROUND((G1790*1),-1)))","v":160},7679700,48000]
[null,133,5,"RETAIL TRADE","44-45",91,1125,25209663,431,{"$f":"IF(County!G1791=0,\"0\",IF(County!G1791<5,\"*\",ROUND((G1791*1),-1)))","v":1130},25209700,22300]
[null,133,5,"TRANSPORTATION AND WAREHOUSING","48-49",31,912,38294028,807,{"$f":"IF(County!G1792=0,\"0\",IF(County!G1792<5,\"*\",ROUND((G1792*1),-1)))","v":910},38294000,42100]
[null,133,5,"INFORMATION",51,9,147,7259227,950,{"$f":"IF(County!G1793=0,\"0\",IF(County!G1793<5,\"*\",ROUND((G1793*1),-1)))","v":150},7259200,48400]
[null,133,5,"FINANCE AND INSURANCE",52,40,252,10769839,822,{"$f":"IF(County!G1794=0,\"0\",IF(County!G1794<5,\"*\",ROUND((G1794*1),-1)))","v":250},10769800,43100]
[null,133,5,"REAL ESTATE AND RENTAL AND LEASING",53,22,82,1496728,351,{"$f":"IF(County!G1795=0,\"0\",IF(County!G1795<5,\"*\",ROUND((G1795*1),-1)))","v":80},1496700,18700]
[null,133,5,"PROFESSIONAL AND TECHNICAL SERVICES",54,42,153,5735025,721,{"$f":"IF(County!G1796=0,\"0\",IF(County!G1796<5,\"*\",ROUND((G1796*1),-1)))","v":150},5735000,{"$f":"IF(G1796=0,0,IF(J1796=\"*\",\"*\",ROUND((K1796/J1796),-2)))","v":38200}]
["D",133,5,"MANAGEMENT OF COMPANIES AND ENTERPRISES",55,2,8,576264,1385,{"$f":"IF(County!G1797=0,\"0\",IF(County!G1797<5,\"*\",ROUND((G1797*1),-1)))","v":10},576300,57600]
[null,133,5,"ADMINISTRATIVE AND WASTE SERVICES",56,30,692,18001210,500,{"$f":"IF(County!G1798=0,\"0\",IF(County!G1798<5,\"*\",ROUND((G1798*1),-1)))","v":690},18001200,26100]
["D",133,5,"EDUCATIONAL SERVICES",61,6,831,38772917,897,{"$f":"IF(County!G1799=0,\"0\",IF(County!G1799<5,\"*\",ROUND((G1799*1),-1)))","v":830},38772900,46700]
[null,133,5,"HEALTH CARE AND SOCIAL ASSISTANCE",62,46,1216,29589095,468,{"$f":"IF(County!G1800=0,\"0\",IF(County!G1800<5,\"*\",ROUND((G1800*1),-1)))","v":1220},29589100,24300]
[null,133,5,"ARTS, ENTERTAINMENT, AND RECREATION",71,9,39,746539,368,{"$f":"IF(County!G1801=0,\"0\",IF(County!G1801<5,\"*\",ROUND((G1801*1),-1)))","v":40},{"$f":"ROUND((H1801),-2)","v":746500},18700]
[null,133,5,"ACCOMMODATION AND FOOD SERVICES",72,69,1051,13384372,245,{"$f":"IF(County!G1802=0,\"0\",IF(County!G1802<5,\"*\",ROUND((G1802*1),-1)))","v":1050},13384400,12700]
[null,133,5,"OTHER SERVICES, EXCEPT PUBLIC ADMIN",81,60,267,6155534,443,{"$f":"IF(County!G1803=0,\"0\",IF(County!G1803<5,\"*\",ROUND((G1803*1),-1)))","v":270},6155500,22800]
[null,133,3,"LOCAL GOVERNMENT",11,33,1734,50948413,565,{"$f":"IF(County!G1804=0,\"0\",IF(County!G1804<5,\"*\",ROUND((G1804*1),-1)))","v":1730},50948400,29400]
[null,133,3,"EDUCATIONAL SERVICES",61,10,948,27907546,566,{"$f":"IF(County!G1805=0,\"0\",IF(County!G1805<5,\"*\",ROUND((G1805*1),-1)))","v":950},27907500,29400]
["D",133,3,"HEALTH CARE AND SOCIAL ASSISTANCE",62,1,315,10723299,655,{"$f":"IF(County!G1806=0,\"0\",IF(County!G1806<5,\"*\",ROUND((G1806*1),-1)))","v":320},10723300,33500]
[null,133,2,"STATE GOVERNMENT",11,19,636,22508218,681,{"$f":"IF(County!G1807=0,\"0\",IF(County!G1807<5,\"*\",ROUND((G1807*1),-1)))","v":640},22508200,35200]
[null,133,2,"EDUCATIONAL SERVICES",61,0,0,0,0,{"$f":"IF(County!G1808=0,\"0\",IF(County!G1808<5,\"*\",ROUND((G1808*1),-1)))","v":"0"},0,0]
[null,133,2,"HEALTH CARE AND SOCIAL ASSISTANCE",62,0,0,0,0,{"$f":"IF(County!G1809=0,\"0\",IF(County!G1809<5,\"*\",ROUND((G1809*1),-1)))","v":"0"},0,0]
[null,133,"U","TOTAL UI COVERED",11,668,12258,405102110,636,{"$f":"IF(County!G1810=0,\"0\",IF(County!G1810<5,\"*\",ROUND((G1810*1),-1)))","v":12260},405102100,33000]
[null,133,1,"FEDERAL GOVERNMENT",11,11,76,3666110,928,{"$f":"IF(County!G1811=0,\"0\",IF(County!G1811<5,\"*\",ROUND((G1811*1),-1)))","v":80},3666100,45800]
[null,135,5,"AGRICULTURE, FORESTRY, FISHING AND HUNTI",11,17,196,6407357,629,{"$f":"IF(County!G1812=0,\"0\",IF(County!G1812<5,\"*\",ROUND((G1812*1),-1)))","v":200},6407400,32000]
["D",135,5,"MINING, QUARRYING, AND OIL AND GAS EXTRA",21,1,7,424380,1166,{"$f":"IF(County!G1813=0,\"0\",IF(County!G1813<5,\"*\",ROUND((G1813*1),-1)))","v":10},424400,42400]
["D",135,5,"UTILITIES",22,4,55,3444783,1204,{"$f":"IF(County!G1814=0,\"0\",IF(County!G1814<5,\"*\",ROUND((G1814*1),-1)))","v":60},3444800,57400]
[null,135,5,"CONSTRUCTION",23,42,382,17314019,872,{"$f":"IF(County!G1815=0,\"0\",IF(County!G1815<5,\"*\",ROUND((G1815*1),-1)))","v":380},17314000,45600]
[null,135,5,"MANUFACTURING","31-33",44,2069,93415962,868,{"$f":"IF(County!G1816=0,\"0\",IF(County!G1816<5,\"*\",ROUND((G1816*1),-1)))","v":2070},93416000,45100]
[null,135,5,"WHOLESALE TRADE",42,27,273,10263422,723,{"$f":"IF(County!G1817=0,\"0\",IF(County!G1817<5,\"*\",ROUND((G1817*1),-1)))","v":270},10263400,38000]
[null,135,5,"RETAIL TRADE","44-45",69,531,10357020,375,{"$f":"IF(County!G1818=0,\"0\",IF(County!G1818<5,\"*\",ROUND((G1818*1),-1)))","v":530},10357000,19500]
[null,135,5,"TRANSPORTATION AND WAREHOUSING","48-49",34,182,7057679,746,{"$f":"IF(County!G1819=0,\"0\",IF(County!G1819<5,\"*\",ROUND((G1819*1),-1)))","v":180},7057700,39200]
[null,135,5,"INFORMATION",51,3,47,1102066,451,{"$f":"IF(County!G1820=0,\"0\",IF(County!G1820<5,\"*\",ROUND((G1820*1),-1)))","v":50},1102100,22000]
[null,135,5,"FINANCE AND INSURANCE",52,25,149,4894419,632,{"$f":"IF(County!G1821=0,\"0\",IF(County!G1821<5,\"*\",ROUND((G1821*1),-1)))","v":150},4894400,32600]
[null,135,5,"REAL ESTATE AND RENTAL AND LEASING",53,5,14,263523,362,{"$f":"IF(County!G1822=0,\"0\",IF(County!G1822<5,\"*\",ROUND((G1822*1),-1)))","v":10},263500,26400]
[null,135,5,"PROFESSIONAL AND TECHNICAL SERVICES",54,34,117,5209574,856,{"$f":"IF(County!G1823=0,\"0\",IF(County!G1823<5,\"*\",ROUND((G1823*1),-1)))","v":120},5209600,43400]
[null,135,5,"MANAGEMENT OF COMPANIES AND ENTERPRISES",55,0,0,0,0,{"$f":"IF(County!G1824=0,\"0\",IF(County!G1824<5,\"*\",ROUND((G1824*1),-1)))","v":"0"},0,0]
[null,135,5,"ADMINISTRATIVE AND WASTE SERVICES",56,20,657,23535740,689,{"$f":"IF(County!G1825=0,\"0\",IF(County!G1825<5,\"*\",ROUND((G1825*1),-1)))","v":660},23535700,35700]
["D",135,5,"EDUCATIONAL SERVICES",61,5,31,687649,427,{"$f":"IF(County!G1826=0,\"0\",IF(County!G1826<5,\"*\",ROUND((G1826*1),-1)))","v":30},687600,22900]
[null,135,5,"HEALTH CARE AND SOCIAL ASSISTANCE",62,31,629,18590517,568,{"$f":"IF(County!G1827=0,\"0\",IF(County!G1827<5,\"*\",ROUND((G1827*1),-1)))","v":630},18590500,29500]
[null,135,5,"ARTS, ENTERTAINMENT, AND RECREATION",71,12,162,3252394,386,{"$f":"IF(County!G1828=0,\"0\",IF(County!G1828<5,\"*\",ROUND((G1828*1),-1)))","v":160},3252400,20300]
[null,135,5,"ACCOMMODATION AND FOOD SERVICES",72,36,472,5357818,218,{"$f":"IF(County!G1829=0,\"0\",IF(County!G1829<5,\"*\",ROUND((G1829*1),-1)))","v":470},5357800,11400]
[null,135,5,"OTHER SERVICES, EXCEPT PUBLIC ADMIN",81,39,151,2750905,350,{"$f":"IF(County!G1830=0,\"0\",IF(County!G1830<5,\"*\",ROUND((G1830*1),-1)))","v":150},2750900,18300]
[null,135,3,"LOCAL GOVERNMENT",11,34,1105,30731453,535,{"$f":"IF(County!G1831=0,\"0\",IF(County!G1831<5,\"*\",ROUND((G1831*1),-1)))","v":1110},30731500,27700]
[null,135,3,"EDUCATIONAL SERVICES",61,10,740,21994289,572,{"$f":"IF(County!G1832=0,\"0\",IF(County!G1832<5,\"*\",ROUND((G1832*1),-1)))","v":740},21994300,29700]
[null,135,3,"HEALTH CARE AND SOCIAL ASSISTANCE",62,0,0,0,0,{"$f":"IF(County!G1833=0,\"0\",IF(County!G1833<5,\"*\",ROUND((G1833*1),-1)))","v":"0"},0,0]
[null,135,2,"STATE GOVERNMENT",11,8,77,2575289,643,{"$f":"IF(County!G1834=0,\"0\",IF(County!G1834<5,\"*\",ROUND((G1834*1),-1)))","v":80},2575300,32200]
[null,135,2,"EDUCATIONAL SERVICES",61,0,0,0,0,{"$f":"IF(County!G1835=0,\"0\",IF(County!G1835<5,\"*\",ROUND((G1835*1),-1)))","v":"0"},0,0]
[null,135,2,"HEALTH CARE AND SOCIAL ASSISTANCE",62,0,0,0,0,{"$f":"IF(County!G1836=0,\"0\",IF(County!G1836<5,\"*\",ROUND((G1836*1),-1)))","v":"0"},0,0]
[null,135,"U","TOTAL UI COVERED",11,489,7305,247635969,652,{"$f":"IF(County!G1837=0,\"0\",IF(County!G1837<5,\"*\",ROUND((G1837*1),-1)))","v":7310},247636000,33900]
[null,135,1,"FEDERAL GOVERNMENT",11,11,64,2609502,784,{"$f":"IF(County!G1838=0,\"0\",IF(County!G1838<5,\"*\",ROUND((G1838*1),-1)))","v":60},2609500,43500]
[null,137,5,"AGRICULTURE, FORESTRY, FISHING AND HUNTI",11,18,138,3631303,506,{"$f":"IF(County!G1839=0,\"0\",IF(County!G1839<5,\"*\",ROUND((G1839*1),-1)))","v":140},3631300,25900]
[null,137,5,"MINING, QUARRYING, AND OIL AND GAS EXTRA",21,3,30,1204198,772,{"$f":"IF(County!G1840=0,\"0\",IF(County!G1840<5,\"*\",ROUND((G1840*1),-1)))","v":30},1204200,40100]
[null,137,5,"UTILITIES",22,6,99,5950556,1156,{"$f":"IF(County!G1841=0,\"0\",IF(County!G1841<5,\"*\",ROUND((G1841*1),-1)))","v":100},5950600,59500]
[null,137,5,"CONSTRUCTION",23,81,435,16621263,735,{"$f":"IF(County!G1842=0,\"0\",IF(County!G1842<5,\"*\",ROUND((G1842*1),-1)))","v":440},16621300,37800]
[null,137,5,"MANUFACTURING","31-33",49,2009,95195522,911,{"$f":"IF(County!G1843=0,\"0\",IF(County!G1843<5,\"*\",ROUND((G1843*1),-1)))","v":2010},95195500,47400]
[null,137,5,"WHOLESALE TRADE",42,27,132,6051946,882,{"$f":"IF(County!G1844=0,\"0\",IF(County!G1844<5,\"*\",ROUND((G1844*1),-1)))","v":130},6051900,46600]
[null,137,5,"RETAIL TRADE","44-45",104,846,20863367,474,{"$f":"IF(County!G1845=0,\"0\",IF(County!G1845<5,\"*\",ROUND((G1845*1),-1)))","v":850},20863400,24500]
[null,137,5,"TRANSPORTATION AND WAREHOUSING","48-49",33,767,36420068,913,{"$f":"IF(County!G1846=0,\"0\",IF(County!G1846<5,\"*\",ROUND((G1846*1),-1)))","v":770},36420100,47300]
[null,137,5,"INFORMATION",51,8,133,6461822,934,{"$f":"IF(County!G1847=0,\"0\",IF(County!G1847<5,\"*\",ROUND((G1847*1),-1)))","v":130},6461800,49700]
[null,137,5,"FINANCE AND INSURANCE",52,46,504,35444567,1352,{"$f":"IF(County!G1848=0,\"0\",IF(County!G1848<5,\"*\",ROUND((G1848*1),-1)))","v":500},35444600,70900]
[null,137,5,"REAL ESTATE AND RENTAL AND LEASING",53,17,31,683873,424,{"$f":"IF(County!G1849=0,\"0\",IF(County!G1849<5,\"*\",ROUND((G1849*1),-1)))","v":30},683900,22800]
[null,137,5,"PROFESSIONAL AND TECHNICAL SERVICES",54,39,288,15379484,1027,{"$f":"IF(County!G1850=0,\"0\",IF(County!G1850<5,\"*\",ROUND((G1850*1),-1)))","v":290},15379500,53000]
[null,137,5,"MANAGEMENT OF COMPANIES AND ENTERPRISES",55,11,1411,121961477,1662,{"$f":"IF(County!G1851=0,\"0\",IF(County!G1851<5,\"*\",ROUND((G1851*1),-1)))","v":1410},121961500,86500]
["D",137,5,"ADMINISTRATIVE AND WASTE SERVICES",56,22,1012,28722956,546,{"$f":"IF(County!G1852=0,\"0\",IF(County!G1852<5,\"*\",ROUND((G1852*1),-1)))","v":1010},28723000,28400]
["D",137,5,"EDUCATIONAL SERVICES",61,2,22,1022916,894,{"$f":"IF(County!G1853=0,\"0\",IF(County!G1853<5,\"*\",ROUND((G1853*1),-1)))","v":20},1022900,51100]
[null,137,5,"HEALTH CARE AND SOCIAL ASSISTANCE",62,62,1393,52419926,724,{"$f":"IF(County!G1854=0,\"0\",IF(County!G1854<5,\"*\",ROUND((G1854*1),-1)))","v":1390},52419900,37700]
[null,137,5,"ARTS, ENTERTAINMENT, AND RECREATION",71,7,98,1492590,293,{"$f":"IF(County!G1855=0,\"0\",IF(County!G1855<5,\"*\",ROUND((G1855*1),-1)))","v":100},1492600,14900]
[null,137,5,"ACCOMMODATION AND FOOD SERVICES",72,53,802,9427979,226,{"$f":"IF(County!G1856=0,\"0\",IF(County!G1856<5,\"*\",ROUND((G1856*1),-1)))","v":800},9428000,11800]
[null,137,5,"OTHER SERVICES, EXCEPT PUBLIC ADMIN",81,69,329,6897575,403,{"$f":"IF(County!G1857=0,\"0\",IF(County!G1857<5,\"*\",ROUND((G1857*1),-1)))","v":330},6897600,20900]
[null,137,3,"LOCAL GOVERNMENT",11,30,1157,34832224,579,{"$f":"IF(County!G1858=0,\"0\",IF(County!G1858<5,\"*\",ROUND((G1858*1),-1)))","v":1160},34832200,30000]
[null,137,3,"EDUCATIONAL SERVICES",61,8,753,24191194,618,{"$f":"IF(County!G1859=0,\"0\",IF(County!G1859<5,\"*\",ROUND((G1859*1),-1)))","v":750},24191200,32300]
["D",137,3,"HEALTH CARE AND SOCIAL ASSISTANCE",62,2,3,288994,1853,{"$f":"IF(County!G1860=0,\"0\",IF(County!G1860<5,\"*\",ROUND((G1860*1),-1)))","v":"*"},289000,{"$f":"IF(G1860=0,0,IF(J1860=\"*\",\"*\",ROUND((K1860/J1860),-2)))","v":"*"}]
[null,137,2,"STATE GOVERNMENT",11,14,116,4572618,758,{"$f":"IF(County!G1861=0,\"0\",IF(County!G1861<5,\"*\",ROUND((G1861*1),-1)))","v":120},4572600,38100]
[null,137,2,"EDUCATIONAL SERVICES",61,0,0,0,0,{"$f":"IF(County!G1862=0,\"0\",IF(County!G1862<5,\"*\",ROUND((G1862*1),-1)))","v":"0"},0,0]
[null,137,2,"HEALTH CARE AND SOCIAL ASSISTANCE",62,0,0,0,0,{"$f":"IF(County!G1863=0,\"0\",IF(County!G1863<5,\"*\",ROUND((G1863*1),-1)))","v":"0"},0,0]
[null,137,"U","TOTAL UI COVERED",11,698,11753,505258230,827,{"$f":"IF(County!G1864=0,\"0\",IF(County!G1864<5,\"*\",ROUND((G1864*1),-1)))","v":11750},505258200,43000]
[null,137,1,"FEDERAL GOVERNMENT",11,14,72,3364239,899,{"$f":"IF(County!G1865=0,\"0\",IF(County!G1865<5,\"*\",ROUND((G1865*1),-1)))","v":70},{"$f":"ROUND((H1865),-2)","v":3364200},48100]
[null,139,5,"AGRICULTURE, FORESTRY, FISHING AND HUNTI",11,13,152,5607638,709,{"$f":"IF(County!G1866=0,\"0\",IF(County!G1866<5,\"*\",ROUND((G1866*1),-1)))","v":150},5607600,37400]
["D",139,5,"MINING, QUARRYING, AND OIL AND GAS EXTRA",21,1,4,235173,1131,{"$f":"IF(County!G1867=0,\"0\",IF(County!G1867<5,\"*\",ROUND((G1867*1),-1)))","v":"*"},235200,"*"]
["D",139,5,"UTILITIES",22,2,53,3610370,1310,{"$f":"IF(County!G1868=0,\"0\",IF(County!G1868<5,\"*\",ROUND((G1868*1),-1)))","v":50},3610400,72200]
[null,139,5,"CONSTRUCTION",23,38,214,7160792,643,{"$f":"IF(County!G1869=0,\"0\",IF(County!G1869<5,\"*\",ROUND((G1869*1),-1)))","v":210},7160800,34100]
[null,139,5,"MANUFACTURING","31-33",28,1042,53049507,979,{"$f":"IF(County!G1870=0,\"0\",IF(County!G1870<5,\"*\",ROUND((G1870*1),-1)))","v":1040},53049500,51000]
[null,139,5,"WHOLESALE TRADE",42,24,188,6961230,712,{"$f":"IF(County!G1871=0,\"0\",IF(County!G1871<5,\"*\",ROUND((G1871*1),-1)))","v":190},6961200,36600]
[null,139,5,"RETAIL TRADE","44-45",53,519,12900332,478,{"$f":"IF(County!G1872=0,\"0\",IF(County!G1872<5,\"*\",ROUND((G1872*1),-1)))","v":520},12900300,24800]
[null,139,5,"TRANSPORTATION AND WAREHOUSING","48-49",23,320,13881428,834,{"$f":"IF(County!G1873=0,\"0\",IF(County!G1873<5,\"*\",ROUND((G1873*1),-1)))","v":320},13881400,43400]
[null,139,5,"INFORMATION",51,4,58,2037830,676,{"$f":"IF(County!G1874=0,\"0\",IF(County!G1874<5,\"*\",ROUND((G1874*1),-1)))","v":60},2037800,34000]
[null,139,5,"FINANCE AND INSURANCE",52,19,113,4816901,820,{"$f":"IF(County!G1875=0,\"0\",IF(County!G1875<5,\"*\",ROUND((G1875*1),-1)))","v":110},4816900,43800]
[null,139,5,"REAL ESTATE AND RENTAL AND LEASING",53,11,21,521237,477,{"$f":"IF(County!G1876=0,\"0\",IF(County!G1876<5,\"*\",ROUND((G1876*1),-1)))","v":20},521200,26100]
[null,139,5,"PROFESSIONAL AND TECHNICAL SERVICES",54,33,111,3290969,570,{"$f":"IF(County!G1877=0,\"0\",IF(County!G1877<5,\"*\",ROUND((G1877*1),-1)))","v":110},3291000,29900]
["D",139,5,"MANAGEMENT OF COMPANIES AND ENTERPRISES",55,2,43,988814,442,{"$f":"IF(County!G1878=0,\"0\",IF(County!G1878<5,\"*\",ROUND((G1878*1),-1)))","v":40},988800,24700]
[null,139,5,"ADMINISTRATIVE AND WASTE SERVICES",56,11,107,3149632,566,{"$f":"IF(County!G1879=0,\"0\",IF(County!G1879<5,\"*\",ROUND((G1879*1),-1)))","v":110},3149600,28600]
[null,139,5,"EDUCATIONAL SERVICES",61,0,0,0,0,{"$f":"IF(County!G1880=0,\"0\",IF(County!G1880<5,\"*\",ROUND((G1880*1),-1)))","v":"0"},0,0]
[null,139,5,"HEALTH CARE AND SOCIAL ASSISTANCE",62,27,259,8301114,616,{"$f":"IF(County!G1881=0,\"0\",IF(County!G1881<5,\"*\",ROUND((G1881*1),-1)))","v":260},8301100,31900]
[null,139,5,"ARTS, ENTERTAINMENT, AND RECREATION",71,3,15,373446,479,{"$f":"IF(County!G1882=0,\"0\",IF(County!G1882<5,\"*\",ROUND((G1882*1),-1)))","v":20},373400,18700]
[null,139,5,"ACCOMMODATION AND FOOD SERVICES",72,23,311,3778116,234,{"$f":"IF(County!G1883=0,\"0\",IF(County!G1883<5,\"*\",ROUND((G1883*1),-1)))","v":310},3778100,12200]
[null,139,5,"OTHER SERVICES, EXCEPT PUBLIC ADMIN",81,31,132,2621844,382,{"$f":"IF(County!G1884=0,\"0\",IF(County!G1884<5,\"*\",ROUND((G1884*1),-1)))","v":130},2621800,20200]
[null,139,3,"LOCAL GOVERNMENT",11,23,970,31870580,632,{"$f":"IF(County!G1885=0,\"0\",IF(County!G1885<5,\"*\",ROUND((G1885*1),-1)))","v":970},31870600,32900]
["D",139,3,"EDUCATIONAL SERVICES",61,11,410,12502635,586,{"$f":"IF(County!G1886=0,\"0\",IF(County!G1886<5,\"*\",ROUND((G1886*1),-1)))","v":410},12502600,30500]
["D",139,3,"HEALTH CARE AND SOCIAL ASSISTANCE",62,1,305,12579073,793,{"$f":"IF(County!G1887=0,\"0\",IF(County!G1887<5,\"*\",ROUND((G1887*1),-1)))","v":310},12579100,40600]
[null,139,2,"STATE GOVERNMENT",11,13,92,3780624,790,{"$f":"IF(County!G1888=0,\"0\",IF(County!G1888<5,\"*\",ROUND((G1888*1),-1)))","v":90},3780600,42000]
[null,139,2,"EDUCATIONAL SERVICES",61,0,0,0,0,{"$f":"IF(County!G1889=0,\"0\",IF(County!G1889<5,\"*\",ROUND((G1889*1),-1)))","v":"0"},0,0]
[null,139,2,"HEALTH CARE AND SOCIAL ASSISTANCE",62,0,0,0,0,{"$f":"IF(County!G1890=0,\"0\",IF(County!G1890<5,\"*\",ROUND((G1890*1),-1)))","v":"0"},0,0]
[null,139,"U","TOTAL UI COVERED",11,381,4724,168937577,688,{"$f":"IF(County!G1891=0,\"0\",IF(County!G1891<5,\"*\",ROUND((G1891*1),-1)))","v":4720},168937600,35800]
[null,139,1,"FEDERAL GOVERNMENT",11,7,43,1864222,834,{"$f":"IF(County!G1892=0,\"0\",IF(County!G1892<5,\"*\",ROUND((G1892*1),-1)))","v":40},1864200,46600]
[null,141,5,"AGRICULTURE, FORESTRY, FISHING AND HUNTI",11,28,171,5512274,620,{"$f":"IF(County!G1893=0,\"0\",IF(County!G1893<5,\"*\",ROUND((G1893*1),-1)))","v":170},5512300,32400]
[null,141,5,"MINING, QUARRYING, AND OIL AND GAS EXTRA",21,4,11,541668,947,{"$f":"IF(County!G1894=0,\"0\",IF(County!G1894<5,\"*\",ROUND((G1894*1),-1)))","v":10},541700,54200]
[null,141,5,"UTILITIES",22,5,317,25415683,1542,{"$f":"IF(County!G1895=0,\"0\",IF(County!G1895<5,\"*\",ROUND((G1895*1),-1)))","v":320},25415700,79400]
[null,141,5,"CONSTRUCTION",23,448,3949,202216314,985,{"$f":"IF(County!G1896=0,\"0\",IF(County!G1896<5,\"*\",ROUND((G1896*1),-1)))","v":3950},202216300,51200]
[null,141,5,"MANUFACTURING","31-33",369,14834,783386776,1016,{"$f":"IF(County!G1897=0,\"0\",IF(County!G1897<5,\"*\",ROUND((G1897*1),-1)))","v":14830},783386800,52800]
[null,141,5,"WHOLESALE TRADE",42,427,5431,293095332,1038,{"$f":"IF(County!G1898=0,\"0\",IF(County!G1898<5,\"*\",ROUND((G1898*1),-1)))","v":5430},293095300,54000]
[null,141,5,"RETAIL TRADE","44-45",861,14013,334063675,458,{"$f":"IF(County!G1899=0,\"0\",IF(County!G1899<5,\"*\",ROUND((G1899*1),-1)))","v":14010},334063700,23800]
[null,141,5,"TRANSPORTATION AND WAREHOUSING","48-49",161,2839,119533870,810,{"$f":"IF(County!G1900=0,\"0\",IF(County!G1900<5,\"*\",ROUND((G1900*1),-1)))","v":2840},119533900,42100]
[null,141,5,"INFORMATION",51,84,1688,85627556,976,{"$f":"IF(County!G1901=0,\"0\",IF(County!G1901<5,\"*\",ROUND((G1901*1),-1)))","v":1690},85627600,50700]
[null,141,5,"FINANCE AND INSURANCE",52,334,3356,220116111,1261,{"$f":"IF(County!G1902=0,\"0\",IF(County!G1902<5,\"*\",ROUND((G1902*1),-1)))","v":3360},220116100,65500]
[null,141,5,"REAL ESTATE AND RENTAL AND LEASING",53,212,1531,59191965,744,{"$f":"IF(County!G1903=0,\"0\",IF(County!G1903<5,\"*\",ROUND((G1903*1),-1)))","v":1530},59192000,38700]
[null,141,5,"PROFESSIONAL AND TECHNICAL SERVICES",54,539,4038,215848890,1028,{"$f":"IF(County!G1904=0,\"0\",IF(County!G1904<5,\"*\",ROUND((G1904*1),-1)))","v":4040},215848900,53400]
[null,141,5,"MANAGEMENT OF COMPANIES AND ENTERPRISES",55,43,2034,182713427,1727,{"$f":"IF(County!G1905=0,\"0\",IF(County!G1905<5,\"*\",ROUND((G1905*1),-1)))","v":2030},182713400,90000]
[null,141,5,"ADMINISTRATIVE AND WASTE SERVICES",56,309,5367,128132511,459,{"$f":"IF(County!G1906=0,\"0\",IF(County!G1906<5,\"*\",ROUND((G1906*1),-1)))","v":5370},128132500,23900]
[null,141,5,"EDUCATIONAL SERVICES",61,66,10451,520872496,958,{"$f":"IF(County!G1907=0,\"0\",IF(County!G1907<5,\"*\",ROUND((G1907*1),-1)))","v":10450},520872500,49800]
[null,141,5,"HEALTH CARE AND SOCIAL ASSISTANCE",62,520,19117,812200420,817,{"$f":"IF(County!G1908=0,\"0\",IF(County!G1908<5,\"*\",ROUND((G1908*1),-1)))","v":19120},812200400,42500]
[null,141,5,"ARTS, ENTERTAINMENT, AND RECREATION",71,75,1050,18984932,348,{"$f":"IF(County!G1909=0,\"0\",IF(County!G1909<5,\"*\",ROUND((G1909*1),-1)))","v":1050},18984900,18100]
[null,141,5,"ACCOMMODATION AND FOOD SERVICES",72,553,10788,152855471,272,{"$f":"IF(County!G1910=0,\"0\",IF(County!G1910<5,\"*\",ROUND((G1910*1),-1)))","v":10790},152855500,14200]
[null,141,5,"OTHER SERVICES, EXCEPT PUBLIC ADMIN",81,594,3702,110167304,572,{"$f":"IF(County!G1911=0,\"0\",IF(County!G1911<5,\"*\",ROUND((G1911*1),-1)))","v":3700},110167300,29800]
[null,141,3,"LOCAL GOVERNMENT",11,45,9702,354282222,702,{"$f":"IF(County!G1912=0,\"0\",IF(County!G1912<5,\"*\",ROUND((G1912*1),-1)))","v":9700},354282200,36500]
[null,141,3,"EDUCATIONAL SERVICES",61,11,5577,192777078,665,{"$f":"IF(County!G1913=0,\"0\",IF(County!G1913<5,\"*\",ROUND((G1913*1),-1)))","v":5580},192777100,34500]
["D",141,3,"HEALTH CARE AND SOCIAL ASSISTANCE",62,0,0,0,0,{"$f":"IF(County!G1914=0,\"0\",IF(County!G1914<5,\"*\",ROUND((G1914*1),-1)))","v":"0"},0,0]
[null,141,2,"STATE GOVERNMENT",11,21,2023,67612405,643,{"$f":"IF(County!G1915=0,\"0\",IF(County!G1915<5,\"*\",ROUND((G1915*1),-1)))","v":2020},67612400,33500]
["D",141,2,"EDUCATIONAL SERVICES",61,2,1550,49390386,613,{"$f":"IF(County!G1916=0,\"0\",IF(County!G1916<5,\"*\",ROUND((G1916*1),-1)))","v":1550},49390400,31900]
[null,141,2,"HEALTH CARE AND SOCIAL ASSISTANCE",62,0,0,0,0,{"$f":"IF(County!G1917=0,\"0\",IF(County!G1917<5,\"*\",ROUND((G1917*1),-1)))","v":"0"},0,0]
[null,141,"U","TOTAL UI COVERED",11,5697,116414,4692383499,775,{"$f":"IF(County!G1918=0,\"0\",IF(County!G1918<5,\"*\",ROUND((G1918*1),-1)))","v":116410},4692383500,40300]
[null,141,1,"FEDERAL GOVERNMENT",11,36,880,59325667,1296,{"$f":"IF(County!G1919=0,\"0\",IF(County!G1919<5,\"*\",ROUND((G1919*1),-1)))","v":880},59325700,67400]
[null,143,5,"AGRICULTURE, FORESTRY, FISHING AND HUNTI",11,3,12,323895,519,{"$f":"IF(County!G1920=0,\"0\",IF(County!G1920<5,\"*\",ROUND((G1920*1),-1)))","v":10},323900,32400]
[null,143,5,"MINING, QUARRYING, AND OIL AND GAS EXTRA",21,3,14,835129,1147,{"$f":"IF(County!G1921=0,\"0\",IF(County!G1921<5,\"*\",ROUND((G1921*1),-1)))","v":10},835100,83500]
["D",143,5,"UTILITIES",22,2,44,1631559,713,{"$f":"IF(County!G1922=0,\"0\",IF(County!G1922<5,\"*\",ROUND((G1922*1),-1)))","v":40},1631600,40800]
[null,143,5,"CONSTRUCTION",23,26,128,4213606,633,{"$f":"IF(County!G1923=0,\"0\",IF(County!G1923<5,\"*\",ROUND((G1923*1),-1)))","v":130},4213600,32400]
[null,143,5,"MANUFACTURING","31-33",26,1827,87821561,924,{"$f":"IF(County!G1924=0,\"0\",IF(County!G1924<5,\"*\",ROUND((G1924*1),-1)))","v":1830},87821600,{"$f":"IF(G1924=0,0,IF(J1924=\"*\",\"*\",ROUND((K1924/J1924),-2)))","v":48000}]
[null,143,5,"WHOLESALE TRADE",42,17,130,6265346,927,{"$f":"IF(County!G1925=0,\"0\",IF(County!G1925<5,\"*\",ROUND((G1925*1),-1)))","v":130},6265300,48200]
[null,143,5,"RETAIL TRADE","44-45",79,987,21888592,426,{"$f":"IF(County!G1926=0,\"0\",IF(County!G1926<5,\"*\",ROUND((G1926*1),-1)))","v":990},21888600,22100]
[null,143,5,"TRANSPORTATION AND WAREHOUSING","48-49",11,93,3752218,776,{"$f":"IF(County!G1927=0,\"0\",IF(County!G1927<5,\"*\",ROUND((G1927*1),-1)))","v":90},3752200,41700]
[null,143,5,"INFORMATION",51,5,32,789836,475,{"$f":"IF(County!G1928=0,\"0\",IF(County!G1928<5,\"*\",ROUND((G1928*1),-1)))","v":30},789800,26300]
[null,143,5,"FINANCE AND INSURANCE",52,22,122,5580573,880,{"$f":"IF(County!G1929=0,\"0\",IF(County!G1929<5,\"*\",ROUND((G1929*1),-1)))","v":120},{"$f":"ROUND((H1929),-2)","v":5580600},46500]
[null,143,5,"REAL ESTATE AND RENTAL AND LEASING",53,21,74,1762945,458,{"$f":"IF(County!G1930=0,\"0\",IF(County!G1930<5,\"*\",ROUND((G1930*1),-1)))","v":70},1762900,25200]
[null,143,5,"PROFESSIONAL AND TECHNICAL SERVICES",54,26,123,5253782,821,{"$f":"IF(County!G1931=0,\"0\",IF(County!G1931<5,\"*\",ROUND((G1931*1),-1)))","v":120},5253800,43800]
[null,143,5,"MANAGEMENT OF COMPANIES AND ENTERPRISES",55,0,0,0,0,{"$f":"IF(County!G1932=0,\"0\",IF(County!G1932<5,\"*\",ROUND((G1932*1),-1)))","v":"0"},0,0]
[null,143,5,"ADMINISTRATIVE AND WASTE SERVICES",56,20,641,14775937,443,{"$f":"IF(County!G1933=0,\"0\",IF(County!G1933<5,\"*\",ROUND((G1933*1),-1)))","v":640},14775900,23100]
["D",143,5,"EDUCATIONAL SERVICES",61,2,11,213487,373,{"$f":"IF(County!G1934=0,\"0\",IF(County!G1934<5,\"*\",ROUND((G1934*1),-1)))","v":10},213500,21400]
[null,143,5,"HEALTH CARE AND SOCIAL ASSISTANCE",62,45,1047,30047831,552,{"$f":"IF(County!G1935=0,\"0\",IF(County!G1935<5,\"*\",ROUND((G1935*1),-1)))","v":1050},30047800,28600]
[null,143,5,"ARTS, ENTERTAINMENT, AND RECREATION",71,3,15,211210,271,{"$f":"IF(County!G1936=0,\"0\",IF(County!G1936<5,\"*\",ROUND((G1936*1),-1)))","v":20},211200,10600]
[null,143,5,"ACCOMMODATION AND FOOD SERVICES",72,38,781,10173443,251,{"$f":"IF(County!G1937=0,\"0\",IF(County!G1937<5,\"*\",ROUND((G1937*1),-1)))","v":780},10173400,13000]
[null,143,5,"OTHER SERVICES, EXCEPT PUBLIC ADMIN",81,24,142,2736075,371,{"$f":"IF(County!G1938=0,\"0\",IF(County!G1938<5,\"*\",ROUND((G1938*1),-1)))","v":140},2736100,19500]
[null,143,3,"LOCAL GOVERNMENT",11,14,954,30609834,617,{"$f":"IF(County!G1939=0,\"0\",IF(County!G1939<5,\"*\",ROUND((G1939*1),-1)))","v":950},30609800,32200]
["D",143,3,"EDUCATIONAL SERVICES",61,2,625,20487944,630,{"$f":"IF(County!G1940=0,\"0\",IF(County!G1940<5,\"*\",ROUND((G1940*1),-1)))","v":630},20487900,32500]
["D",143,3,"HEALTH CARE AND SOCIAL ASSISTANCE",62,1,4,284453,1368,{"$f":"IF(County!G1941=0,\"0\",IF(County!G1941<5,\"*\",ROUND((G1941*1),-1)))","v":"*"},284500,"*"]
[null,143,2,"STATE GOVERNMENT",11,11,95,3443245,697,{"$f":"IF(County!G1942=0,\"0\",IF(County!G1942<5,\"*\",ROUND((G1942*1),-1)))","v":100},3443200,34400]
[null,143,2,"EDUCATIONAL SERVICES",61,0,0,0,0,{"$f":"IF(County!G1943=0,\"0\",IF(County!G1943<5,\"*\",ROUND((G1943*1),-1)))","v":"0"},0,0]
[null,143,2,"HEALTH CARE AND SOCIAL ASSISTANCE",62,0,0,0,0,{"$f":"IF(County!G1944=0,\"0\",IF(County!G1944<5,\"*\",ROUND((G1944*1),-1)))","v":"0"},0,0]
[null,143,"U","TOTAL UI COVERED",11,397,7270,232330104,615,{"$f":"IF(County!G1945=0,\"0\",IF(County!G1945<5,\"*\",ROUND((G1945*1),-1)))","v":7270},232330100,32000]
[null,143,1,"FEDERAL GOVERNMENT",11,8,72,4351527,1162,{"$f":"IF(County!G1946=0,\"0\",IF(County!G1946<5,\"*\",ROUND((G1946*1),-1)))","v":70},4351500,62200]
[null,145,5,"AGRICULTURE, FORESTRY, FISHING AND HUNTI",11,22,168,5248406,601,{"$f":"IF(County!G1947=0,\"0\",IF(County!G1947<5,\"*\",ROUND((G1947*1),-1)))","v":170},5248400,30900]
[null,145,5,"MINING, QUARRYING, AND OIL AND GAS EXTRA",21,6,63,3128389,955,{"$f":"IF(County!G1948=0,\"0\",IF(County!G1948<5,\"*\",ROUND((G1948*1),-1)))","v":60},3128400,52100]
[null,145,5,"UTILITIES",22,4,39,2934371,1447,{"$f":"IF(County!G1949=0,\"0\",IF(County!G1949<5,\"*\",ROUND((G1949*1),-1)))","v":40},2934400,73400]
[null,145,5,"CONSTRUCTION",23,104,767,34881881,875,{"$f":"IF(County!G1950=0,\"0\",IF(County!G1950<5,\"*\",ROUND((G1950*1),-1)))","v":770},34881900,45300]
[null,145,5,"MANUFACTURING","31-33",75,4898,252852162,993,{"$f":"IF(County!G1951=0,\"0\",IF(County!G1951<5,\"*\",ROUND((G1951*1),-1)))","v":4900},252852200,51600]
[null,145,5,"WHOLESALE TRADE",42,51,561,27838002,954,{"$f":"IF(County!G1952=0,\"0\",IF(County!G1952<5,\"*\",ROUND((G1952*1),-1)))","v":560},27838000,49700]
[null,145,5,"RETAIL TRADE","44-45",128,1501,38628916,495,{"$f":"IF(County!G1953=0,\"0\",IF(County!G1953<5,\"*\",ROUND((G1953*1),-1)))","v":1500},38628900,25800]
[null,145,5,"TRANSPORTATION AND WAREHOUSING","48-49",45,1307,55417230,815,{"$f":"IF(County!G1954=0,\"0\",IF(County!G1954<5,\"*\",ROUND((G1954*1),-1)))","v":1310},55417200,42300]
[null,145,5,"INFORMATION",51,11,101,2901105,552,{"$f":"IF(County!G1955=0,\"0\",IF(County!G1955<5,\"*\",ROUND((G1955*1),-1)))","v":100},2901100,29000]
[null,145,5,"FINANCE AND INSURANCE",52,48,194,8381603,831,{"$f":"IF(County!G1956=0,\"0\",IF(County!G1956<5,\"*\",ROUND((G1956*1),-1)))","v":190},8381600,44100]
[null,145,5,"REAL ESTATE AND RENTAL AND LEASING",53,43,163,4813637,568,{"$f":"IF(County!G1957=0,\"0\",IF(County!G1957<5,\"*\",ROUND((G1957*1),-1)))","v":160},4813600,30100]
[null,145,5,"PROFESSIONAL AND TECHNICAL SERVICES",54,66,201,9987104,956,{"$f":"IF(County!G1958=0,\"0\",IF(County!G1958<5,\"*\",ROUND((G1958*1),-1)))","v":200},9987100,49900]
[null,145,5,"MANAGEMENT OF COMPANIES AND ENTERPRISES",55,3,19,599412,607,{"$f":"IF(County!G1959=0,\"0\",IF(County!G1959<5,\"*\",ROUND((G1959*1),-1)))","v":20},599400,30000]
[null,145,5,"ADMINISTRATIVE AND WASTE SERVICES",56,51,1199,28525290,458,{"$f":"IF(County!G1960=0,\"0\",IF(County!G1960<5,\"*\",ROUND((G1960*1),-1)))","v":1200},28525300,23800]
["D",145,5,"EDUCATIONAL SERVICES",61,2,35,1042982,573,{"$f":"IF(County!G1961=0,\"0\",IF(County!G1961<5,\"*\",ROUND((G1961*1),-1)))","v":40},1043000,26100]
[null,145,5,"HEALTH CARE AND SOCIAL ASSISTANCE",62,77,1282,55071645,826,{"$f":"IF(County!G1962=0,\"0\",IF(County!G1962<5,\"*\",ROUND((G1962*1),-1)))","v":1280},55071600,43000]
["D",145,5,"ARTS, ENTERTAINMENT, AND RECREATION",71,11,981,25701023,504,{"$f":"IF(County!G1963=0,\"0\",IF(County!G1963<5,\"*\",ROUND((G1963*1),-1)))","v":980},25701000,26200]
[null,145,5,"ACCOMMODATION AND FOOD SERVICES",72,69,1276,15748011,237,{"$f":"IF(County!G1964=0,\"0\",IF(County!G1964<5,\"*\",ROUND((G1964*1),-1)))","v":1280},15748000,12300]
[null,145,5,"OTHER SERVICES, EXCEPT PUBLIC ADMIN",81,64,350,8963592,493,{"$f":"IF(County!G1965=0,\"0\",IF(County!G1965<5,\"*\",ROUND((G1965*1),-1)))","v":350},8963600,25600]
[null,145,3,"LOCAL GOVERNMENT",11,22,2233,82735597,713,{"$f":"IF(County!G1966=0,\"0\",IF(County!G1966<5,\"*\",ROUND((G1966*1),-1)))","v":2230},82735600,37100]
[null,145,3,"EDUCATIONAL SERVICES",61,9,1011,32026975,609,{"$f":"IF(County!G1967=0,\"0\",IF(County!G1967<5,\"*\",ROUND((G1967*1),-1)))","v":1010},32027000,31700]
["D",145,3,"HEALTH CARE AND SOCIAL ASSISTANCE",62,1,674,32244966,920,{"$f":"IF(County!G1968=0,\"0\",IF(County!G1968<5,\"*\",ROUND((G1968*1),-1)))","v":670},32245000,48100]
[null,145,2,"STATE GOVERNMENT",11,16,101,4197463,799,{"$f":"IF(County!G1969=0,\"0\",IF(County!G1969<5,\"*\",ROUND((G1969*1),-1)))","v":100},4197500,42000]
[null,145,2,"EDUCATIONAL SERVICES",61,0,0,0,0,{"$f":"IF(County!G1970=0,\"0\",IF(County!G1970<5,\"*\",ROUND((G1970*1),-1)))","v":"0"},0,0]
[null,145,2,"HEALTH CARE AND SOCIAL ASSISTANCE",62,0,0,0,0,{"$f":"IF(County!G1971=0,\"0\",IF(County!G1971<5,\"*\",ROUND((G1971*1),-1)))","v":"0"},0,0]
[null,145,"U","TOTAL UI COVERED",11,917,17438,669601722,738,{"$f":"IF(County!G1972=0,\"0\",IF(County!G1972<5,\"*\",ROUND((G1972*1),-1)))","v":17440},669601700,38400]
[null,145,1,"FEDERAL GOVERNMENT",11,9,133,7383733,1068,{"$f":"IF(County!G1973=0,\"0\",IF(County!G1973<5,\"*\",ROUND((G1973*1),-1)))","v":130},7383700,56800]
[null,147,5,"AGRICULTURE, FORESTRY, FISHING AND HUNTI",11,22,98,3476383,682,{"$f":"IF(County!G1974=0,\"0\",IF(County!G1974<5,\"*\",ROUND((G1974*1),-1)))","v":100},3476400,34800]
[null,147,5,"MINING, QUARRYING, AND OIL AND GAS EXTRA",21,3,7,190738,524,{"$f":"IF(County!G1975=0,\"0\",IF(County!G1975<5,\"*\",ROUND((G1975*1),-1)))","v":10},190700,19100]
["D",147,5,"UTILITIES",22,8,267,25838604,1861,{"$f":"IF(County!G1976=0,\"0\",IF(County!G1976<5,\"*\",ROUND((G1976*1),-1)))","v":270},25838600,95700]
[null,147,5,"CONSTRUCTION",23,48,243,8959019,709,{"$f":"IF(County!G1977=0,\"0\",IF(County!G1977<5,\"*\",ROUND((G1977*1),-1)))","v":240},8959000,37300]
[null,147,5,"MANUFACTURING","31-33",20,1153,58813052,981,{"$f":"IF(County!G1978=0,\"0\",IF(County!G1978<5,\"*\",ROUND((G1978*1),-1)))","v":1150},58813100,51100]
[null,147,5,"WHOLESALE TRADE",42,33,378,15510541,789,{"$f":"IF(County!G1979=0,\"0\",IF(County!G1979<5,\"*\",ROUND((G1979*1),-1)))","v":380},15510500,40800]
[null,147,5,"RETAIL TRADE","44-45",52,419,10186778,468,{"$f":"IF(County!G1980=0,\"0\",IF(County!G1980<5,\"*\",ROUND((G1980*1),-1)))","v":420},10186800,24300]
[null,147,5,"TRANSPORTATION AND WAREHOUSING","48-49",34,274,10773132,756,{"$f":"IF(County!G1981=0,\"0\",IF(County!G1981<5,\"*\",ROUND((G1981*1),-1)))","v":270},10773100,39900]
[null,147,5,"INFORMATION",51,4,94,4928904,1008,{"$f":"IF(County!G1982=0,\"0\",IF(County!G1982<5,\"*\",ROUND((G1982*1),-1)))","v":90},4928900,54800]
[null,147,5,"FINANCE AND INSURANCE",52,26,145,4719424,626,{"$f":"IF(County!G1983=0,\"0\",IF(County!G1983<5,\"*\",ROUND((G1983*1),-1)))","v":150},4719400,31500]
[null,147,5,"REAL ESTATE AND RENTAL AND LEASING",53,7,14,138206,190,{"$f":"IF(County!G1984=0,\"0\",IF(County!G1984<5,\"*\",ROUND((G1984*1),-1)))","v":10},138200,13800]
[null,147,5,"PROFESSIONAL AND TECHNICAL SERVICES",54,23,91,2488623,526,{"$f":"IF(County!G1985=0,\"0\",IF(County!G1985<5,\"*\",ROUND((G1985*1),-1)))","v":90},2488600,27700]
["D",147,5,"MANAGEMENT OF COMPANIES AND ENTERPRISES",55,2,26,1464799,1083,{"$f":"IF(County!G1986=0,\"0\",IF(County!G1986<5,\"*\",ROUND((G1986*1),-1)))","v":30},1464800,48800]
[null,147,5,"ADMINISTRATIVE AND WASTE SERVICES",56,22,383,9953367,500,{"$f":"IF(County!G1987=0,\"0\",IF(County!G1987<5,\"*\",ROUND((G1987*1),-1)))","v":380},9953400,26200]
[null,147,5,"EDUCATIONAL SERVICES",61,7,310,10117183,628,{"$f":"IF(County!G1988=0,\"0\",IF(County!G1988<5,\"*\",ROUND((G1988*1),-1)))","v":310},10117200,{"$f":"IF(G1988=0,0,IF(J1988=\"*\",\"*\",ROUND((K1988/J1988),-2)))","v":32600}]
[null,147,5,"HEALTH CARE AND SOCIAL ASSISTANCE",62,27,393,11407234,558,{"$f":"IF(County!G1989=0,\"0\",IF(County!G1989<5,\"*\",ROUND((G1989*1),-1)))","v":390},11407200,29200]
["D",147,5,"ARTS, ENTERTAINMENT, AND RECREATION",71,6,919,15025945,314,{"$f":"IF(County!G1990=0,\"0\",IF(County!G1990<5,\"*\",ROUND((G1990*1),-1)))","v":920},15025900,16300]
[null,147,5,"ACCOMMODATION AND FOOD SERVICES",72,27,374,4656962,239,{"$f":"IF(County!G1991=0,\"0\",IF(County!G1991<5,\"*\",ROUND((G1991*1),-1)))","v":370},4657000,12600]
[null,147,5,"OTHER SERVICES, EXCEPT PUBLIC ADMIN",81,37,290,14822355,983,{"$f":"IF(County!G1992=0,\"0\",IF(County!G1992<5,\"*\",ROUND((G1992*1),-1)))","v":290},14822400,51100]
[null,147,3,"LOCAL GOVERNMENT",11,28,867,23716101,526,{"$f":"IF(County!G1993=0,\"0\",IF(County!G1993<5,\"*\",ROUND((G1993*1),-1)))","v":870},{"$f":"ROUND((H1993),-2)","v":23716100},27300]
["D",147,3,"EDUCATIONAL SERVICES",61,13,488,16014348,631,{"$f":"IF(County!G1994=0,\"0\",IF(County!G1994<5,\"*\",ROUND((G1994*1),-1)))","v":490},16014300,32700]
[null,147,3,"HEALTH CARE AND SOCIAL ASSISTANCE",62,0,0,0,0,{"$f":"IF(County!G1995=0,\"0\",IF(County!G1995<5,\"*\",ROUND((G1995*1),-1)))","v":"0"},0,0]
[null,147,2,"STATE GOVERNMENT",11,9,74,2741655,712,{"$f":"IF(County!G1996=0,\"0\",IF(County!G1996<5,\"*\",ROUND((G1996*1),-1)))","v":70},2741700,39200]
[null,147,2,"EDUCATIONAL SERVICES",61,0,0,0,0,{"$f":"IF(County!G1997=0,\"0\",IF(County!G1997<5,\"*\",ROUND((G1997*1),-1)))","v":"0"},0,0]
[null,147,2,"HEALTH CARE AND SOCIAL ASSISTANCE",62,0,0,0,0,{"$f":"IF(County!G1998=0,\"0\",IF(County!G1998<5,\"*\",ROUND((G1998*1),-1)))","v":"0"},0,0]
[null,147,"U","TOTAL UI COVERED",11,442,6818,239929005,677,{"$f":"IF(County!G1999=0,\"0\",IF(County!G1999<5,\"*\",ROUND((G1999*1),-1)))","v":6820},239929000,35200]
[null,147,1,"FEDERAL GOVERNMENT",11,15,67,2736123,785,{"$f":"IF(County!G2000=0,\"0\",IF(County!G2000<5,\"*\",ROUND((G2000*1),-1)))","v":70},2736100,39100]
[null,149,5,"AGRICULTURE, FORESTRY, FISHING AND HUNTI",11,18,98,2385224,468,{"$f":"IF(County!G2001=0,\"0\",IF(County!G2001<5,\"*\",ROUND((G2001*1),-1)))","v":100},2385200,23900]
[null,149,5,"MINING, QUARRYING, AND OIL AND GAS EXTRA",21,0,0,0,0,{"$f":"IF(County!G2002=0,\"0\",IF(County!G2002<5,\"*\",ROUND((G2002*1),-1)))","v":"0"},0,0]
[null,149,5,"UTILITIES",22,0,0,0,0,{"$f":"IF(County!G2003=0,\"0\",IF(County!G2003<5,\"*\",ROUND((G2003*1),-1)))","v":"0"},0,0]
[null,149,5,"CONSTRUCTION",23,26,67,1858942,534,{"$f":"IF(County!G2004=0,\"0\",IF(County!G2004<5,\"*\",ROUND((G2004*1),-1)))","v":70},1858900,26600]
[null,149,5,"MANUFACTURING","31-33",21,865,32296763,718,{"$f":"IF(County!G2005=0,\"0\",IF(County!G2005<5,\"*\",ROUND((G2005*1),-1)))","v":870},32296800,37100]
[null,149,5,"WHOLESALE TRADE",42,18,136,7153292,1011,{"$f":"IF(County!G2006=0,\"0\",IF(County!G2006<5,\"*\",ROUND((G2006*1),-1)))","v":140},7153300,51100]
[null,149,5,"RETAIL TRADE","44-45",54,596,13798116,445,{"$f":"IF(County!G2007=0,\"0\",IF(County!G2007<5,\"*\",ROUND((G2007*1),-1)))","v":600},13798100,23000]
[null,149,5,"TRANSPORTATION AND WAREHOUSING","48-49",15,43,1365378,611,{"$f":"IF(County!G2008=0,\"0\",IF(County!G2008<5,\"*\",ROUND((G2008*1),-1)))","v":40},1365400,34100]
[null,149,5,"INFORMATION",51,6,40,1405142,676,{"$f":"IF(County!G2009=0,\"0\",IF(County!G2009<5,\"*\",ROUND((G2009*1),-1)))","v":40},1405100,35100]
[null,149,5,"FINANCE AND INSURANCE",52,15,65,2105112,623,{"$f":"IF(County!G2010=0,\"0\",IF(County!G2010<5,\"*\",ROUND((G2010*1),-1)))","v":70},2105100,30100]
[null,149,5,"REAL ESTATE AND RENTAL AND LEASING",53,15,32,388071,233,{"$f":"IF(County!G2011=0,\"0\",IF(County!G2011<5,\"*\",ROUND((G2011*1),-1)))","v":30},388100,12900]
[null,149,5,"PROFESSIONAL AND TECHNICAL SERVICES",54,17,59,1541976,503,{"$f":"IF(County!G2012=0,\"0\",IF(County!G2012<5,\"*\",ROUND((G2012*1),-1)))","v":60},1542000,25700]
[null,149,5,"MANAGEMENT OF COMPANIES AND ENTERPRISES",55,0,0,0,0,{"$f":"IF(County!G2013=0,\"0\",IF(County!G2013<5,\"*\",ROUND((G2013*1),-1)))","v":"0"},0,0]
[null,149,5,"ADMINISTRATIVE AND WASTE SERVICES",56,9,211,4881433,445,{"$f":"IF(County!G2014=0,\"0\",IF(County!G2014<5,\"*\",ROUND((G2014*1),-1)))","v":210},4881400,23200]
["D",149,5,"EDUCATIONAL SERVICES",61,1,3,26250,168,{"$f":"IF(County!G2015=0,\"0\",IF(County!G2015<5,\"*\",ROUND((G2015*1),-1)))","v":"*"},26300,"*"]
[null,149,5,"HEALTH CARE AND SOCIAL ASSISTANCE",62,23,448,13952981,599,{"$f":"IF(County!G2016=0,\"0\",IF(County!G2016<5,\"*\",ROUND((G2016*1),-1)))","v":450},13953000,31000]
[null,149,5,"ARTS, ENTERTAINMENT, AND RECREATION",71,5,25,389464,300,{"$f":"IF(County!G2017=0,\"0\",IF(County!G2017<5,\"*\",ROUND((G2017*1),-1)))","v":30},389500,13000]
[null,149,5,"ACCOMMODATION AND FOOD SERVICES",72,25,526,5937732,217,{"$f":"IF(County!G2018=0,\"0\",IF(County!G2018<5,\"*\",ROUND((G2018*1),-1)))","v":530},5937700,11200]
[null,149,5,"OTHER SERVICES, EXCEPT PUBLIC ADMIN",81,25,69,1908888,532,{"$f":"IF(County!G2019=0,\"0\",IF(County!G2019<5,\"*\",ROUND((G2019*1),-1)))","v":70},1908900,27300]
[null,149,3,"LOCAL GOVERNMENT",11,13,949,27892574,565,{"$f":"IF(County!G2020=0,\"0\",IF(County!G2020<5,\"*\",ROUND((G2020*1),-1)))","v":950},27892600,29400]
[null,149,3,"EDUCATIONAL SERVICES",61,3,655,20347148,597,{"$f":"IF(County!G2021=0,\"0\",IF(County!G2021<5,\"*\",ROUND((G2021*1),-1)))","v":660},20347100,30800]
[null,149,3,"HEALTH CARE AND SOCIAL ASSISTANCE",62,0,0,0,0,{"$f":"IF(County!G2022=0,\"0\",IF(County!G2022<5,\"*\",ROUND((G2022*1),-1)))","v":"0"},0,0]
[null,149,2,"STATE GOVERNMENT",11,7,47,1735698,710,{"$f":"IF(County!G2023=0,\"0\",IF(County!G2023<5,\"*\",ROUND((G2023*1),-1)))","v":50},1735700,34700]
[null,149,2,"EDUCATIONAL SERVICES",61,0,0,0,0,{"$f":"IF(County!G2024=0,\"0\",IF(County!G2024<5,\"*\",ROUND((G2024*1),-1)))","v":"0"},0,0]
[null,149,2,"HEALTH CARE AND SOCIAL ASSISTANCE",62,0,0,0,0,{"$f":"IF(County!G2025=0,\"0\",IF(County!G2025<5,\"*\",ROUND((G2025*1),-1)))","v":"0"},0,0]
[null,149,"U","TOTAL UI COVERED",11,310,4279,121023036,544,{"$f":"IF(County!G2026=0,\"0\",IF(County!G2026<5,\"*\",ROUND((G2026*1),-1)))","v":4280},121023000,28300]
[null,149,1,"FEDERAL GOVERNMENT",11,7,42,2009914,920,{"$f":"IF(County!G2027=0,\"0\",IF(County!G2027<5,\"*\",ROUND((G2027*1),-1)))","v":40},2009900,50200]
[null,151,5,"AGRICULTURE, FORESTRY, FISHING AND HUNTI",11,15,94,2734380,559,{"$f":"IF(County!G2028=0,\"0\",IF(County!G2028<5,\"*\",ROUND((G2028*1),-1)))","v":90},2734400,30400]
[null,151,5,"MINING, QUARRYING, AND OIL AND GAS EXTRA",21,5,7,245534,675,{"$f":"IF(County!G2029=0,\"0\",IF(County!G2029<5,\"*\",ROUND((G2029*1),-1)))","v":10},245500,24600]
[null,151,5,"UTILITIES",22,3,59,5007332,1632,{"$f":"IF(County!G2030=0,\"0\",IF(County!G2030<5,\"*\",ROUND((G2030*1),-1)))","v":60},5007300,83500]
[null,151,5,"CONSTRUCTION",23,92,445,18353267,793,{"$f":"IF(County!G2031=0,\"0\",IF(County!G2031<5,\"*\",ROUND((G2031*1),-1)))","v":450},18353300,40800]
[null,151,5,"MANUFACTURING","31-33",95,5126,206366607,774,{"$f":"IF(County!G2032=0,\"0\",IF(County!G2032<5,\"*\",ROUND((G2032*1),-1)))","v":5130},206366600,40200]
[null,151,5,"WHOLESALE TRADE",42,41,247,10653200,829,{"$f":"IF(County!G2033=0,\"0\",IF(County!G2033<5,\"*\",ROUND((G2033*1),-1)))","v":250},10653200,42600]
[null,151,5,"RETAIL TRADE","44-45",160,2033,40945730,387,{"$f":"IF(County!G2034=0,\"0\",IF(County!G2034<5,\"*\",ROUND((G2034*1),-1)))","v":2030},40945700,20200]
[null,151,5,"TRANSPORTATION AND WAREHOUSING","48-49",42,567,28907051,980,{"$f":"IF(County!G2035=0,\"0\",IF(County!G2035<5,\"*\",ROUND((G2035*1),-1)))","v":570},28907100,50700]
[null,151,5,"INFORMATION",51,7,84,4443474,1017,{"$f":"IF(County!G2036=0,\"0\",IF(County!G2036<5,\"*\",ROUND((G2036*1),-1)))","v":80},4443500,55500]
[null,151,5,"FINANCE AND INSURANCE",52,37,156,6065461,748,{"$f":"IF(County!G2037=0,\"0\",IF(County!G2037<5,\"*\",ROUND((G2037*1),-1)))","v":160},6065500,37900]
[null,151,5,"REAL ESTATE AND RENTAL AND LEASING",53,36,97,2520148,500,{"$f":"IF(County!G2038=0,\"0\",IF(County!G2038<5,\"*\",ROUND((G2038*1),-1)))","v":100},2520100,25200]
[null,151,5,"PROFESSIONAL AND TECHNICAL SERVICES",54,60,180,6847196,732,{"$f":"IF(County!G2039=0,\"0\",IF(County!G2039<5,\"*\",ROUND((G2039*1),-1)))","v":180},6847200,38000]
[null,151,5,"MANAGEMENT OF COMPANIES AND ENTERPRISES",55,3,9,810779,1732,{"$f":"IF(County!G2040=0,\"0\",IF(County!G2040<5,\"*\",ROUND((G2040*1),-1)))","v":10},810800,81100]
[null,151,5,"ADMINISTRATIVE AND WASTE SERVICES",56,43,1025,27253126,511,{"$f":"IF(County!G2041=0,\"0\",IF(County!G2041<5,\"*\",ROUND((G2041*1),-1)))","v":1030},27253100,26500]
["D",151,5,"EDUCATIONAL SERVICES",61,7,568,16673186,565,{"$f":"IF(County!G2042=0,\"0\",IF(County!G2042<5,\"*\",ROUND((G2042*1),-1)))","v":570},16673200,29300]
[null,151,5,"HEALTH CARE AND SOCIAL ASSISTANCE",62,49,1260,35281528,538,{"$f":"IF(County!G2043=0,\"0\",IF(County!G2043<5,\"*\",ROUND((G2043*1),-1)))","v":1260},35281500,28000]
[null,151,5,"ARTS, ENTERTAINMENT, AND RECREATION",71,23,81,1366182,324,{"$f":"IF(County!G2044=0,\"0\",IF(County!G2044<5,\"*\",ROUND((G2044*1),-1)))","v":80},1366200,17100]
[null,151,5,"ACCOMMODATION AND FOOD SERVICES",72,93,1540,18837034,235,{"$f":"IF(County!G2045=0,\"0\",IF(County!G2045<5,\"*\",ROUND((G2045*1),-1)))","v":1540},18837000,12200]
[null,151,5,"OTHER SERVICES, EXCEPT PUBLIC ADMIN",81,78,388,9092598,451,{"$f":"IF(County!G2046=0,\"0\",IF(County!G2046<5,\"*\",ROUND((G2046*1),-1)))","v":390},9092600,23300]
[null,151,3,"LOCAL GOVERNMENT",11,35,1217,36752398,581,{"$f":"IF(County!G2047=0,\"0\",IF(County!G2047<5,\"*\",ROUND((G2047*1),-1)))","v":1220},36752400,30100]
[null,151,3,"EDUCATIONAL SERVICES",61,14,631,20967109,639,{"$f":"IF(County!G2048=0,\"0\",IF(County!G2048<5,\"*\",ROUND((G2048*1),-1)))","v":630},20967100,33300]
[null,151,3,"HEALTH CARE AND SOCIAL ASSISTANCE",62,0,0,0,0,{"$f":"IF(County!G2049=0,\"0\",IF(County!G2049<5,\"*\",ROUND((G2049*1),-1)))","v":"0"},0,0]
[null,151,2,"STATE GOVERNMENT",11,9,247,5868142,457,{"$f":"IF(County!G2050=0,\"0\",IF(County!G2050<5,\"*\",ROUND((G2050*1),-1)))","v":250},5868100,23500]
[null,151,2,"EDUCATIONAL SERVICES",61,0,0,0,0,{"$f":"IF(County!G2051=0,\"0\",IF(County!G2051<5,\"*\",ROUND((G2051*1),-1)))","v":"0"},0,0]
[null,151,2,"HEALTH CARE AND SOCIAL ASSISTANCE",62,0,0,0,0,{"$f":"IF(County!G2052=0,\"0\",IF(County!G2052<5,\"*\",ROUND((G2052*1),-1)))","v":"0"},0,{"$f":"IF(G2052=0,0,IF(J2052=\"*\",\"*\",ROUND((K2052/J2052),-2)))","v":0}]
[null,151,"U","TOTAL UI COVERED",11,930,15428,485024353,605,{"$f":"IF(County!G2053=0,\"0\",IF(County!G2053<5,\"*\",ROUND((G2053*1),-1)))","v":15430},485024400,31400]
[null,151,1,"FEDERAL GOVERNMENT",11,9,61,3130694,987,{"$f":"IF(County!G2054=0,\"0\",IF(County!G2054<5,\"*\",ROUND((G2054*1),-1)))","v":60},3130700,52200]
[null,153,5,"AGRICULTURE, FORESTRY, FISHING AND HUNTI",11,13,52,1833002,678,{"$f":"IF(County!G2055=0,\"0\",IF(County!G2055<5,\"*\",ROUND((G2055*1),-1)))","v":50},1833000,36700]
[null,153,5,"MINING, QUARRYING, AND OIL AND GAS EXTRA",21,5,872,69272258,1528,{"$f":"IF(County!G2056=0,\"0\",IF(County!G2056<5,\"*\",ROUND((G2056*1),-1)))","v":870},69272300,79600]
[null,153,5,"UTILITIES",22,7,236,19740445,1609,{"$f":"IF(County!G2057=0,\"0\",IF(County!G2057<5,\"*\",ROUND((G2057*1),-1)))","v":240},{"$f":"ROUND((H2057),-2)","v":19740400},82300]
[null,153,5,"CONSTRUCTION",23,31,100,3418936,657,{"$f":"IF(County!G2058=0,\"0\",IF(County!G2058<5,\"*\",ROUND((G2058*1),-1)))","v":100},3418900,34200]
[null,153,5,"MANUFACTURING","31-33",17,758,28917581,734,{"$f":"IF(County!G2059=0,\"0\",IF(County!G2059<5,\"*\",ROUND((G2059*1),-1)))","v":760},28917600,38000]
[null,153,5,"WHOLESALE TRADE",42,22,173,8057145,896,{"$f":"IF(County!G2060=0,\"0\",IF(County!G2060<5,\"*\",ROUND((G2060*1),-1)))","v":170},8057100,47400]
[null,153,5,"RETAIL TRADE","44-45",52,620,13429472,417,{"$f":"IF(County!G2061=0,\"0\",IF(County!G2061<5,\"*\",ROUND((G2061*1),-1)))","v":620},13429500,21700]
[null,153,5,"TRANSPORTATION AND WAREHOUSING","48-49",22,135,4732299,674,{"$f":"IF(County!G2062=0,\"0\",IF(County!G2062<5,\"*\",ROUND((G2062*1),-1)))","v":140},4732300,33800]
[null,153,5,"INFORMATION",51,7,135,4897173,698,{"$f":"IF(County!G2063=0,\"0\",IF(County!G2063<5,\"*\",ROUND((G2063*1),-1)))","v":140},4897200,35000]
[null,153,5,"FINANCE AND INSURANCE",52,17,112,4394253,755,{"$f":"IF(County!G2064=0,\"0\",IF(County!G2064<5,\"*\",ROUND((G2064*1),-1)))","v":110},4394300,39900]
[null,153,5,"REAL ESTATE AND RENTAL AND LEASING",53,7,18,265553,284,{"$f":"IF(County!G2065=0,\"0\",IF(County!G2065<5,\"*\",ROUND((G2065*1),-1)))","v":20},265600,13300]
[null,153,5,"PROFESSIONAL AND TECHNICAL SERVICES",54,28,120,3554610,570,{"$f":"IF(County!G2066=0,\"0\",IF(County!G2066<5,\"*\",ROUND((G2066*1),-1)))","v":120},3554600,29600]
[null,153,5,"MANAGEMENT OF COMPANIES AND ENTERPRISES",55,0,0,0,0,{"$f":"IF(County!G2067=0,\"0\",IF(County!G2067<5,\"*\",ROUND((G2067*1),-1)))","v":"0"},0,0]
[null,153,5,"ADMINISTRATIVE AND WASTE SERVICES",56,12,64,1583063,476,{"$f":"IF(County!G2068=0,\"0\",IF(County!G2068<5,\"*\",ROUND((G2068*1),-1)))","v":60},1583100,26400]
[null,153,5,"EDUCATIONAL SERVICES",61,5,57,1264941,427,{"$f":"IF(County!G2069=0,\"0\",IF(County!G2069<5,\"*\",ROUND((G2069*1),-1)))","v":60},1264900,21100]
[null,153,5,"HEALTH CARE AND SOCIAL ASSISTANCE",62,22,347,7760611,430,{"$f":"IF(County!G2070=0,\"0\",IF(County!G2070<5,\"*\",ROUND((G2070*1),-1)))","v":350},7760600,22200]
["D",153,5,"ARTS, ENTERTAINMENT, AND RECREATION",71,2,39,352865,174,{"$f":"IF(County!G2071=0,\"0\",IF(County!G2071<5,\"*\",ROUND((G2071*1),-1)))","v":40},352900,8800]
[null,153,5,"ACCOMMODATION AND FOOD SERVICES",72,30,421,4739940,217,{"$f":"IF(County!G2072=0,\"0\",IF(County!G2072<5,\"*\",ROUND((G2072*1),-1)))","v":420},4739900,11300]
[null,153,5,"OTHER SERVICES, EXCEPT PUBLIC ADMIN",81,25,101,1731266,330,{"$f":"IF(County!G2073=0,\"0\",IF(County!G2073<5,\"*\",ROUND((G2073*1),-1)))","v":100},1731300,17300]
[null,153,3,"LOCAL GOVERNMENT",11,23,1074,33190888,594,{"$f":"IF(County!G2074=0,\"0\",IF(County!G2074<5,\"*\",ROUND((G2074*1),-1)))","v":1070},33190900,31000]
["D",153,3,"EDUCATIONAL SERVICES",61,2,389,12538632,620,{"$f":"IF(County!G2075=0,\"0\",IF(County!G2075<5,\"*\",ROUND((G2075*1),-1)))","v":390},12538600,32200]
["D",153,3,"HEALTH CARE AND SOCIAL ASSISTANCE",62,2,301,13183059,842,{"$f":"IF(County!G2076=0,\"0\",IF(County!G2076<5,\"*\",ROUND((G2076*1),-1)))","v":300},13183100,43900]
["D",153,2,"STATE GOVERNMENT",11,17,682,25814243,728,{"$f":"IF(County!G2077=0,\"0\",IF(County!G2077<5,\"*\",ROUND((G2077*1),-1)))","v":680},25814200,38000]
[null,153,2,"EDUCATIONAL SERVICES",61,0,0,0,0,{"$f":"IF(County!G2078=0,\"0\",IF(County!G2078<5,\"*\",ROUND((G2078*1),-1)))","v":"0"},0,0]
[null,153,2,"HEALTH CARE AND SOCIAL ASSISTANCE",62,0,0,0,0,{"$f":"IF(County!G2079=0,\"0\",IF(County!G2079<5,\"*\",ROUND((G2079*1),-1)))","v":"0"},0,0]
[null,153,"U","TOTAL UI COVERED",11,360,6116,238950544,751,{"$f":"IF(County!G2080=0,\"0\",IF(County!G2080<5,\"*\",ROUND((G2080*1),-1)))","v":6120},238950500,39000]
[null,153,1,"FEDERAL GOVERNMENT",11,12,48,2118354,849,{"$f":"IF(County!G2081=0,\"0\",IF(County!G2081<5,\"*\",ROUND((G2081*1),-1)))","v":50},2118400,42400]
["D",155,5,"AGRICULTURE, FORESTRY, FISHING AND HUNTI",11,1,3,294020,1885,{"$f":"IF(County!G2082=0,\"0\",IF(County!G2082<5,\"*\",ROUND((G2082*1),-1)))","v":"*"},294000,"*"]
["D",155,5,"MINING, QUARRYING, AND OIL AND GAS EXTRA",21,1,35,1343622,738,{"$f":"IF(County!G2083=0,\"0\",IF(County!G2083<5,\"*\",ROUND((G2083*1),-1)))","v":40},1343600,33600]
[null,155,5,"UTILITIES",22,3,14,495823,681,{"$f":"IF(County!G2084=0,\"0\",IF(County!G2084<5,\"*\",ROUND((G2084*1),-1)))","v":10},495800,49600]
[null,155,5,"CONSTRUCTION",23,13,34,1549461,876,{"$f":"IF(County!G2085=0,\"0\",IF(County!G2085<5,\"*\",ROUND((G2085*1),-1)))","v":30},1549500,51700]
[null,155,5,"MANUFACTURING","31-33",6,88,2662972,582,{"$f":"IF(County!G2086=0,\"0\",IF(County!G2086<5,\"*\",ROUND((G2086*1),-1)))","v":90},2663000,29600]
["D",155,5,"WHOLESALE TRADE",42,1,2,63231,608,{"$f":"IF(County!G2087=0,\"0\",IF(County!G2087<5,\"*\",ROUND((G2087*1),-1)))","v":"*"},63200,"*"]
[null,155,5,"RETAIL TRADE","44-45",19,135,2269138,323,{"$f":"IF(County!G2088=0,\"0\",IF(County!G2088<5,\"*\",ROUND((G2088*1),-1)))","v":140},2269100,16200]
["D",155,5,"TRANSPORTATION AND WAREHOUSING","48-49",3,17,622197,704,{"$f":"IF(County!G2089=0,\"0\",IF(County!G2089<5,\"*\",ROUND((G2089*1),-1)))","v":20},622200,31100]
[null,155,5,"INFORMATION",51,4,11,308150,539,{"$f":"IF(County!G2090=0,\"0\",IF(County!G2090<5,\"*\",ROUND((G2090*1),-1)))","v":10},308200,30800]
[null,155,5,"FINANCE AND INSURANCE",52,4,17,613369,694,{"$f":"IF(County!G2091=0,\"0\",IF(County!G2091<5,\"*\",ROUND((G2091*1),-1)))","v":20},613400,30700]
[null,155,5,"REAL ESTATE AND RENTAL AND LEASING",53,0,0,0,0,{"$f":"IF(County!G2092=0,\"0\",IF(County!G2092<5,\"*\",ROUND((G2092*1),-1)))","v":"0"},0,0]
[null,155,5,"PROFESSIONAL AND TECHNICAL SERVICES",54,8,12,228852,367,{"$f":"IF(County!G2093=0,\"0\",IF(County!G2093<5,\"*\",ROUND((G2093*1),-1)))","v":10},228900,22900]
[null,155,5,"MANAGEMENT OF COMPANIES AND ENTERPRISES",55,0,0,0,0,{"$f":"IF(County!G2094=0,\"0\",IF(County!G2094<5,\"*\",ROUND((G2094*1),-1)))","v":"0"},0,0]
["D",155,5,"ADMINISTRATIVE AND WASTE SERVICES",56,2,8,132787,319,{"$f":"IF(County!G2095=0,\"0\",IF(County!G2095<5,\"*\",ROUND((G2095*1),-1)))","v":10},132800,13300]
["D",155,5,"EDUCATIONAL SERVICES",61,1,1,60000,1154,{"$f":"IF(County!G2096=0,\"0\",IF(County!G2096<5,\"*\",ROUND((G2096*1),-1)))","v":"*"},60000,"*"]
[null,155,5,"HEALTH CARE AND SOCIAL ASSISTANCE",62,7,114,4039072,681,{"$f":"IF(County!G2097=0,\"0\",IF(County!G2097<5,\"*\",ROUND((G2097*1),-1)))","v":110},4039100,36700]
["D",155,5,"ARTS, ENTERTAINMENT, AND RECREATION",71,3,937,29586678,607,{"$f":"IF(County!G2098=0,\"0\",IF(County!G2098<5,\"*\",ROUND((G2098*1),-1)))","v":940},29586700,31500]
[null,155,5,"ACCOMMODATION AND FOOD SERVICES",72,18,121,2353284,374,{"$f":"IF(County!G2099=0,\"0\",IF(County!G2099<5,\"*\",ROUND((G2099*1),-1)))","v":120},2353300,19600]
[null,155,5,"OTHER SERVICES, EXCEPT PUBLIC ADMIN",81,11,64,1036360,311,{"$f":"IF(County!G2100=0,\"0\",IF(County!G2100<5,\"*\",ROUND((G2100*1),-1)))","v":60},1036400,17300]
[null,155,3,"LOCAL GOVERNMENT",11,12,412,12607770,588,{"$f":"IF(County!G2101=0,\"0\",IF(County!G2101<5,\"*\",ROUND((G2101*1),-1)))","v":410},12607800,30800]
["D",155,3,"EDUCATIONAL SERVICES",61,5,246,7831569,612,{"$f":"IF(County!G2102=0,\"0\",IF(County!G2102<5,\"*\",ROUND((G2102*1),-1)))","v":250},7831600,31300]
[null,155,3,"HEALTH CARE AND SOCIAL ASSISTANCE",62,0,0,0,0,{"$f":"IF(County!G2103=0,\"0\",IF(County!G2103<5,\"*\",ROUND((G2103*1),-1)))","v":"0"},0,0]
[null,155,2,"STATE GOVERNMENT",11,7,31,1468600,911,{"$f":"IF(County!G2104=0,\"0\",IF(County!G2104<5,\"*\",ROUND((G2104*1),-1)))","v":30},1468600,49000]
[null,155,2,"EDUCATIONAL SERVICES",61,0,0,0,0,{"$f":"IF(County!G2105=0,\"0\",IF(County!G2105<5,\"*\",ROUND((G2105*1),-1)))","v":"0"},0,0]
[null,155,2,"HEALTH CARE AND SOCIAL ASSISTANCE",62,0,0,0,0,{"$f":"IF(County!G2106=0,\"0\",IF(County!G2106<5,\"*\",ROUND((G2106*1),-1)))","v":"0"},0,0]
[null,155,"U","TOTAL UI COVERED",11,122,2056,61735386,577,{"$f":"IF(County!G2107=0,\"0\",IF(County!G2107<5,\"*\",ROUND((G2107*1),-1)))","v":2060},61735400,30000]
[null,155,1,"FEDERAL GOVERNMENT",11,6,22,949167,830,{"$f":"IF(County!G2108=0,\"0\",IF(County!G2108<5,\"*\",ROUND((G2108*1),-1)))","v":20},949200,47500]
[null,157,5,"AGRICULTURE, FORESTRY, FISHING AND HUNTI",11,35,283,10142601,689,{"$f":"IF(County!G2109=0,\"0\",IF(County!G2109<5,\"*\",ROUND((G2109*1),-1)))","v":280},10142600,36200]
["D",157,5,"MINING, QUARRYING, AND OIL AND GAS EXTRA",21,2,27,1538819,1096,{"$f":"IF(County!G2110=0,\"0\",IF(County!G2110<5,\"*\",ROUND((G2110*1),-1)))","v":30},1538800,51300]
[null,157,5,"UTILITIES",22,5,87,6678463,1476,{"$f":"IF(County!G2111=0,\"0\",IF(County!G2111<5,\"*\",ROUND((G2111*1),-1)))","v":90},6678500,74200]
[null,157,5,"CONSTRUCTION",23,289,2700,117656076,838,{"$f":"IF(County!G2112=0,\"0\",IF(County!G2112<5,\"*\",ROUND((G2112*1),-1)))","v":2700},117656100,43600]
[null,157,5,"MANUFACTURING","31-33",118,14281,931344307,1254,{"$f":"IF(County!G2113=0,\"0\",IF(County!G2113<5,\"*\",ROUND((G2113*1),-1)))","v":14280},931344300,65200]
[null,157,5,"WHOLESALE TRADE",42,151,1647,90879961,1061,{"$f":"IF(County!G2114=0,\"0\",IF(County!G2114<5,\"*\",ROUND((G2114*1),-1)))","v":1650},90880000,55100]
[null,157,5,"RETAIL TRADE","44-45",498,9250,214036771,445,{"$f":"IF(County!G2115=0,\"0\",IF(County!G2115<5,\"*\",ROUND((G2115*1),-1)))","v":9250},214036800,23100]
[null,157,5,"TRANSPORTATION AND WAREHOUSING","48-49",93,1784,71786553,774,{"$f":"IF(County!G2116=0,\"0\",IF(County!G2116<5,\"*\",ROUND((G2116*1),-1)))","v":1780},71786600,{"$f":"IF(G2116=0,0,IF(J2116=\"*\",\"*\",ROUND((K2116/J2116),-2)))","v":40300}]
[null,157,5,"INFORMATION",51,40,834,30762419,709,{"$f":"IF(County!G2117=0,\"0\",IF(County!G2117<5,\"*\",ROUND((G2117*1),-1)))","v":830},30762400,37100]
[null,157,5,"FINANCE AND INSURANCE",52,215,1907,102780413,1036,{"$f":"IF(County!G2118=0,\"0\",IF(County!G2118<5,\"*\",ROUND((G2118*1),-1)))","v":1910},102780400,53800]
[null,157,5,"REAL ESTATE AND RENTAL AND LEASING",53,178,1121,39286609,674,{"$f":"IF(County!G2119=0,\"0\",IF(County!G2119<5,\"*\",ROUND((G2119*1),-1)))","v":1120},39286600,35100]
[null,157,5,"PROFESSIONAL AND TECHNICAL SERVICES",54,341,2422,145715494,1157,{"$f":"IF(County!G2120=0,\"0\",IF(County!G2120<5,\"*\",ROUND((G2120*1),-1)))","v":2420},145715500,60200]
[null,157,5,"MANAGEMENT OF COMPANIES AND ENTERPRISES",55,17,201,16782331,1606,{"$f":"IF(County!G2121=0,\"0\",IF(County!G2121<5,\"*\",ROUND((G2121*1),-1)))","v":200},{"$f":"ROUND((H2121),-2)","v":16782300},83900]
[null,157,5,"ADMINISTRATIVE AND WASTE SERVICES",56,160,4887,117144006,461,{"$f":"IF(County!G2122=0,\"0\",IF(County!G2122<5,\"*\",ROUND((G2122*1),-1)))","v":4890},117144000,24000]
[null,157,5,"EDUCATIONAL SERVICES",61,33,299,5850512,376,{"$f":"IF(County!G2123=0,\"0\",IF(County!G2123<5,\"*\",ROUND((G2123*1),-1)))","v":300},5850500,19500]
[null,157,5,"HEALTH CARE AND SOCIAL ASSISTANCE",62,284,10267,430231587,806,{"$f":"IF(County!G2124=0,\"0\",IF(County!G2124<5,\"*\",ROUND((G2124*1),-1)))","v":10270},430231600,41900]
[null,157,5,"ARTS, ENTERTAINMENT, AND RECREATION",71,56,507,6224745,236,{"$f":"IF(County!G2125=0,\"0\",IF(County!G2125<5,\"*\",ROUND((G2125*1),-1)))","v":510},6224700,12200]
[null,157,5,"ACCOMMODATION AND FOOD SERVICES",72,383,8128,116891107,277,{"$f":"IF(County!G2126=0,\"0\",IF(County!G2126<5,\"*\",ROUND((G2126*1),-1)))","v":8130},116891100,14400]
[null,157,5,"OTHER SERVICES, EXCEPT PUBLIC ADMIN",81,295,2025,61055606,580,{"$f":"IF(County!G2127=0,\"0\",IF(County!G2127<5,\"*\",ROUND((G2127*1),-1)))","v":2030},61055600,30100]
[null,157,3,"LOCAL GOVERNMENT",11,28,5319,194179683,702,{"$f":"IF(County!G2128=0,\"0\",IF(County!G2128<5,\"*\",ROUND((G2128*1),-1)))","v":5320},194179700,36500]
[null,157,3,"EDUCATIONAL SERVICES",61,7,3323,116784558,676,{"$f":"IF(County!G2129=0,\"0\",IF(County!G2129<5,\"*\",ROUND((G2129*1),-1)))","v":3320},116784600,35200]
["D",157,3,"HEALTH CARE AND SOCIAL ASSISTANCE",62,1,8,151448,364,{"$f":"IF(County!G2130=0,\"0\",IF(County!G2130<5,\"*\",ROUND((G2130*1),-1)))","v":10},151400,15100]
["D",157,2,"STATE GOVERNMENT",11,22,12006,687225492,1101,{"$f":"IF(County!G2131=0,\"0\",IF(County!G2131<5,\"*\",ROUND((G2131*1),-1)))","v":12010},687225500,57200]
["D",157,2,"EDUCATIONAL SERVICES",61,3,11453,667557313,1121,{"$f":"IF(County!G2132=0,\"0\",IF(County!G2132<5,\"*\",ROUND((G2132*1),-1)))","v":11450},667557300,58300]
["D",157,2,"HEALTH CARE AND SOCIAL ASSISTANCE",62,1,251,8217477,630,{"$f":"IF(County!G2133=0,\"0\",IF(County!G2133<5,\"*\",ROUND((G2133*1),-1)))","v":250},8217500,32900]
[null,157,"U","TOTAL UI COVERED",11,3242,79990,3398459863,817,{"$f":"IF(County!G2134=0,\"0\",IF(County!G2134<5,\"*\",ROUND((G2134*1),-1)))","v":79990},3398459900,42500]
[null,157,1,"FEDERAL GOVERNMENT",11,25,455,28618409,1210,{"$f":"IF(County!G2135=0,\"0\",IF(County!G2135<5,\"*\",ROUND((G2135*1),-1)))","v":460},28618400,62200]
[null,159,5,"AGRICULTURE, FORESTRY, FISHING AND HUNTI",11,26,390,18610485,918,{"$f":"IF(County!G2136=0,\"0\",IF(County!G2136<5,\"*\",ROUND((G2136*1),-1)))","v":390},18610500,47700]
["D",159,5,"MINING, QUARRYING, AND OIL AND GAS EXTRA",21,1,0,12180,0,{"$f":"IF(County!G2137=0,\"0\",IF(County!G2137<5,\"*\",ROUND((G2137*1),-1)))","v":"0"},12200,0]
[null,159,5,"UTILITIES",22,0,0,0,0,{"$f":"IF(County!G2138=0,\"0\",IF(County!G2138<5,\"*\",ROUND((G2138*1),-1)))","v":"0"},0,0]
[null,159,5,"CONSTRUCTION",23,46,336,14391638,824,{"$f":"IF(County!G2139=0,\"0\",IF(County!G2139<5,\"*\",ROUND((G2139*1),-1)))","v":340},14391600,42300]
[null,159,5,"MANUFACTURING","31-33",22,948,45953519,932,{"$f":"IF(County!G2140=0,\"0\",IF(County!G2140<5,\"*\",ROUND((G2140*1),-1)))","v":950},45953500,48400]
[null,159,5,"WHOLESALE TRADE",42,19,145,7021010,931,{"$f":"IF(County!G2141=0,\"0\",IF(County!G2141<5,\"*\",ROUND((G2141*1),-1)))","v":150},7021000,46800]
[null,159,5,"RETAIL TRADE","44-45",39,412,12340259,576,{"$f":"IF(County!G2142=0,\"0\",IF(County!G2142<5,\"*\",ROUND((G2142*1),-1)))","v":410},12340300,30100]
[null,159,5,"TRANSPORTATION AND WAREHOUSING","48-49",10,22,779970,682,{"$f":"IF(County!G2143=0,\"0\",IF(County!G2143<5,\"*\",ROUND((G2143*1),-1)))","v":20},780000,39000]
[null,159,5,"INFORMATION",51,6,23,768749,643,{"$f":"IF(County!G2144=0,\"0\",IF(County!G2144<5,\"*\",ROUND((G2144*1),-1)))","v":20},768700,38400]
[null,159,5,"FINANCE AND INSURANCE",52,15,98,4600220,903,{"$f":"IF(County!G2145=0,\"0\",IF(County!G2145<5,\"*\",ROUND((G2145*1),-1)))","v":100},4600200,46000]
[null,159,5,"REAL ESTATE AND RENTAL AND LEASING",53,4,8,171392,412,{"$f":"IF(County!G2146=0,\"0\",IF(County!G2146<5,\"*\",ROUND((G2146*1),-1)))","v":10},171400,17100]
[null,159,5,"PROFESSIONAL AND TECHNICAL SERVICES",54,25,138,7543227,1051,{"$f":"IF(County!G2147=0,\"0\",IF(County!G2147<5,\"*\",ROUND((G2147*1),-1)))","v":140},7543200,53900]
[null,159,5,"MANAGEMENT OF COMPANIES AND ENTERPRISES",55,3,37,2397293,1246,{"$f":"IF(County!G2148=0,\"0\",IF(County!G2148<5,\"*\",ROUND((G2148*1),-1)))","v":40},2397300,59900]
[null,159,5,"ADMINISTRATIVE AND WASTE SERVICES",56,9,37,972800,506,{"$f":"IF(County!G2149=0,\"0\",IF(County!G2149<5,\"*\",ROUND((G2149*1),-1)))","v":40},972800,24300]
["D",159,5,"EDUCATIONAL SERVICES",61,1,2,64410,619,{"$f":"IF(County!G2150=0,\"0\",IF(County!G2150<5,\"*\",ROUND((G2150*1),-1)))","v":"*"},64400,"*"]
[null,159,5,"HEALTH CARE AND SOCIAL ASSISTANCE",62,16,470,18243818,746,{"$f":"IF(County!G2151=0,\"0\",IF(County!G2151<5,\"*\",ROUND((G2151*1),-1)))","v":470},18243800,38800]
["D",159,5,"ARTS, ENTERTAINMENT, AND RECREATION",71,1,1,19464,374,{"$f":"IF(County!G2152=0,\"0\",IF(County!G2152<5,\"*\",ROUND((G2152*1),-1)))","v":"*"},19500,"*"]
[null,159,5,"ACCOMMODATION AND FOOD SERVICES",72,21,306,3137540,197,{"$f":"IF(County!G2153=0,\"0\",IF(County!G2153<5,\"*\",ROUND((G2153*1),-1)))","v":310},3137500,10100]
[null,159,5,"OTHER SERVICES, EXCEPT PUBLIC ADMIN",81,21,87,2140198,473,{"$f":"IF(County!G2154=0,\"0\",IF(County!G2154<5,\"*\",ROUND((G2154*1),-1)))","v":90},2140200,23800]
[null,159,3,"LOCAL GOVERNMENT",11,15,718,20493846,549,{"$f":"IF(County!G2155=0,\"0\",IF(County!G2155<5,\"*\",ROUND((G2155*1),-1)))","v":720},20493800,28500]
["D",159,3,"EDUCATIONAL SERVICES",61,6,393,12239797,599,{"$f":"IF(County!G2156=0,\"0\",IF(County!G2156<5,\"*\",ROUND((G2156*1),-1)))","v":390},12239800,31400]
[null,159,3,"HEALTH CARE AND SOCIAL ASSISTANCE",62,0,0,0,0,{"$f":"IF(County!G2157=0,\"0\",IF(County!G2157<5,\"*\",ROUND((G2157*1),-1)))","v":"0"},0,0]
[null,159,2,"STATE GOVERNMENT",11,7,43,1575196,704,{"$f":"IF(County!G2158=0,\"0\",IF(County!G2158<5,\"*\",ROUND((G2158*1),-1)))","v":40},1575200,39400]
[null,159,2,"EDUCATIONAL SERVICES",61,0,0,0,0,{"$f":"IF(County!G2159=0,\"0\",IF(County!G2159<5,\"*\",ROUND((G2159*1),-1)))","v":"0"},0,0]
[null,159,2,"HEALTH CARE AND SOCIAL ASSISTANCE",62,0,0,0,0,{"$f":"IF(County!G2160=0,\"0\",IF(County!G2160<5,\"*\",ROUND((G2160*1),-1)))","v":"0"},0,0]
[null,159,"U","TOTAL UI COVERED",11,305,4221,161237214,735,{"$f":"IF(County!G2161=0,\"0\",IF(County!G2161<5,\"*\",ROUND((G2161*1),-1)))","v":4220},161237200,38200]
[null,159,1,"FEDERAL GOVERNMENT",11,6,36,1554146,830,{"$f":"IF(County!G2162=0,\"0\",IF(County!G2162<5,\"*\",ROUND((G2162*1),-1)))","v":40},1554100,38900]
[null,161,5,"AGRICULTURE, FORESTRY, FISHING AND HUNTI",11,4,16,432433,520,{"$f":"IF(County!G2163=0,\"0\",IF(County!G2163<5,\"*\",ROUND((G2163*1),-1)))","v":20},432400,21600]
[null,161,5,"MINING, QUARRYING, AND OIL AND GAS EXTRA",21,0,0,0,0,{"$f":"IF(County!G2164=0,\"0\",IF(County!G2164<5,\"*\",ROUND((G2164*1),-1)))","v":"0"},0,0]
["D",161,5,"UTILITIES",22,1,24,1722288,1380,{"$f":"IF(County!G2165=0,\"0\",IF(County!G2165<5,\"*\",ROUND((G2165*1),-1)))","v":20},1722300,86100]
[null,161,5,"CONSTRUCTION",23,11,41,1568639,736,{"$f":"IF(County!G2166=0,\"0\",IF(County!G2166<5,\"*\",ROUND((G2166*1),-1)))","v":40},1568600,39200]
[null,161,5,"MANUFACTURING","31-33",7,218,9706402,856,{"$f":"IF(County!G2167=0,\"0\",IF(County!G2167<5,\"*\",ROUND((G2167*1),-1)))","v":220},9706400,44100]
[null,161,5,"WHOLESALE TRADE",42,6,59,2103040,685,{"$f":"IF(County!G2168=0,\"0\",IF(County!G2168<5,\"*\",ROUND((G2168*1),-1)))","v":60},2103000,35100]
[null,161,5,"RETAIL TRADE","44-45",25,173,2938411,327,{"$f":"IF(County!G2169=0,\"0\",IF(County!G2169<5,\"*\",ROUND((G2169*1),-1)))","v":170},2938400,17300]
[null,161,5,"TRANSPORTATION AND WAREHOUSING","48-49",8,29,1192466,791,{"$f":"IF(County!G2170=0,\"0\",IF(County!G2170<5,\"*\",ROUND((G2170*1),-1)))","v":30},1192500,39800]
[null,161,5,"INFORMATION",51,0,0,0,0,{"$f":"IF(County!G2171=0,\"0\",IF(County!G2171<5,\"*\",ROUND((G2171*1),-1)))","v":"0"},0,0]
[null,161,5,"FINANCE AND INSURANCE",52,5,26,701744,519,{"$f":"IF(County!G2172=0,\"0\",IF(County!G2172<5,\"*\",ROUND((G2172*1),-1)))","v":30},701700,23400]
["D",161,5,"REAL ESTATE AND RENTAL AND LEASING",53,1,4,64290,309,{"$f":"IF(County!G2173=0,\"0\",IF(County!G2173<5,\"*\",ROUND((G2173*1),-1)))","v":"*"},64300,"*"]
[null,161,5,"PROFESSIONAL AND TECHNICAL SERVICES",54,7,20,436386,420,{"$f":"IF(County!G2174=0,\"0\",IF(County!G2174<5,\"*\",ROUND((G2174*1),-1)))","v":20},436400,21800]
[null,161,5,"MANAGEMENT OF COMPANIES AND ENTERPRISES",55,0,0,0,0,{"$f":"IF(County!G2175=0,\"0\",IF(County!G2175<5,\"*\",ROUND((G2175*1),-1)))","v":"0"},0,0]
[null,161,5,"ADMINISTRATIVE AND WASTE SERVICES",56,4,8,209930,505,{"$f":"IF(County!G2176=0,\"0\",IF(County!G2176<5,\"*\",ROUND((G2176*1),-1)))","v":10},209900,21000]
["D",161,5,"EDUCATIONAL SERVICES",61,1,4,18563,89,{"$f":"IF(County!G2177=0,\"0\",IF(County!G2177<5,\"*\",ROUND((G2177*1),-1)))","v":"*"},18600,"*"]
[null,161,5,"HEALTH CARE AND SOCIAL ASSISTANCE",62,7,99,2526604,491,{"$f":"IF(County!G2178=0,\"0\",IF(County!G2178<5,\"*\",ROUND((G2178*1),-1)))","v":100},2526600,25300]
["D",161,5,"ARTS, ENTERTAINMENT, AND RECREATION",71,3,9,71117,152,{"$f":"IF(County!G2179=0,\"0\",IF(County!G2179<5,\"*\",ROUND((G2179*1),-1)))","v":10},71100,7100]
[null,161,5,"ACCOMMODATION AND FOOD SERVICES",72,9,122,1630853,257,{"$f":"IF(County!G2180=0,\"0\",IF(County!G2180<5,\"*\",ROUND((G2180*1),-1)))","v":120},1630900,{"$f":"IF(G2180=0,0,IF(J2180=\"*\",\"*\",ROUND((K2180/J2180),-2)))","v":13600}]
[null,161,5,"OTHER SERVICES, EXCEPT PUBLIC ADMIN",81,15,33,884695,516,{"$f":"IF(County!G2181=0,\"0\",IF(County!G2181<5,\"*\",ROUND((G2181*1),-1)))","v":30},884700,29500]
[null,161,3,"LOCAL GOVERNMENT",11,9,387,10882390,541,{"$f":"IF(County!G2182=0,\"0\",IF(County!G2182<5,\"*\",ROUND((G2182*1),-1)))","v":390},10882400,27900]
["D",161,3,"EDUCATIONAL SERVICES",61,1,258,8181247,610,{"$f":"IF(County!G2183=0,\"0\",IF(County!G2183<5,\"*\",ROUND((G2183*1),-1)))","v":260},8181200,31500]
[null,161,3,"HEALTH CARE AND SOCIAL ASSISTANCE",62,0,0,0,0,{"$f":"IF(County!G2184=0,\"0\",IF(County!G2184<5,\"*\",ROUND((G2184*1),-1)))","v":"0"},0,0]
[null,161,2,"STATE GOVERNMENT",11,7,38,1423533,720,{"$f":"IF(County!G2185=0,\"0\",IF(County!G2185<5,\"*\",ROUND((G2185*1),-1)))","v":40},{"$f":"ROUND((H2185),-2)","v":1423500},35600]
[null,161,2,"EDUCATIONAL SERVICES",61,0,0,0,0,{"$f":"IF(County!G2186=0,\"0\",IF(County!G2186<5,\"*\",ROUND((G2186*1),-1)))","v":"0"},0,0]
[null,161,2,"HEALTH CARE AND SOCIAL ASSISTANCE",62,0,0,0,0,{"$f":"IF(County!G2187=0,\"0\",IF(County!G2187<5,\"*\",ROUND((G2187*1),-1)))","v":"0"},0,0]
[null,161,"U","TOTAL UI COVERED",11,129,1309,38513784,566,{"$f":"IF(County!G2188=0,\"0\",IF(County!G2188<5,\"*\",ROUND((G2188*1),-1)))","v":1310},38513800,29400]
[null,161,1,"FEDERAL GOVERNMENT",11,2,15,658769,845,{"$f":"IF(County!G2189=0,\"0\",IF(County!G2189<5,\"*\",ROUND((G2189*1),-1)))","v":20},658800,32900]
[null,163,5,"AGRICULTURE, FORESTRY, FISHING AND HUNTI",11,22,125,5228125,804,{"$f":"IF(County!G2190=0,\"0\",IF(County!G2190<5,\"*\",ROUND((G2190*1),-1)))","v":130},5228100,40200]
[null,163,5,"MINING, QUARRYING, AND OIL AND GAS EXTRA",21,23,174,12175967,1346,{"$f":"IF(County!G2191=0,\"0\",IF(County!G2191<5,\"*\",ROUND((G2191*1),-1)))","v":170},12176000,71600]
[null,163,5,"UTILITIES",22,8,784,58552767,1436,{"$f":"IF(County!G2192=0,\"0\",IF(County!G2192<5,\"*\",ROUND((G2192*1),-1)))","v":780},58552800,75100]
[null,163,5,"CONSTRUCTION",23,426,7000,401183086,1102,{"$f":"IF(County!G2193=0,\"0\",IF(County!G2193<5,\"*\",ROUND((G2193*1),-1)))","v":7000},401183100,57300]
[null,163,5,"MANUFACTURING","31-33",241,12434,734762558,1136,{"$f":"IF(County!G2194=0,\"0\",IF(County!G2194<5,\"*\",ROUND((G2194*1),-1)))","v":12430},734762600,59100]
[null,163,5,"WHOLESALE TRADE",42,301,4142,213069041,989,{"$f":"IF(County!G2195=0,\"0\",IF(County!G2195<5,\"*\",ROUND((G2195*1),-1)))","v":4140},213069000,51500]
[null,163,5,"RETAIL TRADE","44-45",731,12321,308798173,482,{"$f":"IF(County!G2196=0,\"0\",IF(County!G2196<5,\"*\",ROUND((G2196*1),-1)))","v":12320},308798200,25100]
[null,163,5,"TRANSPORTATION AND WAREHOUSING","48-49",112,4100,158539646,744,{"$f":"IF(County!G2197=0,\"0\",IF(County!G2197<5,\"*\",ROUND((G2197*1),-1)))","v":4100},158539600,38700]
[null,163,5,"INFORMATION",51,59,1467,69760236,914,{"$f":"IF(County!G2198=0,\"0\",IF(County!G2198<5,\"*\",ROUND((G2198*1),-1)))","v":1470},69760200,47500]
[null,163,5,"FINANCE AND INSURANCE",52,263,1989,111387452,1077,{"$f":"IF(County!G2199=0,\"0\",IF(County!G2199<5,\"*\",ROUND((G2199*1),-1)))","v":1990},111387500,56000]
[null,163,5,"REAL ESTATE AND RENTAL AND LEASING",53,187,1298,40051593,593,{"$f":"IF(County!G2200=0,\"0\",IF(County!G2200<5,\"*\",ROUND((G2200*1),-1)))","v":1300},40051600,30800]
[null,163,5,"PROFESSIONAL AND TECHNICAL SERVICES",54,445,3552,207937420,1126,{"$f":"IF(County!G2201=0,\"0\",IF(County!G2201<5,\"*\",ROUND((G2201*1),-1)))","v":3550},207937400,58600]
[null,163,5,"MANAGEMENT OF COMPANIES AND ENTERPRISES",55,52,3119,254992842,1572,{"$f":"IF(County!G2202=0,\"0\",IF(County!G2202<5,\"*\",ROUND((G2202*1),-1)))","v":3120},254992800,81700]
[null,163,5,"ADMINISTRATIVE AND WASTE SERVICES",56,252,7401,197587228,513,{"$f":"IF(County!G2203=0,\"0\",IF(County!G2203<5,\"*\",ROUND((G2203*1),-1)))","v":7400},197587200,26700]
[null,163,5,"EDUCATIONAL SERVICES",61,65,2003,59983243,576,{"$f":"IF(County!G2204=0,\"0\",IF(County!G2204<5,\"*\",ROUND((G2204*1),-1)))","v":2000},59983200,30000]
[null,163,5,"HEALTH CARE AND SOCIAL ASSISTANCE",62,531,17862,813227360,876,{"$f":"IF(County!G2205=0,\"0\",IF(County!G2205<5,\"*\",ROUND((G2205*1),-1)))","v":17860},813227400,45500]
[null,163,5,"ARTS, ENTERTAINMENT, AND RECREATION",71,64,2132,42209694,381,{"$f":"IF(County!G2206=0,\"0\",IF(County!G2206<5,\"*\",ROUND((G2206*1),-1)))","v":2130},42209700,19800]
[null,163,5,"ACCOMMODATION AND FOOD SERVICES",72,431,9992,139576001,269,{"$f":"IF(County!G2207=0,\"0\",IF(County!G2207<5,\"*\",ROUND((G2207*1),-1)))","v":9990},139576000,14000]
[null,163,5,"OTHER SERVICES, EXCEPT PUBLIC ADMIN",81,421,3805,108499128,548,{"$f":"IF(County!G2208=0,\"0\",IF(County!G2208<5,\"*\",ROUND((G2208*1),-1)))","v":3810},108499100,28500]
[null,163,3,"LOCAL GOVERNMENT",11,22,6101,239231230,754,{"$f":"IF(County!G2209=0,\"0\",IF(County!G2209<5,\"*\",ROUND((G2209*1),-1)))","v":6100},239231200,39200]
["D",163,3,"EDUCATIONAL SERVICES",61,1,3432,125938710,706,{"$f":"IF(County!G2210=0,\"0\",IF(County!G2210<5,\"*\",ROUND((G2210*1),-1)))","v":3430},125938700,36700]
[null,163,3,"HEALTH CARE AND SOCIAL ASSISTANCE",62,0,0,0,0,{"$f":"IF(County!G2211=0,\"0\",IF(County!G2211<5,\"*\",ROUND((G2211*1),-1)))","v":"0"},0,0]
[null,163,2,"STATE GOVERNMENT",11,25,2424,95973257,761,{"$f":"IF(County!G2212=0,\"0\",IF(County!G2212<5,\"*\",ROUND((G2212*1),-1)))","v":2420},95973300,39700]
["D",163,2,"EDUCATIONAL SERVICES",61,2,1666,65696224,758,{"$f":"IF(County!G2213=0,\"0\",IF(County!G2213<5,\"*\",ROUND((G2213*1),-1)))","v":1670},65696200,39300]
["D",163,2,"HEALTH CARE AND SOCIAL ASSISTANCE",62,2,394,15600965,761,{"$f":"IF(County!G2214=0,\"0\",IF(County!G2214<5,\"*\",ROUND((G2214*1),-1)))","v":390},15601000,40000]
[null,163,"U","TOTAL UI COVERED",11,4676,104228,4272809481,788,{"$f":"IF(County!G2215=0,\"0\",IF(County!G2215<5,\"*\",ROUND((G2215*1),-1)))","v":104230},4272809500,41000]
[null,163,1,"FEDERAL GOVERNMENT",11,30,948,62273921,1263,{"$f":"IF(County!G2216=0,\"0\",IF(County!G2216<5,\"*\",ROUND((G2216*1),-1)))","v":950},62273900,65600]
[null,165,5,"AGRICULTURE, FORESTRY, FISHING AND HUNTI",11,12,79,2822287,687,{"$f":"IF(County!G2217=0,\"0\",IF(County!G2217<5,\"*\",ROUND((G2217*1),-1)))","v":80},2822300,35300]
["D",165,5,"MINING, QUARRYING, AND OIL AND GAS EXTRA",21,2,12,324027,519,{"$f":"IF(County!G2218=0,\"0\",IF(County!G2218<5,\"*\",ROUND((G2218*1),-1)))","v":10},324000,32400]
[null,165,5,"UTILITIES",22,8,162,15056902,1787,{"$f":"IF(County!G2219=0,\"0\",IF(County!G2219<5,\"*\",ROUND((G2219*1),-1)))","v":160},15056900,94100]
[null,165,5,"CONSTRUCTION",23,33,673,38177338,1091,{"$f":"IF(County!G2220=0,\"0\",IF(County!G2220<5,\"*\",ROUND((G2220*1),-1)))","v":670},38177300,57000]
[null,165,5,"MANUFACTURING","31-33",10,676,53385632,1519,{"$f":"IF(County!G2221=0,\"0\",IF(County!G2221<5,\"*\",ROUND((G2221*1),-1)))","v":680},53385600,78500]
[null,165,5,"WHOLESALE TRADE",42,10,42,4393311,2012,{"$f":"IF(County!G2222=0,\"0\",IF(County!G2222<5,\"*\",ROUND((G2222*1),-1)))","v":40},4393300,109800]
[null,165,5,"RETAIL TRADE","44-45",51,562,13364154,457,{"$f":"IF(County!G2223=0,\"0\",IF(County!G2223<5,\"*\",ROUND((G2223*1),-1)))","v":560},13364200,23900]
[null,165,5,"TRANSPORTATION AND WAREHOUSING","48-49",15,89,3861379,834,{"$f":"IF(County!G2224=0,\"0\",IF(County!G2224<5,\"*\",ROUND((G2224*1),-1)))","v":90},3861400,42900]
[null,165,5,"INFORMATION",51,3,32,897769,540,{"$f":"IF(County!G2225=0,\"0\",IF(County!G2225<5,\"*\",ROUND((G2225*1),-1)))","v":30},897800,29900]
[null,165,5,"FINANCE AND INSURANCE",52,18,83,2777634,644,{"$f":"IF(County!G2226=0,\"0\",IF(County!G2226<5,\"*\",ROUND((G2226*1),-1)))","v":80},2777600,34700]
["D",165,5,"REAL ESTATE AND RENTAL AND LEASING",53,2,9,1142013,2440,{"$f":"IF(County!G2227=0,\"0\",IF(County!G2227<5,\"*\",ROUND((G2227*1),-1)))","v":10},1142000,114200]
[null,165,5,"PROFESSIONAL AND TECHNICAL SERVICES",54,16,82,5092224,1194,{"$f":"IF(County!G2228=0,\"0\",IF(County!G2228<5,\"*\",ROUND((G2228*1),-1)))","v":80},5092200,63700]
["D",165,5,"MANAGEMENT OF COMPANIES AND ENTERPRISES",55,2,16,1207975,1452,{"$f":"IF(County!G2229=0,\"0\",IF(County!G2229<5,\"*\",ROUND((G2229*1),-1)))","v":20},1208000,60400]
[null,165,5,"ADMINISTRATIVE AND WASTE SERVICES",56,9,43,830760,372,{"$f":"IF(County!G2230=0,\"0\",IF(County!G2230<5,\"*\",ROUND((G2230*1),-1)))","v":40},830800,20800]
[null,165,5,"EDUCATIONAL SERVICES",61,0,0,0,0,{"$f":"IF(County!G2231=0,\"0\",IF(County!G2231<5,\"*\",ROUND((G2231*1),-1)))","v":"0"},0,0]
[null,165,5,"HEALTH CARE AND SOCIAL ASSISTANCE",62,17,515,19517307,729,{"$f":"IF(County!G2232=0,\"0\",IF(County!G2232<5,\"*\",ROUND((G2232*1),-1)))","v":520},19517300,37500]
[null,165,5,"ARTS, ENTERTAINMENT, AND RECREATION",71,3,20,185705,179,{"$f":"IF(County!G2233=0,\"0\",IF(County!G2233<5,\"*\",ROUND((G2233*1),-1)))","v":20},185700,9300]
[null,165,5,"ACCOMMODATION AND FOOD SERVICES",72,29,421,5630112,257,{"$f":"IF(County!G2234=0,\"0\",IF(County!G2234<5,\"*\",ROUND((G2234*1),-1)))","v":420},5630100,13400]
[null,165,5,"OTHER SERVICES, EXCEPT PUBLIC ADMIN",81,28,80,3176835,764,{"$f":"IF(County!G2235=0,\"0\",IF(County!G2235<5,\"*\",ROUND((G2235*1),-1)))","v":80},3176800,39700]
[null,165,3,"LOCAL GOVERNMENT",11,18,643,18356326,549,{"$f":"IF(County!G2236=0,\"0\",IF(County!G2236<5,\"*\",ROUND((G2236*1),-1)))","v":640},18356300,28700]
["D",165,3,"EDUCATIONAL SERVICES",61,2,445,13549479,586,{"$f":"IF(County!G2237=0,\"0\",IF(County!G2237<5,\"*\",ROUND((G2237*1),-1)))","v":450},13549500,30100]
[null,165,3,"HEALTH CARE AND SOCIAL ASSISTANCE",62,0,0,0,0,{"$f":"IF(County!G2238=0,\"0\",IF(County!G2238<5,\"*\",ROUND((G2238*1),-1)))","v":"0"},0,0]
[null,165,2,"STATE GOVERNMENT",11,10,37,1563348,813,{"$f":"IF(County!G2239=0,\"0\",IF(County!G2239<5,\"*\",ROUND((G2239*1),-1)))","v":40},1563300,39100]
[null,165,2,"EDUCATIONAL SERVICES",61,0,0,0,0,{"$f":"IF(County!G2240=0,\"0\",IF(County!G2240<5,\"*\",ROUND((G2240*1),-1)))","v":"0"},0,0]
[null,165,2,"HEALTH CARE AND SOCIAL ASSISTANCE",62,0,0,0,0,{"$f":"IF(County!G2241=0,\"0\",IF(County!G2241<5,\"*\",ROUND((G2241*1),-1)))","v":"0"},0,0]
[null,165,"U","TOTAL UI COVERED",11,295,4277,191763038,862,{"$f":"IF(County!G2242=0,\"0\",IF(County!G2242<5,\"*\",ROUND((G2242*1),-1)))","v":4280},191763000,44800]
[null,165,1,"FEDERAL GOVERNMENT",11,9,33,1261155,735,{"$f":"IF(County!G2243=0,\"0\",IF(County!G2243<5,\"*\",ROUND((G2243*1),-1)))","v":30},1261200,42000]
[null,167,5,"AGRICULTURE, FORESTRY, FISHING AND HUNTI",11,17,81,2476587,588,{"$f":"IF(County!G2244=0,\"0\",IF(County!G2244<5,\"*\",ROUND((G2244*1),-1)))","v":80},2476600,{"$f":"IF(G2244=0,0,IF(J2244=\"*\",\"*\",ROUND((K2244/J2244),-2)))","v":31000}]
[null,167,5,"MINING, QUARRYING, AND OIL AND GAS EXTRA",21,6,66,4988686,1454,{"$f":"IF(County!G2245=0,\"0\",IF(County!G2245<5,\"*\",ROUND((G2245*1),-1)))","v":70},4988700,71300]
[null,167,5,"UTILITIES",22,10,234,21504112,1767,{"$f":"IF(County!G2246=0,\"0\",IF(County!G2246<5,\"*\",ROUND((G2246*1),-1)))","v":230},21504100,93500]
[null,167,5,"CONSTRUCTION",23,181,1911,94285389,949,{"$f":"IF(County!G2247=0,\"0\",IF(County!G2247<5,\"*\",ROUND((G2247*1),-1)))","v":1910},94285400,49400]
[null,167,5,"MANUFACTURING","31-33",113,6938,348123263,965,{"$f":"IF(County!G2248=0,\"0\",IF(County!G2248<5,\"*\",ROUND((G2248*1),-1)))","v":6940},348123300,50200]
[null,167,5,"WHOLESALE TRADE",42,101,1180,54290987,885,{"$f":"IF(County!G2249=0,\"0\",IF(County!G2249<5,\"*\",ROUND((G2249*1),-1)))","v":1180},{"$f":"ROUND((H2249),-2)","v":54291000},46000]
[null,167,5,"RETAIL TRADE","44-45",375,6396,142134789,427,{"$f":"IF(County!G2250=0,\"0\",IF(County!G2250<5,\"*\",ROUND((G2250*1),-1)))","v":6400},142134800,22200]
[null,167,5,"TRANSPORTATION AND WAREHOUSING","48-49",67,1204,45341854,724,{"$f":"IF(County!G2251=0,\"0\",IF(County!G2251<5,\"*\",ROUND((G2251*1),-1)))","v":1200},45341900,37800]
[null,167,5,"INFORMATION",51,20,442,16870492,734,{"$f":"IF(County!G2252=0,\"0\",IF(County!G2252<5,\"*\",ROUND((G2252*1),-1)))","v":440},16870500,38300]
[null,167,5,"FINANCE AND INSURANCE",52,157,1502,69920018,895,{"$f":"IF(County!G2253=0,\"0\",IF(County!G2253<5,\"*\",ROUND((G2253*1),-1)))","v":1500},69920000,46600]
[null,167,5,"REAL ESTATE AND RENTAL AND LEASING",53,86,573,22250696,747,{"$f":"IF(County!G2254=0,\"0\",IF(County!G2254<5,\"*\",ROUND((G2254*1),-1)))","v":570},22250700,39000]
[null,167,5,"PROFESSIONAL AND TECHNICAL SERVICES",54,179,923,41415923,863,{"$f":"IF(County!G2255=0,\"0\",IF(County!G2255<5,\"*\",ROUND((G2255*1),-1)))","v":920},41415900,45000]
[null,167,5,"MANAGEMENT OF COMPANIES AND ENTERPRISES",55,14,319,15731568,948,{"$f":"IF(County!G2256=0,\"0\",IF(County!G2256<5,\"*\",ROUND((G2256*1),-1)))","v":320},15731600,49200]
[null,167,5,"ADMINISTRATIVE AND WASTE SERVICES",56,129,3763,77263159,395,{"$f":"IF(County!G2257=0,\"0\",IF(County!G2257<5,\"*\",ROUND((G2257*1),-1)))","v":3760},77263200,20500]
[null,167,5,"EDUCATIONAL SERVICES",61,23,1322,59359116,863,{"$f":"IF(County!G2258=0,\"0\",IF(County!G2258<5,\"*\",ROUND((G2258*1),-1)))","v":1320},59359100,45000]
[null,167,5,"HEALTH CARE AND SOCIAL ASSISTANCE",62,323,7721,348724225,869,{"$f":"IF(County!G2259=0,\"0\",IF(County!G2259<5,\"*\",ROUND((G2259*1),-1)))","v":7720},348724200,45200]
[null,167,5,"ARTS, ENTERTAINMENT, AND RECREATION",71,36,345,5209330,290,{"$f":"IF(County!G2260=0,\"0\",IF(County!G2260<5,\"*\",ROUND((G2260*1),-1)))","v":350},5209300,14900]
[null,167,5,"ACCOMMODATION AND FOOD SERVICES",72,253,5184,70377302,261,{"$f":"IF(County!G2261=0,\"0\",IF(County!G2261<5,\"*\",ROUND((G2261*1),-1)))","v":5180},70377300,13600]
[null,167,5,"OTHER SERVICES, EXCEPT PUBLIC ADMIN",81,234,1360,38554384,545,{"$f":"IF(County!G2262=0,\"0\",IF(County!G2262<5,\"*\",ROUND((G2262*1),-1)))","v":1360},38554400,28300]
[null,167,3,"LOCAL GOVERNMENT",11,48,3707,135522290,703,{"$f":"IF(County!G2263=0,\"0\",IF(County!G2263<5,\"*\",ROUND((G2263*1),-1)))","v":3710},135522300,36500]
["D",167,3,"EDUCATIONAL SERVICES",61,29,1848,71706979,746,{"$f":"IF(County!G2264=0,\"0\",IF(County!G2264<5,\"*\",ROUND((G2264*1),-1)))","v":1850},71707000,38800]
[null,167,3,"HEALTH CARE AND SOCIAL ASSISTANCE",62,0,0,0,0,{"$f":"IF(County!G2265=0,\"0\",IF(County!G2265<5,\"*\",ROUND((G2265*1),-1)))","v":"0"},0,0]
[null,167,2,"STATE GOVERNMENT",11,20,2577,116413699,869,{"$f":"IF(County!G2266=0,\"0\",IF(County!G2266<5,\"*\",ROUND((G2266*1),-1)))","v":2580},116413700,45100]
["D",167,2,"EDUCATIONAL SERVICES",61,2,2308,105249192,877,{"$f":"IF(County!G2267=0,\"0\",IF(County!G2267<5,\"*\",ROUND((G2267*1),-1)))","v":2310},105249200,45600]
[null,167,2,"HEALTH CARE AND SOCIAL ASSISTANCE",62,0,0,0,0,{"$f":"IF(County!G2268=0,\"0\",IF(County!G2268<5,\"*\",ROUND((G2268*1),-1)))","v":"0"},0,0]
[null,167,"U","TOTAL UI COVERED",11,2390,47747,1730757869,697,{"$f":"IF(County!G2269=0,\"0\",IF(County!G2269<5,\"*\",ROUND((G2269*1),-1)))","v":47750},1730757900,36200]
[null,167,1,"FEDERAL GOVERNMENT",11,26,1093,74533386,1311,{"$f":"IF(County!G2270=0,\"0\",IF(County!G2270<5,\"*\",ROUND((G2270*1),-1)))","v":1090},74533400,68400]
[null,169,5,"AGRICULTURE, FORESTRY, FISHING AND HUNTI",11,41,501,16698946,641,{"$f":"IF(County!G2271=0,\"0\",IF(County!G2271<5,\"*\",ROUND((G2271*1),-1)))","v":500},16698900,33400]
["D",169,5,"MINING, QUARRYING, AND OIL AND GAS EXTRA",21,2,16,778214,935,{"$f":"IF(County!G2272=0,\"0\",IF(County!G2272<5,\"*\",ROUND((G2272*1),-1)))","v":20},778200,38900]
[null,169,5,"UTILITIES",22,3,40,3078587,1480,{"$f":"IF(County!G2273=0,\"0\",IF(County!G2273<5,\"*\",ROUND((G2273*1),-1)))","v":40},3078600,77000]
[null,169,5,"CONSTRUCTION",23,76,459,19156375,803,{"$f":"IF(County!G2274=0,\"0\",IF(County!G2274<5,\"*\",ROUND((G2274*1),-1)))","v":460},19156400,41600]
[null,169,5,"MANUFACTURING","31-33",65,3029,142929830,907,{"$f":"IF(County!G2275=0,\"0\",IF(County!G2275<5,\"*\",ROUND((G2275*1),-1)))","v":3030},142929800,47200]
[null,169,5,"WHOLESALE TRADE",42,34,388,20101530,996,{"$f":"IF(County!G2276=0,\"0\",IF(County!G2276<5,\"*\",ROUND((G2276*1),-1)))","v":390},20101500,51500]
[null,169,5,"RETAIL TRADE","44-45",119,1341,32644636,468,{"$f":"IF(County!G2277=0,\"0\",IF(County!G2277<5,\"*\",ROUND((G2277*1),-1)))","v":1340},32644600,24400]
[null,169,5,"TRANSPORTATION AND WAREHOUSING","48-49",24,73,2579509,680,{"$f":"IF(County!G2278=0,\"0\",IF(County!G2278<5,\"*\",ROUND((G2278*1),-1)))","v":70},2579500,36900]
[null,169,5,"INFORMATION",51,9,75,2407844,617,{"$f":"IF(County!G2279=0,\"0\",IF(County!G2279<5,\"*\",ROUND((G2279*1),-1)))","v":80},2407800,30100]
[null,169,5,"FINANCE AND INSURANCE",52,42,299,14067133,905,{"$f":"IF(County!G2280=0,\"0\",IF(County!G2280<5,\"*\",ROUND((G2280*1),-1)))","v":300},14067100,46900]
[null,169,5,"REAL ESTATE AND RENTAL AND LEASING",53,23,99,2425594,471,{"$f":"IF(County!G2281=0,\"0\",IF(County!G2281<5,\"*\",ROUND((G2281*1),-1)))","v":100},2425600,24300]
[null,169,5,"PROFESSIONAL AND TECHNICAL SERVICES",54,44,194,7959200,789,{"$f":"IF(County!G2282=0,\"0\",IF(County!G2282<5,\"*\",ROUND((G2282*1),-1)))","v":190},7959200,41900]
[null,169,5,"MANAGEMENT OF COMPANIES AND ENTERPRISES",55,3,117,2082547,342,{"$f":"IF(County!G2283=0,\"0\",IF(County!G2283<5,\"*\",ROUND((G2283*1),-1)))","v":120},2082500,17400]
[null,169,5,"ADMINISTRATIVE AND WASTE SERVICES",56,23,196,7007945,688,{"$f":"IF(County!G2284=0,\"0\",IF(County!G2284<5,\"*\",ROUND((G2284*1),-1)))","v":200},7007900,35000]
["D",169,5,"EDUCATIONAL SERVICES",61,3,588,14718080,481,{"$f":"IF(County!G2285=0,\"0\",IF(County!G2285<5,\"*\",ROUND((G2285*1),-1)))","v":590},14718100,24900]
[null,169,5,"HEALTH CARE AND SOCIAL ASSISTANCE",62,60,1618,43052943,512,{"$f":"IF(County!G2286=0,\"0\",IF(County!G2286<5,\"*\",ROUND((G2286*1),-1)))","v":1620},43052900,26600]
[null,169,5,"ARTS, ENTERTAINMENT, AND RECREATION",71,10,238,3406096,275,{"$f":"IF(County!G2287=0,\"0\",IF(County!G2287<5,\"*\",ROUND((G2287*1),-1)))","v":240},3406100,14200]
[null,169,5,"ACCOMMODATION AND FOOD SERVICES",72,61,1087,13321031,236,{"$f":"IF(County!G2288=0,\"0\",IF(County!G2288<5,\"*\",ROUND((G2288*1),-1)))","v":1090},13321000,12200]
[null,169,5,"OTHER SERVICES, EXCEPT PUBLIC ADMIN",81,66,259,5117200,380,{"$f":"IF(County!G2289=0,\"0\",IF(County!G2289<5,\"*\",ROUND((G2289*1),-1)))","v":260},5117200,19700]
[null,169,3,"LOCAL GOVERNMENT",11,25,1763,58413437,637,{"$f":"IF(County!G2290=0,\"0\",IF(County!G2290<5,\"*\",ROUND((G2290*1),-1)))","v":1760},58413400,33200]
[null,169,3,"EDUCATIONAL SERVICES",61,12,1000,29782260,573,{"$f":"IF(County!G2291=0,\"0\",IF(County!G2291<5,\"*\",ROUND((G2291*1),-1)))","v":1000},29782300,29800]
["D",169,3,"HEALTH CARE AND SOCIAL ASSISTANCE",62,2,314,16270350,996,{"$f":"IF(County!G2292=0,\"0\",IF(County!G2292<5,\"*\",ROUND((G2292*1),-1)))","v":310},16270400,52500]
[null,169,2,"STATE GOVERNMENT",11,13,95,3943732,798,{"$f":"IF(County!G2293=0,\"0\",IF(County!G2293<5,\"*\",ROUND((G2293*1),-1)))","v":100},3943700,39400]
[null,169,2,"EDUCATIONAL SERVICES",61,0,0,0,0,{"$f":"IF(County!G2294=0,\"0\",IF(County!G2294<5,\"*\",ROUND((G2294*1),-1)))","v":"0"},0,0]
[null,169,2,"HEALTH CARE AND SOCIAL ASSISTANCE",62,0,0,0,0,{"$f":"IF(County!G2295=0,\"0\",IF(County!G2295<5,\"*\",ROUND((G2295*1),-1)))","v":"0"},0,0]
[null,169,"U","TOTAL UI COVERED",11,743,12473,415890409,641,{"$f":"IF(County!G2296=0,\"0\",IF(County!G2296<5,\"*\",ROUND((G2296*1),-1)))","v":12470},415890400,33400]
[null,169,1,"FEDERAL GOVERNMENT",11,12,73,3502299,923,{"$f":"IF(County!G2297=0,\"0\",IF(County!G2297<5,\"*\",ROUND((G2297*1),-1)))","v":70},3502300,50000]
[null,171,5,"AGRICULTURE, FORESTRY, FISHING AND HUNTI",11,12,135,5737154,817,{"$f":"IF(County!G2298=0,\"0\",IF(County!G2298<5,\"*\",ROUND((G2298*1),-1)))","v":140},5737200,41000]
["D",171,5,"MINING, QUARRYING, AND OIL AND GAS EXTRA",21,2,11,272745,477,{"$f":"IF(County!G2299=0,\"0\",IF(County!G2299<5,\"*\",ROUND((G2299*1),-1)))","v":10},272700,27300]
["D",171,5,"UTILITIES",22,1,15,1193989,1531,{"$f":"IF(County!G2300=0,\"0\",IF(County!G2300<5,\"*\",ROUND((G2300*1),-1)))","v":20},1194000,59700]
[null,171,5,"CONSTRUCTION",23,18,89,3181724,687,{"$f":"IF(County!G2301=0,\"0\",IF(County!G2301<5,\"*\",ROUND((G2301*1),-1)))","v":90},3181700,35400]
[null,171,5,"MANUFACTURING","31-33",10,477,17210795,694,{"$f":"IF(County!G2302=0,\"0\",IF(County!G2302<5,\"*\",ROUND((G2302*1),-1)))","v":480},17210800,35900]
[null,171,5,"WHOLESALE TRADE",42,12,140,7289182,1001,{"$f":"IF(County!G2303=0,\"0\",IF(County!G2303<5,\"*\",ROUND((G2303*1),-1)))","v":140},7289200,52100]
[null,171,5,"RETAIL TRADE","44-45",15,172,4643711,519,{"$f":"IF(County!G2304=0,\"0\",IF(County!G2304<5,\"*\",ROUND((G2304*1),-1)))","v":170},4643700,27300]
[null,171,5,"TRANSPORTATION AND WAREHOUSING","48-49",6,72,3436352,918,{"$f":"IF(County!G2305=0,\"0\",IF(County!G2305<5,\"*\",ROUND((G2305*1),-1)))","v":70},3436400,49100]
["D",171,5,"INFORMATION",51,1,1,32857,632,{"$f":"IF(County!G2306=0,\"0\",IF(County!G2306<5,\"*\",ROUND((G2306*1),-1)))","v":"*"},32900,"*"]
[null,171,5,"FINANCE AND INSURANCE",52,7,30,1113453,714,{"$f":"IF(County!G2307=0,\"0\",IF(County!G2307<5,\"*\",ROUND((G2307*1),-1)))","v":30},1113500,37100]
["D",171,5,"REAL ESTATE AND RENTAL AND LEASING",53,3,2,22783,219,{"$f":"IF(County!G2308=0,\"0\",IF(County!G2308<5,\"*\",ROUND((G2308*1),-1)))","v":"*"},22800,{"$f":"IF(G2308=0,0,IF(J2308=\"*\",\"*\",ROUND((K2308/J2308),-2)))","v":"*"}]
[null,171,5,"PROFESSIONAL AND TECHNICAL SERVICES",54,7,28,537985,369,{"$f":"IF(County!G2309=0,\"0\",IF(County!G2309<5,\"*\",ROUND((G2309*1),-1)))","v":30},538000,17900]
[null,171,5,"MANAGEMENT OF COMPANIES AND ENTERPRISES",55,0,0,0,0,{"$f":"IF(County!G2310=0,\"0\",IF(County!G2310<5,\"*\",ROUND((G2310*1),-1)))","v":"0"},0,0]
["D",171,5,"ADMINISTRATIVE AND WASTE SERVICES",56,3,30,967398,620,{"$f":"IF(County!G2311=0,\"0\",IF(County!G2311<5,\"*\",ROUND((G2311*1),-1)))","v":30},967400,32200]
[null,171,5,"EDUCATIONAL SERVICES",61,0,0,0,0,{"$f":"IF(County!G2312=0,\"0\",IF(County!G2312<5,\"*\",ROUND((G2312*1),-1)))","v":"0"},0,0]
[null,171,5,"HEALTH CARE AND SOCIAL ASSISTANCE",62,7,263,10511597,769,{"$f":"IF(County!G2313=0,\"0\",IF(County!G2313<5,\"*\",ROUND((G2313*1),-1)))","v":260},{"$f":"ROUND((H2313),-2)","v":10511600},40400]
[null,171,5,"ARTS, ENTERTAINMENT, AND RECREATION",71,0,0,0,0,{"$f":"IF(County!G2314=0,\"0\",IF(County!G2314<5,\"*\",ROUND((G2314*1),-1)))","v":"0"},0,0]
[null,171,5,"ACCOMMODATION AND FOOD SERVICES",72,5,28,301145,207,{"$f":"IF(County!G2315=0,\"0\",IF(County!G2315<5,\"*\",ROUND((G2315*1),-1)))","v":30},301100,10000]
[null,171,5,"OTHER SERVICES, EXCEPT PUBLIC ADMIN",81,5,14,310569,427,{"$f":"IF(County!G2316=0,\"0\",IF(County!G2316<5,\"*\",ROUND((G2316*1),-1)))","v":10},310600,31100]
[null,171,3,"LOCAL GOVERNMENT",11,11,321,9552878,572,{"$f":"IF(County!G2317=0,\"0\",IF(County!G2317<5,\"*\",ROUND((G2317*1),-1)))","v":320},9552900,29900]
["D",171,3,"EDUCATIONAL SERVICES",61,5,192,6212329,622,{"$f":"IF(County!G2318=0,\"0\",IF(County!G2318<5,\"*\",ROUND((G2318*1),-1)))","v":190},6212300,32700]
[null,171,3,"HEALTH CARE AND SOCIAL ASSISTANCE",62,0,0,0,0,{"$f":"IF(County!G2319=0,\"0\",IF(County!G2319<5,\"*\",ROUND((G2319*1),-1)))","v":"0"},0,0]
[null,171,2,"STATE GOVERNMENT",11,8,24,1010807,810,{"$f":"IF(County!G2320=0,\"0\",IF(County!G2320<5,\"*\",ROUND((G2320*1),-1)))","v":20},1010800,50500]
[null,171,2,"EDUCATIONAL SERVICES",61,0,0,0,0,{"$f":"IF(County!G2321=0,\"0\",IF(County!G2321<5,\"*\",ROUND((G2321*1),-1)))","v":"0"},0,0]
[null,171,2,"HEALTH CARE AND SOCIAL ASSISTANCE",62,0,0,0,0,{"$f":"IF(County!G2322=0,\"0\",IF(County!G2322<5,\"*\",ROUND((G2322*1),-1)))","v":"0"},0,0]
[null,171,"U","TOTAL UI COVERED",11,133,1852,67327124,699,{"$f":"IF(County!G2323=0,\"0\",IF(County!G2323<5,\"*\",ROUND((G2323*1),-1)))","v":1850},67327100,36400]
[null,171,1,"FEDERAL GOVERNMENT",11,6,15,590523,757,{"$f":"IF(County!G2324=0,\"0\",IF(County!G2324<5,\"*\",ROUND((G2324*1),-1)))","v":20},590500,29500]
[null,173,5,"AGRICULTURE, FORESTRY, FISHING AND HUNTI",11,10,48,1663127,666,{"$f":"IF(County!G2325=0,\"0\",IF(County!G2325<5,\"*\",ROUND((G2325*1),-1)))","v":50},1663100,33300]
[null,173,5,"MINING, QUARRYING, AND OIL AND GAS EXTRA",21,12,396,34692771,1685,{"$f":"IF(County!G2326=0,\"0\",IF(County!G2326<5,\"*\",ROUND((G2326*1),-1)))","v":400},34692800,86700]
[null,173,5,"UTILITIES",22,6,270,22991211,1638,{"$f":"IF(County!G2327=0,\"0\",IF(County!G2327<5,\"*\",ROUND((G2327*1),-1)))","v":270},22991200,85200]
[null,173,5,"CONSTRUCTION",23,178,1084,46761546,830,{"$f":"IF(County!G2328=0,\"0\",IF(County!G2328<5,\"*\",ROUND((G2328*1),-1)))","v":1080},46761500,43300]
[null,173,5,"MANUFACTURING","31-33",44,2650,181287425,1316,{"$f":"IF(County!G2329=0,\"0\",IF(County!G2329<5,\"*\",ROUND((G2329*1),-1)))","v":2650},181287400,68400]
[null,173,5,"WHOLESALE TRADE",42,73,306,16641157,1046,{"$f":"IF(County!G2330=0,\"0\",IF(County!G2330<5,\"*\",ROUND((G2330*1),-1)))","v":310},16641200,53700]
[null,173,5,"RETAIL TRADE","44-45",130,1623,37607881,446,{"$f":"IF(County!G2331=0,\"0\",IF(County!G2331<5,\"*\",ROUND((G2331*1),-1)))","v":1620},37607900,23200]
[null,173,5,"TRANSPORTATION AND WAREHOUSING","48-49",46,375,13585859,697,{"$f":"IF(County!G2332=0,\"0\",IF(County!G2332<5,\"*\",ROUND((G2332*1),-1)))","v":380},13585900,35800]
[null,173,5,"INFORMATION",51,9,59,1715534,559,{"$f":"IF(County!G2333=0,\"0\",IF(County!G2333<5,\"*\",ROUND((G2333*1),-1)))","v":60},1715500,28600]
[null,173,5,"FINANCE AND INSURANCE",52,63,514,23014385,861,{"$f":"IF(County!G2334=0,\"0\",IF(County!G2334<5,\"*\",ROUND((G2334*1),-1)))","v":510},23014400,45100]
[null,173,5,"REAL ESTATE AND RENTAL AND LEASING",53,28,168,4570435,523,{"$f":"IF(County!G2335=0,\"0\",IF(County!G2335<5,\"*\",ROUND((G2335*1),-1)))","v":170},4570400,26900]
[null,173,5,"PROFESSIONAL AND TECHNICAL SERVICES",54,115,617,34055310,1061,{"$f":"IF(County!G2336=0,\"0\",IF(County!G2336<5,\"*\",ROUND((G2336*1),-1)))","v":620},34055300,54900]
[null,173,5,"MANAGEMENT OF COMPANIES AND ENTERPRISES",55,4,8,488178,1174,{"$f":"IF(County!G2337=0,\"0\",IF(County!G2337<5,\"*\",ROUND((G2337*1),-1)))","v":10},488200,48800]
[null,173,5,"ADMINISTRATIVE AND WASTE SERVICES",56,60,326,7518268,444,{"$f":"IF(County!G2338=0,\"0\",IF(County!G2338<5,\"*\",ROUND((G2338*1),-1)))","v":330},7518300,22800]
[null,173,5,"EDUCATIONAL SERVICES",61,8,107,2213180,398,{"$f":"IF(County!G2339=0,\"0\",IF(County!G2339<5,\"*\",ROUND((G2339*1),-1)))","v":110},2213200,20100]
[null,173,5,"HEALTH CARE AND SOCIAL ASSISTANCE",62,112,3111,130792120,808,{"$f":"IF(County!G2340=0,\"0\",IF(County!G2340<5,\"*\",ROUND((G2340*1),-1)))","v":3110},130792100,42100]
[null,173,5,"ARTS, ENTERTAINMENT, AND RECREATION",71,16,254,5152702,390,{"$f":"IF(County!G2341=0,\"0\",IF(County!G2341<5,\"*\",ROUND((G2341*1),-1)))","v":250},5152700,20600]
[null,173,5,"ACCOMMODATION AND FOOD SERVICES",72,65,1045,13390153,246,{"$f":"IF(County!G2342=0,\"0\",IF(County!G2342<5,\"*\",ROUND((G2342*1),-1)))","v":1050},13390200,12800]
[null,173,5,"OTHER SERVICES, EXCEPT PUBLIC ADMIN",81,98,433,10751338,477,{"$f":"IF(County!G2343=0,\"0\",IF(County!G2343<5,\"*\",ROUND((G2343*1),-1)))","v":430},10751300,25000]
[null,173,3,"LOCAL GOVERNMENT",11,19,2046,66429992,624,{"$f":"IF(County!G2344=0,\"0\",IF(County!G2344<5,\"*\",ROUND((G2344*1),-1)))","v":2050},66430000,32400]
["D",173,3,"EDUCATIONAL SERVICES",61,1,1447,49691529,660,{"$f":"IF(County!G2345=0,\"0\",IF(County!G2345<5,\"*\",ROUND((G2345*1),-1)))","v":1450},49691500,34300]
[null,173,3,"HEALTH CARE AND SOCIAL ASSISTANCE",62,0,0,0,0,{"$f":"IF(County!G2346=0,\"0\",IF(County!G2346<5,\"*\",ROUND((G2346*1),-1)))","v":"0"},0,0]
[null,173,2,"STATE GOVERNMENT",11,12,68,2961750,838,{"$f":"IF(County!G2347=0,\"0\",IF(County!G2347<5,\"*\",ROUND((G2347*1),-1)))","v":70},2961800,42300]
[null,173,2,"EDUCATIONAL SERVICES",61,0,0,0,0,{"$f":"IF(County!G2348=0,\"0\",IF(County!G2348<5,\"*\",ROUND((G2348*1),-1)))","v":"0"},0,0]
[null,173,2,"HEALTH CARE AND SOCIAL ASSISTANCE",62,0,0,0,0,{"$f":"IF(County!G2349=0,\"0\",IF(County!G2349<5,\"*\",ROUND((G2349*1),-1)))","v":"0"},0,0]
[null,173,"U","TOTAL UI COVERED",11,1107,15507,658287655,816,{"$f":"IF(County!G2350=0,\"0\",IF(County!G2350<5,\"*\",ROUND((G2350*1),-1)))","v":15510},658287700,42400]
[null,173,1,"FEDERAL GOVERNMENT",11,9,104,5336918,987,{"$f":"IF(County!G2351=0,\"0\",IF(County!G2351<5,\"*\",ROUND((G2351*1),-1)))","v":100},5336900,53400]
[null,175,5,"AGRICULTURE, FORESTRY, FISHING AND HUNTI",11,12,73,2167905,571,{"$f":"IF(County!G2352=0,\"0\",IF(County!G2352<5,\"*\",ROUND((G2352*1),-1)))","v":70},2167900,31000]
["D",175,5,"MINING, QUARRYING, AND OIL AND GAS EXTRA",21,1,9,375345,802,{"$f":"IF(County!G2353=0,\"0\",IF(County!G2353<5,\"*\",ROUND((G2353*1),-1)))","v":10},375300,37500]
[null,175,5,"UTILITIES",22,4,14,766582,1053,{"$f":"IF(County!G2354=0,\"0\",IF(County!G2354<5,\"*\",ROUND((G2354*1),-1)))","v":10},766600,76700]
[null,175,5,"CONSTRUCTION",23,61,265,8648731,628,{"$f":"IF(County!G2355=0,\"0\",IF(County!G2355<5,\"*\",ROUND((G2355*1),-1)))","v":270},8648700,32000]
[null,175,5,"MANUFACTURING","31-33",33,1547,64669911,804,{"$f":"IF(County!G2356=0,\"0\",IF(County!G2356<5,\"*\",ROUND((G2356*1),-1)))","v":1550},64669900,41700]
[null,175,5,"WHOLESALE TRADE",42,25,110,3854128,674,{"$f":"IF(County!G2357=0,\"0\",IF(County!G2357<5,\"*\",ROUND((G2357*1),-1)))","v":110},3854100,35000]
[null,175,5,"RETAIL TRADE","44-45",70,802,19597690,470,{"$f":"IF(County!G2358=0,\"0\",IF(County!G2358<5,\"*\",ROUND((G2358*1),-1)))","v":800},19597700,24500]
[null,175,5,"TRANSPORTATION AND WAREHOUSING","48-49",21,58,1670654,554,{"$f":"IF(County!G2359=0,\"0\",IF(County!G2359<5,\"*\",ROUND((G2359*1),-1)))","v":60},1670700,27800]
[null,175,5,"INFORMATION",51,7,90,2770591,592,{"$f":"IF(County!G2360=0,\"0\",IF(County!G2360<5,\"*\",ROUND((G2360*1),-1)))","v":90},2770600,30800]
[null,175,5,"FINANCE AND INSURANCE",52,31,151,6642055,846,{"$f":"IF(County!G2361=0,\"0\",IF(County!G2361<5,\"*\",ROUND((G2361*1),-1)))","v":150},6642100,44300]
[null,175,5,"REAL ESTATE AND RENTAL AND LEASING",53,11,42,643910,295,{"$f":"IF(County!G2362=0,\"0\",IF(County!G2362<5,\"*\",ROUND((G2362*1),-1)))","v":40},643900,16100]
[null,175,5,"PROFESSIONAL AND TECHNICAL SERVICES",54,30,109,3161038,558,{"$f":"IF(County!G2363=0,\"0\",IF(County!G2363<5,\"*\",ROUND((G2363*1),-1)))","v":110},3161000,28700]
["D",175,5,"MANAGEMENT OF COMPANIES AND ENTERPRISES",55,1,3,247423,1586,{"$f":"IF(County!G2364=0,\"0\",IF(County!G2364<5,\"*\",ROUND((G2364*1),-1)))","v":"*"},247400,"*"]
[null,175,5,"ADMINISTRATIVE AND WASTE SERVICES",56,11,55,1194197,418,{"$f":"IF(County!G2365=0,\"0\",IF(County!G2365<5,\"*\",ROUND((G2365*1),-1)))","v":60},1194200,19900]
[null,175,5,"EDUCATIONAL SERVICES",61,0,0,0,0,{"$f":"IF(County!G2366=0,\"0\",IF(County!G2366<5,\"*\",ROUND((G2366*1),-1)))","v":"0"},0,0]
[null,175,5,"HEALTH CARE AND SOCIAL ASSISTANCE",62,38,665,21759177,629,{"$f":"IF(County!G2367=0,\"0\",IF(County!G2367<5,\"*\",ROUND((G2367*1),-1)))","v":670},21759200,32500]
[null,175,5,"ARTS, ENTERTAINMENT, AND RECREATION",71,4,25,324610,250,{"$f":"IF(County!G2368=0,\"0\",IF(County!G2368<5,\"*\",ROUND((G2368*1),-1)))","v":30},324600,10800]
[null,175,5,"ACCOMMODATION AND FOOD SERVICES",72,29,454,5283940,224,{"$f":"IF(County!G2369=0,\"0\",IF(County!G2369<5,\"*\",ROUND((G2369*1),-1)))","v":450},5283900,11700]
[null,175,5,"OTHER SERVICES, EXCEPT PUBLIC ADMIN",81,33,166,2550102,295,{"$f":"IF(County!G2370=0,\"0\",IF(County!G2370<5,\"*\",ROUND((G2370*1),-1)))","v":170},2550100,15000]
[null,175,3,"LOCAL GOVERNMENT",11,19,1077,34558259,617,{"$f":"IF(County!G2371=0,\"0\",IF(County!G2371<5,\"*\",ROUND((G2371*1),-1)))","v":1080},34558300,32000]
[null,175,3,"EDUCATIONAL SERVICES",61,6,786,25437996,622,{"$f":"IF(County!G2372=0,\"0\",IF(County!G2372<5,\"*\",ROUND((G2372*1),-1)))","v":790},25438000,{"$f":"IF(G2372=0,0,IF(J2372=\"*\",\"*\",ROUND((K2372/J2372),-2)))","v":32200}]
["D",175,3,"HEALTH CARE AND SOCIAL ASSISTANCE",62,1,11,824341,1441,{"$f":"IF(County!G2373=0,\"0\",IF(County!G2373<5,\"*\",ROUND((G2373*1),-1)))","v":10},824300,82400]
[null,175,2,"STATE GOVERNMENT",11,13,50,1862500,716,{"$f":"IF(County!G2374=0,\"0\",IF(County!G2374<5,\"*\",ROUND((G2374*1),-1)))","v":50},1862500,37300]
[null,175,2,"EDUCATIONAL SERVICES",61,0,0,0,0,{"$f":"IF(County!G2375=0,\"0\",IF(County!G2375<5,\"*\",ROUND((G2375*1),-1)))","v":"0"},0,0]
[null,175,2,"HEALTH CARE AND SOCIAL ASSISTANCE",62,0,0,0,0,{"$f":"IF(County!G2376=0,\"0\",IF(County!G2376<5,\"*\",ROUND((G2376*1),-1)))","v":"0"},0,0]
[null,175,"U","TOTAL UI COVERED",11,451,5764,182748748,610,{"$f":"IF(County!G2377=0,\"0\",IF(County!G2377<5,\"*\",ROUND((G2377*1),-1)))","v":5760},{"$f":"ROUND((H2377),-2)","v":182748700},31700]
[null,175,1,"FEDERAL GOVERNMENT",11,5,55,2673211,935,{"$f":"IF(County!G2378=0,\"0\",IF(County!G2378<5,\"*\",ROUND((G2378*1),-1)))","v":60},2673200,44600]
[null,177,5,"AGRICULTURE, FORESTRY, FISHING AND HUNTI",11,12,196,5739353,563,{"$f":"IF(County!G2379=0,\"0\",IF(County!G2379<5,\"*\",ROUND((G2379*1),-1)))","v":200},5739400,28700]
[null,177,5,"MINING, QUARRYING, AND OIL AND GAS EXTRA",21,3,19,721230,730,{"$f":"IF(County!G2380=0,\"0\",IF(County!G2380<5,\"*\",ROUND((G2380*1),-1)))","v":20},721200,36100]
[null,177,5,"UTILITIES",22,4,46,3670616,1535,{"$f":"IF(County!G2381=0,\"0\",IF(County!G2381<5,\"*\",ROUND((G2381*1),-1)))","v":50},3670600,73400]
[null,177,5,"CONSTRUCTION",23,114,644,24515959,732,{"$f":"IF(County!G2382=0,\"0\",IF(County!G2382<5,\"*\",ROUND((G2382*1),-1)))","v":640},24516000,38300]
[null,177,5,"MANUFACTURING","31-33",113,5508,255868209,893,{"$f":"IF(County!G2383=0,\"0\",IF(County!G2383<5,\"*\",ROUND((G2383*1),-1)))","v":5510},255868200,46400]
[null,177,5,"WHOLESALE TRADE",42,75,876,40479938,889,{"$f":"IF(County!G2384=0,\"0\",IF(County!G2384<5,\"*\",ROUND((G2384*1),-1)))","v":880},40479900,46000]
[null,177,5,"RETAIL TRADE","44-45",244,4158,97934203,453,{"$f":"IF(County!G2385=0,\"0\",IF(County!G2385<5,\"*\",ROUND((G2385*1),-1)))","v":4160},97934200,23500]
[null,177,5,"TRANSPORTATION AND WAREHOUSING","48-49",44,762,34347551,867,{"$f":"IF(County!G2386=0,\"0\",IF(County!G2386<5,\"*\",ROUND((G2386*1),-1)))","v":760},34347600,45200]
[null,177,5,"INFORMATION",51,13,235,8017483,656,{"$f":"IF(County!G2387=0,\"0\",IF(County!G2387<5,\"*\",ROUND((G2387*1),-1)))","v":240},8017500,33400]
[null,177,5,"FINANCE AND INSURANCE",52,95,880,37394528,817,{"$f":"IF(County!G2388=0,\"0\",IF(County!G2388<5,\"*\",ROUND((G2388*1),-1)))","v":880},37394500,42500]
[null,177,5,"REAL ESTATE AND RENTAL AND LEASING",53,49,161,4420151,528,{"$f":"IF(County!G2389=0,\"0\",IF(County!G2389<5,\"*\",ROUND((G2389*1),-1)))","v":160},4420200,27600]
[null,177,5,"PROFESSIONAL AND TECHNICAL SERVICES",54,109,485,20179562,800,{"$f":"IF(County!G2390=0,\"0\",IF(County!G2390<5,\"*\",ROUND((G2390*1),-1)))","v":490},20179600,41200]
["D",177,5,"MANAGEMENT OF COMPANIES AND ENTERPRISES",55,6,242,20171748,1603,{"$f":"IF(County!G2391=0,\"0\",IF(County!G2391<5,\"*\",ROUND((G2391*1),-1)))","v":240},20171700,84000]
[null,177,5,"ADMINISTRATIVE AND WASTE SERVICES",56,65,1672,45038560,518,{"$f":"IF(County!G2392=0,\"0\",IF(County!G2392<5,\"*\",ROUND((G2392*1),-1)))","v":1670},45038600,27000]
["D",177,5,"EDUCATIONAL SERVICES",61,14,612,22324612,702,{"$f":"IF(County!G2393=0,\"0\",IF(County!G2393<5,\"*\",ROUND((G2393*1),-1)))","v":610},22324600,36600]
[null,177,5,"HEALTH CARE AND SOCIAL ASSISTANCE",62,152,5156,221702307,827,{"$f":"IF(County!G2394=0,\"0\",IF(County!G2394<5,\"*\",ROUND((G2394*1),-1)))","v":5160},221702300,43000]
[null,177,5,"ARTS, ENTERTAINMENT, AND RECREATION",71,22,170,3056489,346,{"$f":"IF(County!G2395=0,\"0\",IF(County!G2395<5,\"*\",ROUND((G2395*1),-1)))","v":170},3056500,18000]
[null,177,5,"ACCOMMODATION AND FOOD SERVICES",72,146,3021,41692184,265,{"$f":"IF(County!G2396=0,\"0\",IF(County!G2396<5,\"*\",ROUND((G2396*1),-1)))","v":3020},41692200,13800]
[null,177,5,"OTHER SERVICES, EXCEPT PUBLIC ADMIN",81,127,638,14322863,432,{"$f":"IF(County!G2397=0,\"0\",IF(County!G2397<5,\"*\",ROUND((G2397*1),-1)))","v":640},14322900,22400]
[null,177,3,"LOCAL GOVERNMENT",11,28,2810,92817804,635,{"$f":"IF(County!G2398=0,\"0\",IF(County!G2398<5,\"*\",ROUND((G2398*1),-1)))","v":2810},92817800,33000]
[null,177,3,"EDUCATIONAL SERVICES",61,6,1695,52292411,593,{"$f":"IF(County!G2399=0,\"0\",IF(County!G2399<5,\"*\",ROUND((G2399*1),-1)))","v":1700},52292400,30800]
[null,177,3,"HEALTH CARE AND SOCIAL ASSISTANCE",62,0,0,0,0,{"$f":"IF(County!G2400=0,\"0\",IF(County!G2400<5,\"*\",ROUND((G2400*1),-1)))","v":"0"},0,0]
[null,177,2,"STATE GOVERNMENT",11,15,1438,46201863,618,{"$f":"IF(County!G2401=0,\"0\",IF(County!G2401<5,\"*\",ROUND((G2401*1),-1)))","v":1440},46201900,32100]
["D",177,2,"EDUCATIONAL SERVICES",61,2,880,23924357,523,{"$f":"IF(County!G2402=0,\"0\",IF(County!G2402<5,\"*\",ROUND((G2402*1),-1)))","v":880},23924400,27200]
["D",177,2,"HEALTH CARE AND SOCIAL ASSISTANCE",62,1,427,17314069,780,{"$f":"IF(County!G2403=0,\"0\",IF(County!G2403<5,\"*\",ROUND((G2403*1),-1)))","v":430},17314100,40300]
[null,177,"U","TOTAL UI COVERED",11,1449,29728,1040617213,673,{"$f":"IF(County!G2404=0,\"0\",IF(County!G2404<5,\"*\",ROUND((G2404*1),-1)))","v":29730},1040617200,35000]
[null,177,1,"FEDERAL GOVERNMENT",11,19,156,9100650,1122,{"$f":"IF(County!G2405=0,\"0\",IF(County!G2405<5,\"*\",ROUND((G2405*1),-1)))","v":160},9100700,56900]
[null,179,5,"AGRICULTURE, FORESTRY, FISHING AND HUNTI",11,23,155,4618015,573,{"$f":"IF(County!G2406=0,\"0\",IF(County!G2406<5,\"*\",ROUND((G2406*1),-1)))","v":160},4618000,28900]
["D",179,5,"MINING, QUARRYING, AND OIL AND GAS EXTRA",21,1,11,503658,881,{"$f":"IF(County!G2407=0,\"0\",IF(County!G2407<5,\"*\",ROUND((G2407*1),-1)))","v":10},503700,50400]
["D",179,5,"UTILITIES",22,2,8,597483,1436,{"$f":"IF(County!G2408=0,\"0\",IF(County!G2408<5,\"*\",ROUND((G2408*1),-1)))","v":10},597500,59800]
[null,179,5,"CONSTRUCTION",23,71,356,13512141,730,{"$f":"IF(County!G2409=0,\"0\",IF(County!G2409<5,\"*\",ROUND((G2409*1),-1)))","v":360},13512100,37500]
[null,179,5,"MANUFACTURING","31-33",54,2525,109323739,833,{"$f":"IF(County!G2410=0,\"0\",IF(County!G2410<5,\"*\",ROUND((G2410*1),-1)))","v":2530},109323700,43200]
[null,179,5,"WHOLESALE TRADE",42,49,465,27244970,1127,{"$f":"IF(County!G2411=0,\"0\",IF(County!G2411<5,\"*\",ROUND((G2411*1),-1)))","v":470},27245000,58000]
[null,179,5,"RETAIL TRADE","44-45",80,1018,22308680,421,{"$f":"IF(County!G2412=0,\"0\",IF(County!G2412<5,\"*\",ROUND((G2412*1),-1)))","v":1020},22308700,21900]
[null,179,5,"TRANSPORTATION AND WAREHOUSING","48-49",26,1421,49476326,670,{"$f":"IF(County!G2413=0,\"0\",IF(County!G2413<5,\"*\",ROUND((G2413*1),-1)))","v":1420},49476300,34800]
[null,179,5,"INFORMATION",51,5,61,1938446,611,{"$f":"IF(County!G2414=0,\"0\",IF(County!G2414<5,\"*\",ROUND((G2414*1),-1)))","v":60},1938400,32300]
[null,179,5,"FINANCE AND INSURANCE",52,39,184,7698858,805,{"$f":"IF(County!G2415=0,\"0\",IF(County!G2415<5,\"*\",ROUND((G2415*1),-1)))","v":180},7698900,42800]
[null,179,5,"REAL ESTATE AND RENTAL AND LEASING",53,22,192,36013814,3607,{"$f":"IF(County!G2416=0,\"0\",IF(County!G2416<5,\"*\",ROUND((G2416*1),-1)))","v":190},36013800,189500]
[null,179,5,"PROFESSIONAL AND TECHNICAL SERVICES",54,34,168,6698284,767,{"$f":"IF(County!G2417=0,\"0\",IF(County!G2417<5,\"*\",ROUND((G2417*1),-1)))","v":170},6698300,39400]
["D",179,5,"MANAGEMENT OF COMPANIES AND ENTERPRISES",55,2,275,37215222,2602,{"$f":"IF(County!G2418=0,\"0\",IF(County!G2418<5,\"*\",ROUND((G2418*1),-1)))","v":280},37215200,132900]
[null,179,5,"ADMINISTRATIVE AND WASTE SERVICES",56,28,366,6598955,347,{"$f":"IF(County!G2419=0,\"0\",IF(County!G2419<5,\"*\",ROUND((G2419*1),-1)))","v":370},6599000,17800]
[null,179,5,"EDUCATIONAL SERVICES",61,4,9,265236,567,{"$f":"IF(County!G2420=0,\"0\",IF(County!G2420<5,\"*\",ROUND((G2420*1),-1)))","v":10},265200,26500]
[null,179,5,"HEALTH CARE AND SOCIAL ASSISTANCE",62,45,1609,54739463,654,{"$f":"IF(County!G2421=0,\"0\",IF(County!G2421<5,\"*\",ROUND((G2421*1),-1)))","v":1610},54739500,34000]
[null,179,5,"ARTS, ENTERTAINMENT, AND RECREATION",71,5,41,350274,164,{"$f":"IF(County!G2422=0,\"0\",IF(County!G2422<5,\"*\",ROUND((G2422*1),-1)))","v":40},350300,8800]
[null,179,5,"ACCOMMODATION AND FOOD SERVICES",72,37,542,5522965,196,{"$f":"IF(County!G2423=0,\"0\",IF(County!G2423<5,\"*\",ROUND((G2423*1),-1)))","v":540},5523000,10200]
[null,179,5,"OTHER SERVICES, EXCEPT PUBLIC ADMIN",81,59,271,6190006,439,{"$f":"IF(County!G2424=0,\"0\",IF(County!G2424<5,\"*\",ROUND((G2424*1),-1)))","v":270},6190000,22900]
[null,179,3,"LOCAL GOVERNMENT",11,11,1090,34714531,612,{"$f":"IF(County!G2425=0,\"0\",IF(County!G2425<5,\"*\",ROUND((G2425*1),-1)))","v":1090},34714500,31800]
[null,179,3,"EDUCATIONAL SERVICES",61,6,730,24212590,638,{"$f":"IF(County!G2426=0,\"0\",IF(County!G2426<5,\"*\",ROUND((G2426*1),-1)))","v":730},24212600,33200]
[null,179,3,"HEALTH CARE AND SOCIAL ASSISTANCE",62,0,0,0,0,{"$f":"IF(County!G2427=0,\"0\",IF(County!G2427<5,\"*\",ROUND((G2427*1),-1)))","v":"0"},0,0]
[null,179,2,"STATE GOVERNMENT",11,12,88,3322902,726,{"$f":"IF(County!G2428=0,\"0\",IF(County!G2428<5,\"*\",ROUND((G2428*1),-1)))","v":90},3322900,36900]
[null,179,2,"EDUCATIONAL SERVICES",61,0,0,0,0,{"$f":"IF(County!G2429=0,\"0\",IF(County!G2429<5,\"*\",ROUND((G2429*1),-1)))","v":"0"},0,0]
[null,179,2,"HEALTH CARE AND SOCIAL ASSISTANCE",62,0,0,0,0,{"$f":"IF(County!G2430=0,\"0\",IF(County!G2430<5,\"*\",ROUND((G2430*1),-1)))","v":"0"},0,0]
[null,179,"U","TOTAL UI COVERED",11,606,10853,428853968,760,{"$f":"IF(County!G2431=0,\"0\",IF(County!G2431<5,\"*\",ROUND((G2431*1),-1)))","v":10850},428854000,39500]
[null,179,1,"FEDERAL GOVERNMENT",11,12,57,2584870,872,{"$f":"IF(County!G2432=0,\"0\",IF(County!G2432<5,\"*\",ROUND((G2432*1),-1)))","v":60},2584900,43100]
[null,181,5,"AGRICULTURE, FORESTRY, FISHING AND HUNTI",11,31,275,12587593,880,{"$f":"IF(County!G2433=0,\"0\",IF(County!G2433<5,\"*\",ROUND((G2433*1),-1)))","v":280},12587600,45000]
["D",181,5,"MINING, QUARRYING, AND OIL AND GAS EXTRA",21,3,86,4818861,1078,{"$f":"IF(County!G2434=0,\"0\",IF(County!G2434<5,\"*\",ROUND((G2434*1),-1)))","v":90},4818900,53500]
[null,181,5,"UTILITIES",22,3,103,9039043,1688,{"$f":"IF(County!G2435=0,\"0\",IF(County!G2435<5,\"*\",ROUND((G2435*1),-1)))","v":100},9039000,90400]
[null,181,5,"CONSTRUCTION",23,75,552,30282555,1055,{"$f":"IF(County!G2436=0,\"0\",IF(County!G2436<5,\"*\",ROUND((G2436*1),-1)))","v":550},30282600,{"$f":"IF(G2436=0,0,IF(J2436=\"*\",\"*\",ROUND((K2436/J2436),-2)))","v":55100}]
[null,181,5,"MANUFACTURING","31-33",48,2540,107318644,813,{"$f":"IF(County!G2437=0,\"0\",IF(County!G2437<5,\"*\",ROUND((G2437*1),-1)))","v":2540},107318600,42300]
[null,181,5,"WHOLESALE TRADE",42,42,394,16379201,799,{"$f":"IF(County!G2438=0,\"0\",IF(County!G2438<5,\"*\",ROUND((G2438*1),-1)))","v":390},16379200,42000]
[null,181,5,"RETAIL TRADE","44-45",86,1120,32436015,557,{"$f":"IF(County!G2439=0,\"0\",IF(County!G2439<5,\"*\",ROUND((G2439*1),-1)))","v":1120},32436000,29000]
[null,181,5,"TRANSPORTATION AND WAREHOUSING","48-49",54,256,9521218,715,{"$f":"IF(County!G2440=0,\"0\",IF(County!G2440<5,\"*\",ROUND((G2440*1),-1)))","v":260},9521200,36600]
[null,181,5,"INFORMATION",51,11,61,2579683,813,{"$f":"IF(County!G2441=0,\"0\",IF(County!G2441<5,\"*\",ROUND((G2441*1),-1)))","v":60},{"$f":"ROUND((H2441),-2)","v":2579700},43000]
[null,181,5,"FINANCE AND INSURANCE",52,39,200,8094223,778,{"$f":"IF(County!G2442=0,\"0\",IF(County!G2442<5,\"*\",ROUND((G2442*1),-1)))","v":200},8094200,40500]
[null,181,5,"REAL ESTATE AND RENTAL AND LEASING",53,20,43,779103,348,{"$f":"IF(County!G2443=0,\"0\",IF(County!G2443<5,\"*\",ROUND((G2443*1),-1)))","v":40},779100,19500]
[null,181,5,"PROFESSIONAL AND TECHNICAL SERVICES",54,36,106,4812174,873,{"$f":"IF(County!G2444=0,\"0\",IF(County!G2444<5,\"*\",ROUND((G2444*1),-1)))","v":110},4812200,43700]
["D",181,5,"MANAGEMENT OF COMPANIES AND ENTERPRISES",55,1,0,0,0,{"$f":"IF(County!G2445=0,\"0\",IF(County!G2445<5,\"*\",ROUND((G2445*1),-1)))","v":"0"},0,0]
[null,181,5,"ADMINISTRATIVE AND WASTE SERVICES",56,29,349,8610027,474,{"$f":"IF(County!G2446=0,\"0\",IF(County!G2446<5,\"*\",ROUND((G2446*1),-1)))","v":350},8610000,24600]
["D",181,5,"EDUCATIONAL SERVICES",61,2,11,94198,165,{"$f":"IF(County!G2447=0,\"0\",IF(County!G2447<5,\"*\",ROUND((G2447*1),-1)))","v":10},94200,9400]
[null,181,5,"HEALTH CARE AND SOCIAL ASSISTANCE",62,37,802,23157685,555,{"$f":"IF(County!G2448=0,\"0\",IF(County!G2448<5,\"*\",ROUND((G2448*1),-1)))","v":800},23157700,28900]
["D",181,5,"ARTS, ENTERTAINMENT, AND RECREATION",71,6,233,3627003,299,{"$f":"IF(County!G2449=0,\"0\",IF(County!G2449<5,\"*\",ROUND((G2449*1),-1)))","v":230},3627000,15800]
[null,181,5,"ACCOMMODATION AND FOOD SERVICES",72,57,600,6473316,207,{"$f":"IF(County!G2450=0,\"0\",IF(County!G2450<5,\"*\",ROUND((G2450*1),-1)))","v":600},6473300,10800]
[null,181,5,"OTHER SERVICES, EXCEPT PUBLIC ADMIN",81,41,136,3024090,428,{"$f":"IF(County!G2451=0,\"0\",IF(County!G2451<5,\"*\",ROUND((G2451*1),-1)))","v":140},3024100,21600]
[null,181,3,"LOCAL GOVERNMENT",11,25,1323,35324232,513,{"$f":"IF(County!G2452=0,\"0\",IF(County!G2452<5,\"*\",ROUND((G2452*1),-1)))","v":1320},35324200,26800]
[null,181,3,"EDUCATIONAL SERVICES",61,8,837,23800976,547,{"$f":"IF(County!G2453=0,\"0\",IF(County!G2453<5,\"*\",ROUND((G2453*1),-1)))","v":840},23801000,28300]
[null,181,3,"HEALTH CARE AND SOCIAL ASSISTANCE",62,0,0,0,0,{"$f":"IF(County!G2454=0,\"0\",IF(County!G2454<5,\"*\",ROUND((G2454*1),-1)))","v":"0"},0,0]
[null,181,2,"STATE GOVERNMENT",11,13,45,1775637,759,{"$f":"IF(County!G2455=0,\"0\",IF(County!G2455<5,\"*\",ROUND((G2455*1),-1)))","v":50},1775600,35500]
[null,181,2,"EDUCATIONAL SERVICES",61,0,0,0,0,{"$f":"IF(County!G2456=0,\"0\",IF(County!G2456<5,\"*\",ROUND((G2456*1),-1)))","v":"0"},0,0]
[null,181,2,"HEALTH CARE AND SOCIAL ASSISTANCE",62,0,0,0,0,{"$f":"IF(County!G2457=0,\"0\",IF(County!G2457<5,\"*\",ROUND((G2457*1),-1)))","v":"0"},0,0]
[null,181,"U","TOTAL UI COVERED",11,658,9234,320734501,668,{"$f":"IF(County!G2458=0,\"0\",IF(County!G2458<5,\"*\",ROUND((G2458*1),-1)))","v":9230},320734500,34700]
[null,181,1,"FEDERAL GOVERNMENT",11,11,59,2388125,778,{"$f":"IF(County!G2459=0,\"0\",IF(County!G2459<5,\"*\",ROUND((G2459*1),-1)))","v":60},2388100,39800]
[null,183,5,"AGRICULTURE, FORESTRY, FISHING AND HUNTI",11,11,67,1659687,476,{"$f":"IF(County!G2460=0,\"0\",IF(County!G2460<5,\"*\",ROUND((G2460*1),-1)))","v":70},1659700,23700]
[null,183,5,"MINING, QUARRYING, AND OIL AND GAS EXTRA",21,0,0,0,0,{"$f":"IF(County!G2461=0,\"0\",IF(County!G2461<5,\"*\",ROUND((G2461*1),-1)))","v":"0"},0,0]
["D",183,5,"UTILITIES",22,1,69,5252182,1464,{"$f":"IF(County!G2462=0,\"0\",IF(County!G2462<5,\"*\",ROUND((G2462*1),-1)))","v":70},5252200,75000]
[null,183,5,"CONSTRUCTION",23,76,541,23215389,825,{"$f":"IF(County!G2463=0,\"0\",IF(County!G2463<5,\"*\",ROUND((G2463*1),-1)))","v":540},23215400,43000]
[null,183,5,"MANUFACTURING","31-33",66,4599,226936112,949,{"$f":"IF(County!G2464=0,\"0\",IF(County!G2464<5,\"*\",ROUND((G2464*1),-1)))","v":4600},226936100,49300]
[null,183,5,"WHOLESALE TRADE",42,46,450,22006781,940,{"$f":"IF(County!G2465=0,\"0\",IF(County!G2465<5,\"*\",ROUND((G2465*1),-1)))","v":450},22006800,48900]
[null,183,5,"RETAIL TRADE","44-45",94,1071,26868842,482,{"$f":"IF(County!G2466=0,\"0\",IF(County!G2466<5,\"*\",ROUND((G2466*1),-1)))","v":1070},26868800,25100]
[null,183,5,"TRANSPORTATION AND WAREHOUSING","48-49",24,200,8191416,788,{"$f":"IF(County!G2467=0,\"0\",IF(County!G2467<5,\"*\",ROUND((G2467*1),-1)))","v":200},8191400,41000]
[null,183,5,"INFORMATION",51,10,95,3344021,677,{"$f":"IF(County!G2468=0,\"0\",IF(County!G2468<5,\"*\",ROUND((G2468*1),-1)))","v":100},3344000,33400]
[null,183,5,"FINANCE AND INSURANCE",52,44,182,7922526,837,{"$f":"IF(County!G2469=0,\"0\",IF(County!G2469<5,\"*\",ROUND((G2469*1),-1)))","v":180},7922500,44000]
[null,183,5,"REAL ESTATE AND RENTAL AND LEASING",53,19,65,2824123,836,{"$f":"IF(County!G2470=0,\"0\",IF(County!G2470<5,\"*\",ROUND((G2470*1),-1)))","v":70},2824100,40300]
[null,183,5,"PROFESSIONAL AND TECHNICAL SERVICES",54,45,164,5976965,701,{"$f":"IF(County!G2471=0,\"0\",IF(County!G2471<5,\"*\",ROUND((G2471*1),-1)))","v":160},5977000,37400]
[null,183,5,"MANAGEMENT OF COMPANIES AND ENTERPRISES",55,3,81,4042063,960,{"$f":"IF(County!G2472=0,\"0\",IF(County!G2472<5,\"*\",ROUND((G2472*1),-1)))","v":80},4042100,50500]
[null,183,5,"ADMINISTRATIVE AND WASTE SERVICES",56,39,326,7727236,456,{"$f":"IF(County!G2473=0,\"0\",IF(County!G2473<5,\"*\",ROUND((G2473*1),-1)))","v":330},7727200,23400]
[null,183,5,"EDUCATIONAL SERVICES",61,4,8,194999,469,{"$f":"IF(County!G2474=0,\"0\",IF(County!G2474<5,\"*\",ROUND((G2474*1),-1)))","v":10},195000,19500]
[null,183,5,"HEALTH CARE AND SOCIAL ASSISTANCE",62,47,995,30488858,589,{"$f":"IF(County!G2475=0,\"0\",IF(County!G2475<5,\"*\",ROUND((G2475*1),-1)))","v":1000},30488900,30500]
[null,183,5,"ARTS, ENTERTAINMENT, AND RECREATION",71,12,86,1070686,239,{"$f":"IF(County!G2476=0,\"0\",IF(County!G2476<5,\"*\",ROUND((G2476*1),-1)))","v":90},1070700,11900]
[null,183,5,"ACCOMMODATION AND FOOD SERVICES",72,53,863,9430671,210,{"$f":"IF(County!G2477=0,\"0\",IF(County!G2477<5,\"*\",ROUND((G2477*1),-1)))","v":860},9430700,11000]
[null,183,5,"OTHER SERVICES, EXCEPT PUBLIC ADMIN",81,73,468,10958156,450,{"$f":"IF(County!G2478=0,\"0\",IF(County!G2478<5,\"*\",ROUND((G2478*1),-1)))","v":470},10958200,23300]
[null,183,3,"LOCAL GOVERNMENT",11,17,1297,41384123,614,{"$f":"IF(County!G2479=0,\"0\",IF(County!G2479<5,\"*\",ROUND((G2479*1),-1)))","v":1300},41384100,31800]
[null,183,3,"EDUCATIONAL SERVICES",61,5,868,28069521,622,{"$f":"IF(County!G2480=0,\"0\",IF(County!G2480<5,\"*\",ROUND((G2480*1),-1)))","v":870},28069500,32300]
[null,183,3,"HEALTH CARE AND SOCIAL ASSISTANCE",62,0,0,0,0,{"$f":"IF(County!G2481=0,\"0\",IF(County!G2481<5,\"*\",ROUND((G2481*1),-1)))","v":"0"},0,0]
[null,183,2,"STATE GOVERNMENT",11,12,68,2635247,745,{"$f":"IF(County!G2482=0,\"0\",IF(County!G2482<5,\"*\",ROUND((G2482*1),-1)))","v":70},2635200,37600]
[null,183,2,"EDUCATIONAL SERVICES",61,0,0,0,0,{"$f":"IF(County!G2483=0,\"0\",IF(County!G2483<5,\"*\",ROUND((G2483*1),-1)))","v":"0"},0,0]
[null,183,2,"HEALTH CARE AND SOCIAL ASSISTANCE",62,0,0,0,0,{"$f":"IF(County!G2484=0,\"0\",IF(County!G2484<5,\"*\",ROUND((G2484*1),-1)))","v":"0"},0,0]
[null,183,"U","TOTAL UI COVERED",11,695,11696,442130083,727,{"$f":"IF(County!G2485=0,\"0\",IF(County!G2485<5,\"*\",ROUND((G2485*1),-1)))","v":11700},442130100,37800]
[null,183,1,"FEDERAL GOVERNMENT",11,7,70,3506067,963,{"$f":"IF(County!G2486=0,\"0\",IF(County!G2486<5,\"*\",ROUND((G2486*1),-1)))","v":70},3506100,50100]
["D",995,5,"AGRICULTURE, FORESTRY, FISHING AND HUNTI",11,19,106,6907337,null,{"$f":"IF(County!G2487=0,\"0\",IF(County!G2487<5,\"*\",ROUND((G2487*1),-1)))","v":110},6907300,62800]
["D",999,5,"MINING, QUARRYING, AND OIL AND GAS EXTRA",21,18,54,3383468,null,{"$f":"IF(County!G2488=0,\"0\",IF(County!G2488<5,\"*\",ROUND((G2488*1),-1)))","v":50},3383500,67700]
["D",999,5,"UTILITIES",22,13,20,2400469,null,{"$f":"IF(County!G2489=0,\"0\",IF(County!G2489<5,\"*\",ROUND((G2489*1),-1)))","v":20},2400500,120000]
[null,999,5,"CONSTRUCTION",23,890,4572,311342502,null,{"$f":"IF(County!G2490=0,\"0\",IF(County!G2490<5,\"*\",ROUND((G2490*1),-1)))","v":4570},311342500,68100]
[null,999,5,"MANUFACTURING","31-33",72,437,23855526,null,{"$f":"IF(County!G2491=0,\"0\",IF(County!G2491<5,\"*\",ROUND((G2491*1),-1)))","v":440},23855500,54200]
[null,999,5,"WHOLESALE TRADE",42,3745,11206,1038867464,null,{"$f":"IF(County!G2492=0,\"0\",IF(County!G2492<5,\"*\",ROUND((G2492*1),-1)))","v":11210},1038867500,92700]
[null,999,5,"RETAIL TRADE","44-45",234,2497,106965393,null,{"$f":"IF(County!G2493=0,\"0\",IF(County!G2493<5,\"*\",ROUND((G2493*1),-1)))","v":2500},106965400,42800]
[null,999,5,"TRANSPORTATION AND WAREHOUSING","48-49",354,1846,89671217,null,{"$f":"IF(County!G2494=0,\"0\",IF(County!G2494<5,\"*\",ROUND((G2494*1),-1)))","v":1850},89671200,48500]
[null,999,5,"INFORMATION",51,361,1171,99612729,null,{"$f":"IF(County!G2495=0,\"0\",IF(County!G2495<5,\"*\",ROUND((G2495*1),-1)))","v":1170},99612700,85100]
[null,999,5,"FINANCE AND INSURANCE",52,660,2861,263725534,null,{"$f":"IF(County!G2496=0,\"0\",IF(County!G2496<5,\"*\",ROUND((G2496*1),-1)))","v":2860},263725500,92200]
[null,999,5,"REAL ESTATE AND RENTAL AND LEASING",53,167,598,27142389,null,{"$f":"IF(County!G2497=0,\"0\",IF(County!G2497<5,\"*\",ROUND((G2497*1),-1)))","v":600},27142400,45200]
[null,999,5,"PROFESSIONAL AND TECHNICAL SERVICES",54,3070,10307,648392391,null,{"$f":"IF(County!G2498=0,\"0\",IF(County!G2498<5,\"*\",ROUND((G2498*1),-1)))","v":10310},648392400,62900]
[null,999,5,"MANAGEMENT OF COMPANIES AND ENTERPRISES",55,202,1296,99340603,null,{"$f":"IF(County!G2499=0,\"0\",IF(County!G2499<5,\"*\",ROUND((G2499*1),-1)))","v":1300},99340600,76400]
[null,999,5,"ADMINISTRATIVE AND WASTE SERVICES",56,1420,12428,391643377,null,{"$f":"IF(County!G2500=0,\"0\",IF(County!G2500<5,\"*\",ROUND((G2500*1),-1)))","v":12430},391643400,{"$f":"IF(G2500=0,0,IF(J2500=\"*\",\"*\",ROUND((K2500/J2500),-2)))","v":31500}]
[null,999,5,"EDUCATIONAL SERVICES",61,214,858,40315528,null,{"$f":"IF(County!G2501=0,\"0\",IF(County!G2501<5,\"*\",ROUND((G2501*1),-1)))","v":860},40315500,46900]
[null,999,5,"HEALTH CARE AND SOCIAL ASSISTANCE",62,324,9515,355207456,null,{"$f":"IF(County!G2502=0,\"0\",IF(County!G2502<5,\"*\",ROUND((G2502*1),-1)))","v":9520},355207500,37300]
[null,999,5,"ARTS, ENTERTAINMENT, AND RECREATION",71,118,268,12621944,null,{"$f":"IF(County!G2503=0,\"0\",IF(County!G2503<5,\"*\",ROUND((G2503*1),-1)))","v":270},12621900,46700]
[null,999,5,"ACCOMMODATION AND FOOD SERVICES",72,100,1725,36773595,null,{"$f":"IF(County!G2504=0,\"0\",IF(County!G2504<5,\"*\",ROUND((G2504*1),-1)))","v":1730},36773600,21300]
[null,999,5,"OTHER SERVICES, EXCEPT PUBLIC ADMIN",81,385,1474,65089181,null,{"$f":"IF(County!G2505=0,\"0\",IF(County!G2505<5,\"*\",ROUND((G2505*1),-1)))","v":1470},{"$f":"ROUND((H2505),-2)","v":65089200},44300]
["D",999,3,"LOCAL GOVERNMENT",11,0,4,202400,null,{"$f":"IF(County!G2506=0,\"0\",IF(County!G2506<5,\"*\",ROUND((G2506*1),-1)))","v":"*"},202400,"*"]
["D",999,3,"EDUCATIONAL SERVICES",61,0,4,202400,null,{"$f":"IF(County!G2507=0,\"0\",IF(County!G2507<5,\"*\",ROUND((G2507*1),-1)))","v":"*"},202400,"*"]
[null,999,3,"HEALTH CARE AND SOCIAL ASSISTANCE",62,0,0,0,null,{"$f":"IF(County!G2508=0,\"0\",IF(County!G2508<5,\"*\",ROUND((G2508*1),-1)))","v":"0"},0,0]
["D",999,2,"STATE GOVERNMENT",11,10,163,10269562,null,{"$f":"IF(County!G2509=0,\"0\",IF(County!G2509<5,\"*\",ROUND((G2509*1),-1)))","v":160},10269600,64200]
["D",999,2,"EDUCATIONAL SERVICES",61,5,5,188022,null,{"$f":"IF(County!G2510=0,\"0\",IF(County!G2510<5,\"*\",ROUND((G2510*1),-1)))","v":10},188000,18800]
[null,999,2,"HEALTH CARE AND SOCIAL ASSISTANCE",62,0,0,0,null,{"$f":"IF(County!G2511=0,\"0\",IF(County!G2511<5,\"*\",ROUND((G2511*1),-1)))","v":"0"},0,0]
[null,999,"U","TOTAL UI COVERED",11,13764,63382,3633869304,null,{"$f":"IF(County!G2512=0,\"0\",IF(County!G2512<5,\"*\",ROUND((G2512*1),-1)))","v":63380},3633869300,57300]
[null,999,1,"FEDERAL GOVERNMENT",11,25,246,17711554,null,{"$f":"IF(County!G2513=0,\"0\",IF(County!G2513<5,\"*\",ROUND((G2513*1),-1)))","v":250},17711600,70800]

{"sheet":"UI Covered Statewide","index":2,"n_rows":2,"n_cols":18,"rows_kept":2,"cut":false,"hidden":true,"merged":[]}
["1998","1999","2000","2001","2002","2003","2004","2005","2006","2007","2008","2009",2010,2011,2012,2013,2014,2015]
[2814320,2865800,2893100,2832760,2795720,2784820,2812360,2837430,2855800,2868800,2834510,2834510,2667710,2717580,2774880,2812420,2854650,{"$f":"#REF!","v":{"$error":"#REF!"}}]

{"sheet":"UI Covered County","index":3,"n_rows":94,"n_cols":20,"rows_kept":94,"cut":false,"hidden":true,"merged":[]}
["CountyName","County","1998","1999","2000","2001","2002","2003","2004","2005","2006","2007","2008","2009",2010,2011,2012,2013,2014,2015]
["Adams County",1,15000,15340,15300,13650,13890,14140,14830,14570,14190,14000,12820,11360,11950,12130,12310,12510,13000,{"$f":"'Adams (001)'!$D$41","v":13000}]
["Allen County",3,185990,186590,186970,181160,178820,174850,176290,177700,180570,180810,178554,167910,167540,170670,173280,173090,175290,{"$f":"'Allen (003)'!$D$41","v":175290}]
["Bartholomew County",5,43450,43400,42810,40870,40070,39050,40120,41330,42380,43520,44246,40640,40650,43690,47060,47100,48490,{"$f":"'Bartholomew (005)'!$D$41","v":48490}]
["Benton County",7,2680,2870,2780,2610,2480,2470,2380,2390,2380,2390,2366,2270,2270,2270,2270,2260,2270,{"$f":"'Benton (007)'!$D$41","v":2270}]
["Blackford County",9,4570,4570,4420,4290,4250,4070,3980,4030,3920,3880,3667,3300,3290,3230,3200,3290,3180,{"$f":"'Blackford (009)'!$D$41","v":3180}]
["Boone County",11,13820,13710,13930,14700,15090,15700,16600,17570,17950,18410,19497,19310,20110,20830,22370,24650,25860,{"$f":"'Boone (011)'!$D$41","v":25860}]
["Brown County",13,2790,2880,2920,2890,2960,2940,3000,3080,3130,3170,3048,2980,2920,3010,2870,2920,2960,{"$f":"'Brown (013)'!$D$41","v":2960}]
["Carroll County",15,5630,5710,5700,5610,5490,5300,5220,5270,5290,5400,5249,4940,4950,4910,5100,5210,5240,{"$f":"'Carroll (015)'!$D$41","v":5240}]
["Cass County",17,17450,17630,17710,17040,16850,16170,16000,15530,15250,15380,15323,14480,14460,14170,14210,14310,14430,{"$f":"'Cass (017)'!$D$41","v":14430}]
["Clark County",19,42480,43480,43120,43280,43140,41930,42470,43800,44470,45730,46017,44270,43590,44060,45140,46660,48570,{"$f":"'Clark (019)'!$D$41","v":48570}]
["Clay County",21,7520,7780,7620,6580,6760,7100,7440,7360,7540,7150,6816,6500,6920,7440,7550,7440,7470,{"$f":"'Clay (021)'!$D$41","v":7470}]
["Clinton County",23,12010,11550,11270,11060,10970,11110,11070,11110,11150,11100,10967,10400,10470,10490,10550,10540,10760,{"$f":"'Clinton (023)'!$D$41","v":10760}]
["Crawford County",25,1690,1960,2030,2160,2190,2180,2270,2210,2080,2090,2133,1850,1920,1900,1920,1950,1990,{"$f":"'Crawford (025)'!$D$41","v":1990}]
["Daviess County",27,10020,10330,10230,9830,9860,10060,10410,10670,10930,11140,11024,10630,10350,10550,10660,10770,10940,{"$f":"'Daviess (027)'!$D$41","v":10940}]
["Dearborn County",29,13380,13640,13960,14270,14190,14350,14530,14630,14690,14630,14421,14420,14180,14240,14190,13890,14070,{"$f":"'Dearborn (029)'!$D$41","v":14070}]
["Decatur County",31,13170,14230,14240,13420,13840,12370,12270,12360,12320,12070,12212,11320,11100,11360,12530,13060,13420,{"$f":"'Decatur (031)'!$D$41","v":13420}]
["Dekalb County",33,21170,22110,21770,20900,21150,21150,21350,21210,20530,20110,19442,17840,17790,18230,19130,19970,20470,{"$f":"'Dekalb (033)'!$D$41","v":20470}]
["Delaware County",35,53840,53870,53730,52890,51170,49990,48380,47190,48160,47720,46154,43930,43220,43610,44310,44380,44070,{"$f":"'Delaware (035)'!$D$41","v":44070}]
["Dubois County",37,28470,28950,29350,28670,28050,27630,27930,28350,28320,28440,28079,26430,26070,26490,26700,27050,27440,{"$f":"'Dubois (037)'!$D$41","v":27440}]
["Elkhart County",39,116400,121660,122100,113230,113230,115600,122710,124870,126850,124440,114019,93840,99830,103380,109440,115010,119890,{"$f":"'Elkhart (039)'!$D$41","v":119890}]
["Fayette County",41,10890,10700,10460,9780,9340,9000,8650,8780,7990,7700,6873,6430,6220,6250,6190,6160,6290,{"$f":"'Fayette (041)'!$D$41","v":6290}]
["Floyd County",43,26430,26640,26830,26180,26040,26940,27900,28520,29100,28970,29006,27640,27900,27760,27590,28140,27910,{"$f":"'Floyd (43)'!$D$41","v":27910}]
["Fountain County",45,5740,5690,5740,5510,5230,5180,5300,5560,5630,5690,5603,4840,4930,5230,5390,5000,4920,{"$f":"'Fountain (045)'!$D$41","v":4920}]
["Franklin County",47,4000,4020,4110,4030,3930,3970,4060,4020,4090,4390,4401,4160,4080,3940,3720,4050,4140,{"$f":"'Franklin (047)'!$D$41","v":4140}]
["Fulton County",49,7470,7440,7250,6790,6730,6630,6620,6750,6750,6810,6551,5930,6050,6300,6460,6310,6210,{"$f":"'Fulton (049)'!$D$41","v":6210}]
["Gibson County",51,10830,11420,12380,12460,13280,14980,15390,15940,16140,16030,15591,15150,16480,17110,17760,18860,19340,{"$f":"'Gibson (051)'!$D$41","v":19340}]
["Grant County",53,29700,29770,29100,28310,27920,27190,26110,25710,25570,25740,25850,25310,25540,25490,26190,26480,26630,{"$f":"'Grant (053)'!$D$41","v":26630}]
["Greene County",55,7990,7930,7580,7490,7530,7190,7070,7190,7270,7370,7419,7580,6540,6490,6340,6310,6510,{"$f":"'Greene (055)'!$D$41","v":6510}]
["Hamilton County",57,69420,74330,77030,78650,80150,84180,88080,94850,99740,109530,111972,108070,107500,110820,113520,119460,125160,{"$f":"'Hamilton (057)'!$D$41","v":125160}]
["Hancock County",59,14480,14820,15420,15790,16370,17150,18120,18410,19340,19330,19691,18320,18740,19200,19810,20800,21180,{"$f":"'Hancock (059)'!$D$41","v":21180}]
["Harrison County",61,9230,11060,11840,11710,12150,12030,11830,11320,11350,11450,11197,10570,10700,10680,10020,9920,9920,{"$f":"'Harrison (061)'!$D$41","v":9920}]
["Hendricks County",63,25670,27350,29620,31230,33280,35300,38290,39850,42810,45380,47456,48040,49730,51840,53930,55260,57450,{"$f":"'Hendricks (063)'!$D$41","v":57450}]
["Henry County",65,14520,14570,14410,14010,13750,13890,13740,13420,13260,13180,13094,12210,11670,12030,12280,12620,12760,{"$f":"'Henry (065)'!$D$41","v":12760}]
["Howard County",67,46610,47330,46700,44230,43510,42160,41700,41220,40770,39890,37892,32930,34250,35150,36170,37480,38270,{"$f":"'Howard (067)'!$D$41","v":38270}]
["Huntington County",69,16580,16480,16070,15560,15340,15160,15270,15160,15040,15000,14710,13220,13500,14050,13700,13810,14020,{"$f":"'Huntington (069)'!$D$41","v":14020}]
["Jackson County",71,19030,20070,20340,20290,20180,20050,20300,20170,20140,20170,19587,17900,18160,18460,18930,19650,19990,{"$f":"'Jackson (071)'!$D$41","v":19990}]
["Jasper County",73,10110,10440,10780,10650,10440,10540,11540,11740,12100,12420,12183,11530,10990,11110,11390,12020,11790,{"$f":"'Jasper (73)'!$D$41","v":11790}]
["Jay County",75,7620,7490,7410,7250,6950,6650,7240,7820,8030,8060,8146,7390,7460,7530,7410,7430,7500,{"$f":"'Jay (075)'!$D$41","v":7500}]
["Jefferson County",77,12530,12580,12600,12490,12730,12730,13070,13210,13180,12970,12620,11860,11770,11760,12210,12390,12200,{"$f":"'Jefferson (077)'!$D$41","v":12200}]
["Jennings County",79,8260,8660,8710,8500,7730,8110,8280,7970,7820,7850,7612,6980,7150,7140,7060,7080,7160,{"$f":"'Jennings (079)'!$D$41","v":7160}]
["Johnson County",81,37760,38470,39010,38670,39230,39930,40190,40820,42420,42780,42670,40790,40660,42420,44420,46650,47400,{"$f":"'Johnson (081)'!$D$41","v":47400}]
["Knox County",83,17080,16940,16910,16750,16730,16590,16260,16050,16340,16530,16561,15820,16330,16420,17040,17210,17420,{"$f":"'Knox (083)'!$D$41","v":17420}]
["Kosciusko County",85,32400,33270,33850,32660,32930,33220,33670,34920,35040,35040,35337,33080,33620,34180,34900,36130,36720,{"$f":"'Kosciusko (085)'!$D$41","v":36720}]
["Lagrange County",87,12720,12930,12800,11940,12090,12100,12300,12260,12450,12300,11448,9580,10090,10650,11560,12360,12740,{"$f":"'Lagrange (087)'!$D$41","v":12740}]
["Lake County",89,201120,201960,197550,192940,187770,189300,189370,191210,191800,193110,192672,182720,180770,183860,187200,186310,184760,{"$f":"'Lake (089)'!$D$41","v":184760}]
["Laporte County",91,46560,46680,47150,46640,46080,45190,44440,44860,44680,44620,44103,41600,40460,40930,40960,40430,40480,{"$f":"'Laporte (091)'!$D$41","v":40480}]
["Lawrence County",93,15550,15370,15320,14830,14460,14100,13880,13860,14220,13850,13258,12030,12080,12420,12510,12750,12590,{"$f":"'Lawrence (093)'!$D$41","v":12590}]
["Madison County",95,46480,45560,45630,44850,43910,43110,42590,42110,40940,39070,39251,38570,38090,38070,38210,37640,37680,{"$f":"'Madison (095)'!$D$41","v":37680}]
["Marion County",97,571290,583940,592110,578200,566380,559940,564550,567650,567300,566940,563713,532460,530040,535180,548680,556030,561980,{"$f":"'Marion (097)'!$D$41","v":561980}]
["Marshall County",99,20180,20620,20150,18840,18110,17850,18370,18510,18660,18940,18879,17160,17300,17820,18130,18510,19120,{"$f":"'Marshall (099)'!$D$41","v":19120}]
["Martin County",101,3180,3290,3210,3290,3330,3440,2980,2960,3300,3160,3003,2960,3360,3330,2950,2920,2920,{"$f":"'Martin (101)'!$D$41","v":2920}]
["Miami County",103,9440,9760,10200,10070,9920,9670,9780,10030,9790,9680,9518,8560,8220,8420,8520,8560,8630,{"$f":"'Miami (103)'!$D$41","v":8630}]
["Monroe County",105,57730,59270,59520,57970,57570,59490,60890,61040,60930,61890,61735,61280,60880,60980,61190,61050,61230,{"$f":"'Monroe (105)'!$D$41","v":61230}]
["Montgomery County",107,17840,17160,17300,16770,16470,16440,16670,16670,16490,16170,15627,14430,14330,14400,14610,14650,14950,{"$f":"'Montgomery (107)'!$D$41","v":14950}]
["Morgan County",109,14130,14460,14740,14520,14410,14400,14910,15010,15090,15020,14628,13970,13800,14030,14530,14560,14610,{"$f":"'Morgan (109)'!$D$41","v":14610}]
["Newton County",111,4060,3940,4200,4040,4020,4000,4180,4170,4280,4180,3828,3460,3390,3450,3440,3400,3440,{"$f":"'Newton (111)'!$D$41","v":3440}]
["Noble County",113,20730,20750,21660,20280,19740,19420,19400,19440,19050,18850,17734,15440,16110,16990,17220,17590,18210,{"$f":"'Noble (113)'!$D$41","v":18210}]
["Ohio County",115,2140,2070,2000,1840,1810,1760,1690,1700,1660,1670,1642,1560,1490,1530,1500,1600,1510,{"$f":"'Ohio (115)'!$D$41","v":1510}]
["Orange County",117,7080,6940,6890,6530,6270,6050,6110,6270,6560,7670,7607,7340,7320,7200,7330,7400,7270,{"$f":"'Orange (117)'!$D$41","v":7270}]
["Owen County",119,4000,4200,4320,4290,4410,4380,4400,4580,4710,4950,5080,4980,4750,4650,4580,4470,4470,{"$f":"'Owen (119)'!$D$41","v":4470}]
["Parke County",121,3440,3510,3470,3410,3330,3330,3300,3300,3270,3420,3388,3250,3130,3050,2970,3020,3040,{"$f":"'Parke (121)'!$D$41","v":3040}]
["Perry County",123,5740,5900,6000,5710,5900,6050,6220,6190,6250,6290,6192,5740,5780,6030,6060,6150,6380,{"$f":"'Perry (123)'!$D$41","v":6380}]
["Pike County",125,2960,2930,2810,2990,3020,3030,2990,2860,3000,3010,3042,3050,2990,3080,3090,3180,3230,{"$f":"'Pike (125)'!$D$41","v":3230}]
["Porter County",127,54020,54950,54580,53070,51860,51820,52600,53880,55170,56880,56686,53450,54040,55010,55660,57200,58010,{"$f":"'Porter (127)'!$D$41","v":58010}]
["Posey County",129,9020,9200,9320,8940,8620,8350,8460,8590,8630,8700,8691,8230,8330,8610,8580,8470,8110,{"$f":"'Posey (129)'!$D$41","v":8110}]
["Pulaski County",131,4760,4650,4510,4470,4470,4460,4490,4640,4570,4560,4480,4260,4260,4410,4480,4450,4500,{"$f":"'Pulaski (131)'!$D$41","v":4500}]
["Putnam County",133,11770,12260,12810,12300,12060,12380,12460,12210,12210,12280,12042,11370,11210,11520,12340,12650,12260,{"$f":"'Putnam (133)'!$D$41","v":12260}]
["Randolph County",135,7530,7790,7940,7960,7900,7570,7350,7190,6980,7050,7072,6860,7030,7180,7230,7290,7310,{"$f":"'Randolph (135)'!$D$41","v":7310}]
["Ripley County",137,11920,12260,12820,13130,12830,13890,14170,13960,13310,12760,12619,11590,12250,13100,11990,11630,11750,{"$f":"'Ripley (137)'!$D$41","v":11750}]
["Rush County",139,5950,5960,5710,5660,5410,5120,5190,5330,5360,5300,4941,4650,4540,4560,4530,4570,4720,{"$f":"'Rush (139)'!$D$41","v":4720}]
["St Joseph County",141,127450,128250,128200,123740,121310,121030,122510,123710,122670,122790,120939,113370,112690,114670,114250,114290,116410,{"$f":"'St. Joseph (141)'!$D$41","v":116410}]
["Scott County",143,7010,7470,7590,7260,7020,6930,7250,7300,7160,7040,6904,6240,6150,6410,6790,7000,7270,{"$f":"'Scott (143)'!$D$41","v":7270}]
["Shelby County",145,16670,17530,17220,16730,16380,16550,16940,16910,17020,16710,16397,15710,15560,15690,16440,16940,17440,{"$f":"'Shelby (145)'!$D$41","v":17440}]
["Spencer County",147,7740,7760,7960,7080,7130,7200,7100,7070,7030,7010,7021,6590,6640,6730,6810,6750,6820,{"$f":"'Spencer (147)'!$D$41","v":6820}]
["Starke County",149,4570,4500,4490,4330,4200,4140,4190,4200,4190,4280,4269,4010,4120,4160,4140,4290,4280,{"$f":"'Starke (149)'!$D$41","v":4280}]
["Steuben County",151,17960,17850,17650,15950,15150,14780,15130,14940,14450,14420,13853,12980,13320,13820,14480,15000,15430,{"$f":"'Steuben (151)'!$D$41","v":15430}]
["Sullivan County",153,5650,5580,5520,5420,5380,5380,5400,5320,5220,5310,5271,5340,5590,5780,6120,6080,6120,{"$f":"'Sullivan (153)'!$D$41","v":6120}]
["Switzerland County",155,1530,1560,1830,2670,2380,2360,2320,2310,2290,2340,2320,2290,2300,2270,2230,2160,2060,{"$f":"'Switzerland (155)'!$D$41","v":2060}]
["Tippecanoe County",157,74190,76080,76840,74370,73900,71690,72920,74280,75140,75620,75640,72030,71920,75090,78050,78310,79990,{"$f":"'Tippecanoe (157)'!$D$41","v":79990}]
["Tipton County",159,4490,4540,4570,4520,4500,4430,4410,4390,4280,4270,4177,3910,3960,3890,4140,4130,4220,{"$f":"'Tipton (159)'!$D$41","v":4220}]
["Union County",161,1480,1500,1580,1550,1450,1530,1550,1600,1630,1450,1419,1340,1390,1390,1360,1330,1310,{"$f":"'Union (161)'!$D$41","v":1310}]
["Vanderburgh County",163,105890,108060,108790,108790,107760,107540,106000,107180,107220,106040,106422,102850,103110,104820,104000,102480,104230,{"$f":"'Vanderburgh (163)'!$D$41","v":104230}]
["Vermillion County",165,4960,4800,4850,4690,4570,4660,4750,4720,4710,4690,4587,4270,4170,4030,4270,4200,4280,{"$f":"'Vermillion (165)'!$D$41","v":4280}]
["Vigo County",167,50150,51030,51650,50600,50120,50610,50490,50180,50390,50850,50344,48980,48510,47950,48020,47940,47750,{"$f":"'Vigo (167)'!$D$41","v":47750}]
["Wabash County",169,14320,14600,14650,14160,13780,13570,13400,13130,13340,13260,12389,11440,11630,11850,12210,12300,12470,{"$f":"'Wabash (169)'!$D$41","v":12470}]
["Warren County",171,1470,1550,1660,1720,1750,1690,1810,1860,1880,1990,1914,1680,1780,1950,1940,1880,1850,{"$f":"'Warren (171)'!$D$41","v":1850}]
["Warrick County",173,12560,12640,12550,13030,13750,13690,14060,13910,14180,14300,14248,14000,14310,14450,14940,15160,15510,{"$f":"'Warrick (173)'!$D$41","v":15510}]
["Washington County",175,6700,6690,6830,6640,6400,6340,6280,6340,6190,6090,5787,5240,5290,5280,5580,5720,5760,{"$f":"'Washington (175)'!$D$41","v":5760}]
["Wayne County",177,36650,36610,35770,34200,33990,32900,32010,31530,33290,32750,31993,29170,27940,28250,28790,29050,29730,{"$f":"'Wayne (177)'!$D$41","v":29730}]
["Wells County",179,11430,11670,11870,11400,11240,11130,10780,10740,10850,10720,10839,10370,10060,10110,10540,10750,10850,{"$f":"'Wells (179)'!$D$41","v":10850}]
["White County",181,10250,10460,10360,9700,8750,8290,8350,8300,8330,8600,8473,7980,8130,8470,8650,8810,9230,{"$f":"'White (181)'!$D$41","v":9230}]
["Whitley County",183,12310,12060,12050,11080,10850,11150,10910,11430,11760,12250,11949,10850,10670,10970,11260,11210,11700,{"$f":"'Whitley (183)'!$D$41","v":11700}]
["Not Classified",999,51430,54250,67850,79830,75910,73700,72210,71030,69930,69940,66397,60760,58900,61140,62690,62590,63380,{"$f":"'Not classified (999)'!$D$41","v":63380}]

{"sheet":"Adams (001)","index":4,"n_rows":75,"n_cols":6,"rows_kept":75,"cut":false,"hidden":false,"merged":[[0,1,0,5],[1,1,1,5],[2,1,2,5],[27,2,27,5],[6,0,6,1]]}
[null,"UI COVERED EMPLOYMENT"]
[null,"Adams County"]
[null,"2014 Annual Averages"]
[]
[]
[]
["NAICS Sectors/Ownership",null,"Number of Reporting Units","Average Number of Workers","Total Annual Wages","Average Annual Wages"]
["Private Ownership Only",null,"not rounded","rounded to tens","rounded to hundreds","rounded to hundreds"]
[null,"AGRICULTURE, FORESTRY, FISHING AND HUNTI",23,140,4115300,29400]
[null,"MINING, QUARRYING, AND OIL AND GAS EXTRA","Confidential","Confidential","Confidential","Confidential"]
[null,"UTILITIES","Confidential","Confidential","Confidential","Confidential"]
[null,"CONSTRUCTION",68,340,12420600,36500]
[null,"MANUFACTURING",63,4840,212086500,43800]
[null,"WHOLESALE TRADE",36,380,17316400,45600]
[null,"RETAIL TRADE",129,1350,30643600,22700]
[null,"TRANSPORTATION AND WAREHOUSING",36,350,12468600,35600]
[null,"INFORMATION",9,240,9414700,39200]
[null,"FINANCE AND INSURANCE",43,270,10539400,39000]
[null,"REAL ESTATE AND RENTAL AND LEASING",16,70,2201200,31400]
[null,"PROFESSIONAL AND TECHNICAL SERVICES",38,150,6931400,46200]
[null,"MANAGEMENT OF COMPANIES AND ENTERPRISES","Confidential","Confidential","Confidential","Confidential"]
[null,"ADMINISTRATIVE AND WASTE SERVICES",44,560,9202100,16400]
[null,"EDUCATIONAL SERVICES",4,20,201100,10100]
[null,"HEALTH CARE AND SOCIAL ASSISTANCE",36,950,24724800,26000]
[null,"ARTS, ENTERTAINMENT, AND RECREATION",7,50,482600,9700]
[null,"ACCOMMODATION AND FOOD SERVICES",52,850,8690400,10200]
[null,"OTHER SERVICES, EXCEPT PUBLIC ADMIN",66,370,7547700,20400]
[null,"UNCLASSIFIED","Data included in Total UI Covered"]
[]
["Local Government"]
[null,"LOCAL GOVERNMENT",19,2000,63938300,32000]
[null,"EDUCATIONAL SERVICES",6,860,25324700,29400]
[null,"HEALTH CARE AND SOCIAL ASSISTANCE",2,660,26957600,40800]
[]
["State Government"]
[null,"STATE GOVERNMENT",11,57,2095816,34900]
[null,"EDUCATIONAL SERVICES",0,0,0,0]
[null,"HEALTH CARE AND SOCIAL ASSISTANCE",0,0,0,0]
[]
["Total UI Covered"]
[null,"TOTAL UI COVERED",704,13000,438010800,33700]
[]
["Federal Government"]
[null,"FEDERAL GOVERNMENT",7,60,2691500,44900]
[]
[]
["*Less than 5 employees unrounded"]
[]
[]
[]
[]
[]
[]
[]
[]
[]
[]
[]
[]
[]
[]
[]
[]
[]
[]
[]
[]
[]
[]
[]
[]
[]
[]
[]
["Telephone:  800-784-0360",null,null,null,"Released ","2015-09-17T10:21:33.750"]

{"sheet":"Allen (003)","index":5,"n_rows":75,"n_cols":6,"rows_kept":75,"cut":false,"hidden":false,"merged":[[27,2,27,5],[6,0,6,1],[0,1,0,5],[1,1,1,5],[2,1,2,5]]}
[null,"UI COVERED EMPLOYMENT"]
[null,"Allen County"]
[null,"2014 Annual Averages"]
[]
[]
[]
["NAICS Sectors/Ownership",null,"Number of Reporting Units","Average Number of Workers","Total Annual Wages","Average Annual Wages"]
["Private Ownership Only",null,"not rounded","rounded to tens","rounded to hundreds","rounded to hundreds"]
[null,"AGRICULTURE, FORESTRY, FISHING AND HUNTI",30,210,6478300,30800]
[null,"MINING, QUARRYING, AND OIL AND GAS EXTRA",6,90,5884800,65400]
[null,"UTILITIES",12,460,40502200,88000]
[null,"CONSTRUCTION",860,8090,400367100,49500]
[null,"MANUFACTURING",487,27280,1539127600,56400]
[null,"WHOLESALE TRADE",606,8890,454772600,51200]
[null,"RETAIL TRADE",1153,20440,513377700,25100]
[null,"TRANSPORTATION AND WAREHOUSING",282,6300,286209400,45400]
[null,"INFORMATION",94,2830,155748100,55000]
[null,"FINANCE AND INSURANCE",643,8210,522188400,63600]
[null,"REAL ESTATE AND RENTAL AND LEASING",382,1890,64551300,34200]
[null,"PROFESSIONAL AND TECHNICAL SERVICES",928,5520,294424600,53300]
[null,"MANAGEMENT OF COMPANIES AND ENTERPRISES",64,1720,114241800,66400]
[null,"ADMINISTRATIVE AND WASTE SERVICES",497,10890,266359500,24500]
[null,"EDUCATIONAL SERVICES",85,3210,95226000,29700]
[null,"HEALTH CARE AND SOCIAL ASSISTANCE",755,30270,1377419200,45500]
[null,"ARTS, ENTERTAINMENT, AND RECREATION",142,2390,39789000,16600]
[null,"ACCOMMODATION AND FOOD SERVICES",706,15830,222630900,14100]
[null,"OTHER SERVICES, EXCEPT PUBLIC ADMIN",719,5020,133076100,26500]
[null,"UNCLASSIFIED","Data included in Total UI Covered"]
[]
["Local Government"]
[null,"LOCAL GOVERNMENT",191,12770,488955500,38300]
[null,"EDUCATIONAL SERVICES",136,7280,270598300,37200]
[null,"HEALTH CARE AND SOCIAL ASSISTANCE",3,70,1827800,26100]
[]
["State Government"]
[null,"STATE GOVERNMENT",25,2990,111830600,37400]
[null,"EDUCATIONAL SERVICES",3,2300,82222100,35700]
[null,"HEALTH CARE AND SOCIAL ASSISTANCE",0,"0",0,0]
[]
["Total UI Covered"]
[null,"TOTAL UI COVERED",8662,175290,7133160600,40700]
[]
["Federal Government"]
[null,"FEDERAL GOVERNMENT",40,1830,125843700,68800]
[]
[]
["*Less than 5 employees unrounded"]
[]
[]
[]
[]
[]
[]
[]
[]
[]
[]
[]
[]
[]
[]
[]
[]
[]
[]
[]
[]
[]
[]
[]
[]
[]
[]
[]
["Telephone:  800-784-0360",null,null,null,"Released ","2015-09-17T10:22:05.530"]

{"sheet":"Bartholomew (005)","index":6,"n_rows":75,"n_cols":6,"rows_kept":75,"cut":false,"hidden":false,"merged":[[27,2,27,5],[0,1,0,5],[1,1,1,5],[2,1,2,5]]}
[null,"UI COVERED EMPLOYMENT"]
[null,"Bartholomew County"]
[null,"2014 Annual Averages"]
[]
[]
[]
["NAICS Sectors/Ownership",null,"Number of Reporting Units","Average Number of Workers","Total Annual Wages","Average Annual Wages"]
["Private Ownership Only",null,"not rounded","rounded to tens","rounded to hundreds","rounded to hundreds"]
[null,"AGRICULTURE, FORESTRY, FISHING AND HUNTI",16,60,2037500,34000]
[null,"MINING, QUARRYING, AND OIL AND GAS EXTRA","Confidential","Confidential","Confidential","Confidential"]
[null,"UTILITIES",9,140,10798000,77100]
[null,"CONSTRUCTION",150,1440,70142800,48700]
[null,"MANUFACTURING",142,18540,1244385600,67100]
[null,"WHOLESALE TRADE",110,1500,115598300,77100]
[null,"RETAIL TRADE",284,4640,104686300,22600]
[null,"TRANSPORTATION AND WAREHOUSING",58,1190,52519700,44100]
[null,"INFORMATION",17,460,18025000,39200]
[null,"FINANCE AND INSURANCE",116,1000,59982700,60000]
[null,"REAL ESTATE AND RENTAL AND LEASING",71,310,9916500,32000]
[null,"PROFESSIONAL AND TECHNICAL SERVICES",159,1620,93742100,57900]
[null,"MANAGEMENT OF COMPANIES AND ENTERPRISES",28,690,68486900,99300]
[null,"ADMINISTRATIVE AND WASTE SERVICES",86,2760,78084500,28300]
[null,"EDUCATIONAL SERVICES",17,160,3069600,19200]
[null,"HEALTH CARE AND SOCIAL ASSISTANCE",200,3600,152366000,42300]
[null,"ARTS, ENTERTAINMENT, AND RECREATION",17,220,3363000,15300]
[null,"ACCOMMODATION AND FOOD SERVICES",160,3680,51151100,13900]
[null,"OTHER SERVICES, EXCEPT PUBLIC ADMIN",142,840,20665600,24600]
[null,"UNCLASSIFIED","Data included in Total UI Covered"]
[]
["Local Government"]
[null,"LOCAL GOVERNMENT",42,4630,172541300,37300]
[null,"EDUCATIONAL SERVICES",23,1860,61468400,33000]
[null,"HEALTH CARE AND SOCIAL ASSISTANCE",1,1510,67298300,44600]
[]
["State Government"]
[null,"STATE GOVERNMENT",18,980,30296700,30900]
[null,"EDUCATIONAL SERVICES",1,810,23219900,28700]
[null,"HEALTH CARE AND SOCIAL ASSISTANCE",0,"0",0,0]
[]
["Total UI Covered"]
[null,"TOTAL UI COVERED",1843,48490,2363553100,48700]
[]
["Federal Government"]
[null,"FEDERAL GOVERNMENT",12,160,9847600,61500]
[]
[]
["*Less than 5 employees unrounded"]
[]
[]
[]
[]
[]
[]
[]
[]
[]
[]
[]
[]
[]
[]
[]
[]
[]
[]
[]
[]
[]
[]
[]
[]
[]
[]
[]
["Telephone:  800-784-0360",null,null,null,"Released ","2015-09-17T10:22:28.520"]

{"sheet":"Benton (007)","index":7,"n_rows":75,"n_cols":6,"rows_kept":75,"cut":false,"hidden":false,"merged":[[27,2,27,5],[0,1,0,5],[1,1,1,5],[2,1,2,5]]}
[null,"UI COVERED EMPLOYMENT"]
[null,"Benton County"]
[null,"2014 Annual Averages"]
[]
[]
[]
["NAICS Sectors/Ownership",null,"Number of Reporting Units","Average Number of Workers","Total Annual Wages","Average Annual Wages"]
["Private Ownership Only",null,"not rounded","rounded to tens","rounded to hundreds","rounded to hundreds"]
[null,"AGRICULTURE, FORESTRY, FISHING AND HUNTI",17,140,4747500,33900]
[null,"MINING, QUARRYING, AND OIL AND GAS EXTRA","Confidential","Confidential","Confidential","Confidential"]
[null,"UTILITIES","Confidential","Confidential","Confidential","Confidential"]
[null,"CONSTRUCTION",20,60,2179800,36300]
[null,"MANUFACTURING",15,420,18243700,43400]
[null,"WHOLESALE TRADE",20,270,11303000,41900]
[null,"RETAIL TRADE",29,210,3895100,18500]
[null,"TRANSPORTATION AND WAREHOUSING",21,110,4183400,38000]
[null,"INFORMATION","Confidential","Confidential","Confidential","Confidential"]
[null,"FINANCE AND INSURANCE",12,140,6130500,43800]
[null,"REAL ESTATE AND RENTAL AND LEASING",0,"0",0,0]
[null,"PROFESSIONAL AND TECHNICAL SERVICES",11,30,1460600,48700]
[null,"MANAGEMENT OF COMPANIES AND ENTERPRISES",0,"0",0,0]
[null,"ADMINISTRATIVE AND WASTE SERVICES",7,10,316900,31700]
[null,"EDUCATIONAL SERVICES","Confidential","Confidential","Confidential","Confidential"]
[null,"HEALTH CARE AND SOCIAL ASSISTANCE",11,100,2372800,23700]
[null,"ARTS, ENTERTAINMENT, AND RECREATION","Confidential","Confidential","Confidential","Confidential"]
[null,"ACCOMMODATION AND FOOD SERVICES",7,50,380000,7600]
[null,"OTHER SERVICES, EXCEPT PUBLIC ADMIN",12,60,2633100,43900]
[null,"UNCLASSIFIED","Data included in Total UI Covered"]
[]
["Local Government"]
[null,"LOCAL GOVERNMENT",20,570,15537600,27300]
[null,"EDUCATIONAL SERVICES",6,370,10640600,28800]
[null,"HEALTH CARE AND SOCIAL ASSISTANCE",0,"0",0,0]
[]
["State Government"]
[null,"STATE GOVERNMENT",7,40,1424600,35600]
[null,"EDUCATIONAL SERVICES",0,"0",0,0]
[null,"HEALTH CARE AND SOCIAL ASSISTANCE",0,"0",0,0]
[]
["Total UI Covered"]
[null,"TOTAL UI COVERED",216,2270,77394000,34100]
[]
["Federal Government"]
[null,"FEDERAL GOVERNMENT",7,30,1078900,36000]
[]
[]
["*Less than 5 employees unrounded"]
[]
[]
[]
[]
[]
[]
[]
[]
[]
[]
[]
[]
[]
[]
[]
[]
[]
[]
[]
[]
[]
[]
[]
[]
[]
[]
[]
["Telephone:  800-784-0360",null,null,null,"Released ","2015-09-17T10:22:53.440"]

{"sheet":"Blackford (009)","index":8,"n_rows":75,"n_cols":6,"rows_kept":75,"cut":false,"hidden":false,"merged":[[27,2,27,5],[0,1,0,5],[1,1,1,5],[2,1,2,5]]}
[null,"UI COVERED EMPLOYMENT"]
[null,"Blackford County"]
[null,"2014 Annual Averages"]
[]
[]
[]
["NAICS Sectors/Ownership",null,"Number of Reporting Units","Average Number of Workers","Total Annual Wages","Average Annual Wages"]
["Private Ownership Only",null,"not rounded","rounded to tens","rounded to hundreds","rounded to hundreds"]
[null,"AGRICULTURE, FORESTRY, FISHING AND HUNTI",6,50,1479600,29600]
[null,"MINING, QUARRYING, AND OIL AND GAS EXTRA","Confidential","Confidential","Confidential","Confidential"]
[null,"UTILITIES","Confidential","Confidential","Confidential","Confidential"]
[null,"CONSTRUCTION",11,20,613900,30700]
[null,"MANUFACTURING",19,940,43279300,46000]
[null,"WHOLESALE TRADE",11,130,5038500,38800]
[null,"RETAIL TRADE",40,350,6562700,18800]
[null,"TRANSPORTATION AND WAREHOUSING",14,130,4771900,36700]
[null,"INFORMATION","Confidential","Confidential","Confidential","Confidential"]
[null,"FINANCE AND INSURANCE",20,100,3323100,33200]
[null,"REAL ESTATE AND RENTAL AND LEASING",5,10,252800,25300]
[null,"PROFESSIONAL AND TECHNICAL SERVICES",10,70,2697200,38500]
[null,"MANAGEMENT OF COMPANIES AND ENTERPRISES",3,10,824800,82500]
[null,"ADMINISTRATIVE AND WASTE SERVICES",9,40,934300,23400]
[null,"EDUCATIONAL SERVICES","Confidential","Confidential","Confidential","Confidential"]
[null,"HEALTH CARE AND SOCIAL ASSISTANCE",18,350,10116500,28900]
[null,"ARTS, ENTERTAINMENT, AND RECREATION",4,20,210000,10500]
[null,"ACCOMMODATION AND FOOD SERVICES",18,280,3341900,11900]
[null,"OTHER SERVICES, EXCEPT PUBLIC ADMIN",25,100,1492600,14900]
[null,"UNCLASSIFIED","Data included in Total UI Covered"]
[]
["Local Government"]
[null,"LOCAL GOVERNMENT",9,540,13891700,25700]
[null,"EDUCATIONAL SERVICES",1,320,8728600,27300]
[null,"HEALTH CARE AND SOCIAL ASSISTANCE",0,"0",0,0]
[]
["State Government"]
[null,"STATE GOVERNMENT",8,30,1023900,34100]
[null,"EDUCATIONAL SERVICES",0,"0",0,0]
[null,"HEALTH CARE AND SOCIAL ASSISTANCE",0,"0",0,0]
[]
["Total UI Covered"]
[null,"TOTAL UI COVERED",234,3180,100545400,31600]
[]
["Federal Government"]
[null,"FEDERAL GOVERNMENT",3,20,1119700,56000]
[]
[]
["*Less than 5 employees unrounded"]
[]
[]
[]
[]
[]
[]
[]
[]
[]
[]
[]
[]
[]
[]
[]
[]
[]
[]
[]
[]
[]
[]
[]
[]
[]
[]
[]
["Telephone:  800-784-0360",null,null,null,"Released ","2015-09-17T10:23:43.790"]

{"sheet":"Boone (011)","index":9,"n_rows":75,"n_cols":6,"rows_kept":75,"cut":false,"hidden":false,"merged":[[27,2,27,5],[0,1,0,5],[1,1,1,5],[2,1,2,5]]}
[null,"UI COVERED EMPLOYMENT"]
[null,"Boone County"]
[null,"2014 Annual Averages"]
[]
[]
[]
["NAICS Sectors/Ownership",null,"Number of Reporting Units","Average Number of Workers","Total Annual Wages","Average Annual Wages"]
["Private Ownership Only",null,"not rounded","rounded to tens","rounded to hundreds","rounded to hundreds"]
[null,"AGRICULTURE, FORESTRY, FISHING AND HUNTI",34,200,7721600,38600]
[null,"MINING, QUARRYING, AND OIL AND GAS EXTRA","Confidential","Confidential","Confidential","Confidential"]
[null,"UTILITIES","Confidential","Confidential","Confidential","Confidential"]
[null,"CONSTRUCTION",158,1790,85300400,47700]
[null,"MANUFACTURING",77,1940,86166800,44400]
[null,"WHOLESALE TRADE",151,1340,75809000,56600]
[null,"RETAIL TRADE",145,5670,191219900,33700]
[null,"TRANSPORTATION AND WAREHOUSING",65,2120,79459300,37500]
[null,"INFORMATION",19,240,10320500,43000]
[null,"FINANCE AND INSURANCE",110,400,22066300,55200]
[null,"REAL ESTATE AND RENTAL AND LEASING",64,250,12194700,48800]
[null,"PROFESSIONAL AND TECHNICAL SERVICES",209,900,59043400,65600]
[null,"MANAGEMENT OF COMPANIES AND ENTERPRISES",6,90,5404100,60000]
[null,"ADMINISTRATIVE AND WASTE SERVICES",94,3050,77924000,25500]
[null,"EDUCATIONAL SERVICES",18,240,5278900,22000]
[null,"HEALTH CARE AND SOCIAL ASSISTANCE",110,1580,67008100,42400]
[null,"ARTS, ENTERTAINMENT, AND RECREATION",33,230,6092400,26500]
[null,"ACCOMMODATION AND FOOD SERVICES",107,1850,25900600,14000]
[null,"OTHER SERVICES, EXCEPT PUBLIC ADMIN",163,680,15609500,23000]
[null,"UNCLASSIFIED","Data included in Total UI Covered"]
[]
["Local Government"]
[null,"LOCAL GOVERNMENT",33,3190,127930400,40100]
[null,"EDUCATIONAL SERVICES",10,1490,56672600,38000]
[null,"HEALTH CARE AND SOCIAL ASSISTANCE",9,730,38701700,53000]
[]
["State Government"]
[null,"STATE GOVERNMENT",14,50,2421200,48400]
[null,"EDUCATIONAL SERVICES",1,"0",8800,0]
[null,"HEALTH CARE AND SOCIAL ASSISTANCE",0,"0",0,0]
[]
["Total UI Covered"]
[null,"TOTAL UI COVERED",1609,25860,966117200,37400]
[]
["Federal Government"]
[null,"FEDERAL GOVERNMENT",9,90,5004900,55600]
[]
[]
["*Less than 5 employees unrounded"]
[]
[]
[]
[]
[]
[]
[]
[]
[]
[]
[]
[]
[]
[]
[]
[]
[]
[]
[]
[]
[]
[]
[]
[]
[]
[]
[]
["Telephone:  800-784-0360",null,null,null,"Released ","2015-09-17T10:25:23.980"]

{"sheet":"Brown (013)","index":10,"n_rows":75,"n_cols":6,"rows_kept":75,"cut":false,"hidden":false,"merged":[[27,2,27,5],[0,1,0,5],[1,1,1,5],[2,1,2,5]]}
[null,"UI COVERED EMPLOYMENT"]
[null,"Brown County"]
[null,"2014 Annual Averages"]
[]
[]
[]
["NAICS Sectors/Ownership",null,"Number of Reporting Units","Average Number of Workers","Total Annual Wages","Average Annual Wages"]
["Private Ownership Only",null,"not rounded","rounded to tens","rounded to hundreds","rounded to hundreds"]
[null,"AGRICULTURE, FORESTRY, FISHING AND HUNTI",5,40,1112700,27800]
[null,"MINING, QUARRYING, AND OIL AND GAS EXTRA",0,"0",0,0]
[null,"UTILITIES","Confidential","Confidential","Confidential","Confidential"]
[null,"CONSTRUCTION",43,150,4388200,29300]
[null,"MANUFACTURING",22,160,3406000,21300]
[null,"WHOLESALE TRADE",7,10,608000,60800]
[null,"RETAIL TRADE",77,390,6554000,16800]
[null,"TRANSPORTATION AND WAREHOUSING",8,30,737800,24600]
[null,"INFORMATION",5,10,407000,40700]
[null,"FINANCE AND INSURANCE",12,40,1448500,36200]
[null,"REAL ESTATE AND RENTAL AND LEASING",10,30,723800,24100]
[null,"PROFESSIONAL AND TECHNICAL SERVICES",30,100,4741800,47400]
[null,"MANAGEMENT OF COMPANIES AND ENTERPRISES",0,"0",0,0]
[null,"ADMINISTRATIVE AND WASTE SERVICES",14,110,2338300,21300]
[null,"EDUCATIONAL SERVICES",0,"0",0,0]
[null,"HEALTH CARE AND SOCIAL ASSISTANCE",19,350,11629500,33200]
[null,"ARTS, ENTERTAINMENT, AND RECREATION",6,40,869200,21700]
[null,"ACCOMMODATION AND FOOD SERVICES",43,590,8459900,14300]
[null,"OTHER SERVICES, EXCEPT PUBLIC ADMIN",15,80,1605600,20100]
[null,"UNCLASSIFIED","Data included in Total UI Covered"]
[]
["Local Government"]
[null,"LOCAL GOVERNMENT",7,600,19004700,31700]
[null,"EDUCATIONAL SERVICES",1,360,12418500,34500]
[null,"HEALTH CARE AND SOCIAL ASSISTANCE",0,"0",0,0]
[]
["State Government"]
[null,"STATE GOVERNMENT",11,220,4118600,18700]
[null,"EDUCATIONAL SERVICES",0,"0",0,0]
[null,"HEALTH CARE AND SOCIAL ASSISTANCE",0,"0",0,0]
[]
["Total UI Covered"]
[null,"TOTAL UI COVERED",332,2960,72638500,24500]
[]
["Federal Government"]
[null,"FEDERAL GOVERNMENT",2,20,747900,37400]
[]
[]
["*Less than 5 employees unrounded"]
[]
[]
[]
[]
[]
[]
[]
[]
[]
[]
[]
[]
[]
[]
[]
[]
[]
[]
[]
[]
[]
[]
[]
[]
[]
[]
[]
["Telephone:  800-784-0360",null,null,null,"Released ","2015-09-17T10:25:42.470"]

{"sheet":"Carroll (015)","index":11,"n_rows":75,"n_cols":7,"rows_kept":75,"cut":false,"hidden":false,"merged":[[27,2,27,5],[0,1,0,5],[1,1,1,5],[2,1,2,5]]}
[null,"UI COVERED EMPLOYMENT"]
[null,"Carroll County"]
[null,"2014 Annual Averages"]
[]
[]
[]
["NAICS Sectors/Ownership",null,"Number of Reporting Units","Average Number of Workers","Total Annual Wages","Average Annual Wages"]
["Private Ownership Only",null,"not rounded","rounded to tens","rounded to hundreds","rounded to hundreds"]
[null,"AGRICULTURE, FORESTRY, FISHING AND HUNTI",32,190,7894800,41600]
[null,"MINING, QUARRYING, AND OIL AND GAS EXTRA","Confidential","Confidential","Confidential","Confidential"]
[null,"UTILITIES","Confidential","Confidential","Confidential","Confidential"]
[null,"CONSTRUCTION",60,260,8998700,34600]
[null,"MANUFACTURING","Confidential","Confidential","Confidential","Confidential"]
[null,"WHOLESALE TRADE",17,180,11108300,61700]
[null,"RETAIL TRADE",50,390,8746700,22400]
[null,"TRANSPORTATION AND WAREHOUSING",23,100,3580100,35800]
[null,"INFORMATION",5,20,637600,31900]
[null,"FINANCE AND INSURANCE",20,100,3490700,34900]
[null,"REAL ESTATE AND RENTAL AND LEASING",12,40,793800,19800]
[null,"PROFESSIONAL AND TECHNICAL SERVICES",18,80,2254200,28200]
[null,"MANAGEMENT OF COMPANIES AND ENTERPRISES",0,"0",0,0]
[null,"ADMINISTRATIVE AND WASTE SERVICES",15,30,1050900,35000]
[null,"EDUCATIONAL SERVICES","Confidential","Confidential","Confidential","Confidential"]
[null,"HEALTH CARE AND SOCIAL ASSISTANCE",24,200,5585500,27900]
[null,"ARTS, ENTERTAINMENT, AND RECREATION",4,10,69700,7000]
[null,"ACCOMMODATION AND FOOD SERVICES",27,480,5984700,12500]
[null,"OTHER SERVICES, EXCEPT PUBLIC ADMIN",27,80,1735400,21700]
[null,"UNCLASSIFIED","Data included in Total UI Covered"]
[]
["Local Government"]
[null,"LOCAL GOVERNMENT",12,760,19637400,25800]
[null,"EDUCATIONAL SERVICES",2,470,12937900,27500]
[null,"HEALTH CARE AND SOCIAL ASSISTANCE",0,"0",0,0]
[]
["State Government"]
[null,"STATE GOVERNMENT",8,40,1746200,43700]
[null,"EDUCATIONAL SERVICES",0,"0",0,0]
[null,"HEALTH CARE AND SOCIAL ASSISTANCE",0,"0",0,0]
[]
["Total UI Covered"]
[null,"TOTAL UI COVERED",374,5240,172393500,32900]
[]
["Federal Government"]
[null,"FEDERAL GOVERNMENT",10,60,3125700,52100]
[]
[]
["*Less than 5 employees unrounded"]
[]
[]
[]
[]
[]
[]
[]
[]
[]
[]
[]
[]
[]
[]
[]
[]
[]
[]
[null,null,null,null,null,null,"        "]
[]
[]
[]
[]
[]
[]
[]
[]
["Telephone:  800-784-0360",null,null,null,"Released ","2015-09-17T10:26:02.450"]

{"sheet":"Cass (017)","index":12,"n_rows":75,"n_cols":6,"rows_kept":75,"cut":false,"hidden":false,"merged":[[27,2,27,5],[0,1,0,5],[1,1,1,5],[2,1,2,5]]}
[null,"UI COVERED EMPLOYMENT"]
[null,"Cass County"]
[null,"2014 Annual Averages"]
[]
[]
[]
["NAICS Sectors/Ownership",null,"Number of Reporting Units","Average Number of Workers","Total Annual Wages","Average Annual Wages"]
["Private Ownership Only",null,"not rounded","rounded to tens","rounded to hundreds","rounded to hundreds"]
[null,"AGRICULTURE, FORESTRY, FISHING AND HUNTI",21,120,3615500,30100]
[null,"MINING, QUARRYING, AND OIL AND GAS EXTRA","Confidential","Confidential","Confidential","Confidential"]
[null,"UTILITIES","Confidential","Confidential","Confidential","Confidential"]
[null,"CONSTRUCTION",64,530,24278600,45800]
[null,"MANUFACTURING",51,4310,162389800,37700]
[null,"WHOLESALE TRADE",44,530,27375900,51700]
[null,"RETAIL TRADE",121,1580,37059300,23500]
[null,"TRANSPORTATION AND WAREHOUSING",31,320,11964800,37400]
[null,"INFORMATION",8,100,2932300,29300]
[null,"FINANCE AND INSURANCE",44,310,13279000,42800]
[null,"REAL ESTATE AND RENTAL AND LEASING",21,70,1743400,24900]
[null,"PROFESSIONAL AND TECHNICAL SERVICES",40,190,6236100,32800]
[null,"MANAGEMENT OF COMPANIES AND ENTERPRISES",5,90,6057400,67300]
[null,"ADMINISTRATIVE AND WASTE SERVICES",38,600,20330600,33900]
[null,"EDUCATIONAL SERVICES","Confidential","Confidential","Confidential","Confidential"]
[null,"HEALTH CARE AND SOCIAL ASSISTANCE",57,1300,32951100,25300]
[null,"ARTS, ENTERTAINMENT, AND RECREATION",5,20,299000,15000]
[null,"ACCOMMODATION AND FOOD SERVICES",73,960,10880100,11300]
[null,"OTHER SERVICES, EXCEPT PUBLIC ADMIN",65,260,5154900,19800]
[null,"UNCLASSIFIED","Data included in Total UI Covered"]
[]
["Local Government"]
[null,"LOCAL GOVERNMENT",17,2380,84055400,35300]
[null,"EDUCATIONAL SERVICES",3,1190,37168100,31200]
[null,"HEALTH CARE AND SOCIAL ASSISTANCE",1,540,26572100,49200]
[]
["State Government"]
[null,"STATE GOVERNMENT",16,700,28084900,40100]
[null,"EDUCATIONAL SERVICES",0,"0",0,0]
[null,"HEALTH CARE AND SOCIAL ASSISTANCE",1,450,17807900,39600]
[]
["Total UI Covered"]
[null,"TOTAL UI COVERED",724,14430,482622500,33400]
[]
["Federal Government"]
[null,"FEDERAL GOVERNMENT",10,80,4421300,55300]
[]
[]
["*Less than 5 employees unrounded"]
[]
[]
[]
[]
[]
[]
[]
[]
[]
[]
[]
[]
[]
[]
[]
[]
[]
[]
[]
[]
[]
[]
[]
[]
[]
[]
[]
["Telephone:  800-784-0360",null,null,null,"Released ","2015-09-17T10:26:24.280"]

{"sheet":"Clark (019)","index":13,"n_rows":75,"n_cols":6,"rows_kept":75,"cut":false,"hidden":false,"merged":[[27,2,27,5],[0,1,0,5],[1,1,1,5],[2,1,2,5]]}
[null,"UI COVERED EMPLOYMENT"]
[null,"Clark County"]
[null,"2014 Annual Averages"]
[]
[]
[]
["NAICS Sectors/Ownership",null,"Number of Reporting Units","Average Number of Workers","Total Annual Wages","Average Annual Wages"]
["Private Ownership Only",null,"not rounded","rounded to tens","rounded to hundreds","rounded to hundreds"]
[null,"AGRICULTURE, FORESTRY, FISHING AND HUNTI",10,70,1010400,14400]
[null,"MINING, QUARRYING, AND OIL AND GAS EXTRA",6,90,4865700,54100]
[null,"UTILITIES",13,190,13374000,70400]
[null,"CONSTRUCTION",256,2180,97009200,44500]
[null,"MANUFACTURING",156,7800,358728100,46000]
[null,"WHOLESALE TRADE",144,1370,70881300,51700]
[null,"RETAIL TRADE",379,7900,198869300,25200]
[null,"TRANSPORTATION AND WAREHOUSING",130,4240,210907400,49700]
[null,"INFORMATION",24,240,7101000,29600]
[null,"FINANCE AND INSURANCE",155,2140,104473400,48800]
[null,"REAL ESTATE AND RENTAL AND LEASING",94,540,16985200,31500]
[null,"PROFESSIONAL AND TECHNICAL SERVICES",177,840,41772700,49700]
[null,"MANAGEMENT OF COMPANIES AND ENTERPRISES",25,180,15348000,85300]
[null,"ADMINISTRATIVE AND WASTE SERVICES",130,3220,92099000,28600]
[null,"EDUCATIONAL SERVICES",23,150,4599300,30700]
[null,"HEALTH CARE AND SOCIAL ASSISTANCE",205,4230,171330700,40500]
[null,"ARTS, ENTERTAINMENT, AND RECREATION",35,510,7842000,15400]
[null,"ACCOMMODATION AND FOOD SERVICES",222,5400,76051300,14100]
[null,"OTHER SERVICES, EXCEPT PUBLIC ADMIN",178,1360,37633200,27700]
[null,"UNCLASSIFIED","Data included in Total UI Covered"]
[]
["Local Government"]
[null,"LOCAL GOVERNMENT",76,5330,213752500,40100]
[null,"EDUCATIONAL SERVICES",33,2040,82457100,40400]
[null,"HEALTH CARE AND SOCIAL ASSISTANCE",7,1660,74458800,44900]
[]
["State Government"]
[null,"STATE GOVERNMENT",22,610,21020100,34500]
[null,"EDUCATIONAL SERVICES",1,320,9174100,28700]
[null,"HEALTH CARE AND SOCIAL ASSISTANCE",0,"0",0,0]
[]
["Total UI Covered"]
[null,"TOTAL UI COVERED",2458,48570,1765654000,36400]
[]
["Federal Government"]
[null,"FEDERAL GOVERNMENT",14,1480,61502300,41600]
[]
[]
["*Less than 5 employees unrounded"]
[]
[]
[]
[]
[]
[]
[]
[]
[]
[]
[]
[]
[]
[]
[]
[]
[]
[]
[]
[]
[]
[]
[]
[]
[]
[]
[]
["Telephone:  800-784-0360",null,null,null,"Released ","2015-09-17T10:26:44.990"]

{"sheet":"Clay (021)","index":14,"n_rows":75,"n_cols":6,"rows_kept":75,"cut":false,"hidden":false,"merged":[[27,2,27,5],[0,1,0,5],[1,1,1,5],[2,1,2,5]]}
[null,"UI COVERED EMPLOYMENT"]
[null,"Clay County"]
[null,"2014 Annual Averages"]
[]
[]
[]
["NAICS Sectors/Ownership",null,"Number of Reporting Units","Average Number of Workers","Total Annual Wages","Average Annual Wages"]
["Private Ownership Only",null,"not rounded","rounded to tens","rounded to hundreds","rounded to hundreds"]
[null,"AGRICULTURE, FORESTRY, FISHING AND HUNTI",12,40,1642000,41100]
[null,"MINING, QUARRYING, AND OIL AND GAS EXTRA",4,30,667800,22300]
[null,"UTILITIES","Confidential","Confidential","Confidential","Confidential"]
[null,"CONSTRUCTION",52,190,5217300,27500]
[null,"MANUFACTURING",35,2680,105801100,39500]
[null,"WHOLESALE TRADE",18,160,6156600,38500]
[null,"RETAIL TRADE",78,940,20376800,21700]
[null,"TRANSPORTATION AND WAREHOUSING",40,210,6825900,32500]
[null,"INFORMATION",6,40,1347300,33700]
[null,"FINANCE AND INSURANCE",28,150,5231600,34900]
[null,"REAL ESTATE AND RENTAL AND LEASING",10,30,447500,14900]
[null,"PROFESSIONAL AND TECHNICAL SERVICES",22,80,2355400,29400]
[null,"MANAGEMENT OF COMPANIES AND ENTERPRISES","Confidential","Confidential","Confidential","Confidential"]
[null,"ADMINISTRATIVE AND WASTE SERVICES",18,80,2866800,35800]
[null,"EDUCATIONAL SERVICES",4,10,327100,32700]
[null,"HEALTH CARE AND SOCIAL ASSISTANCE",39,620,18920200,30500]
[null,"ARTS, ENTERTAINMENT, AND RECREATION",5,60,561400,9400]
[null,"ACCOMMODATION AND FOOD SERVICES",43,570,5454500,9600]
[null,"OTHER SERVICES, EXCEPT PUBLIC ADMIN",37,340,3804000,11200]
[null,"UNCLASSIFIED","Data included in Total UI Covered"]
[]
["Local Government"]
[null,"LOCAL GOVERNMENT",20,1140,31923300,28000]
[null,"EDUCATIONAL SERVICES",1,810,23377200,28900]
[null,"HEALTH CARE AND SOCIAL ASSISTANCE",0,"0",0,0]
[]
["State Government"]
[null,"STATE GOVERNMENT",13,80,2977700,37200]
[null,"EDUCATIONAL SERVICES",0,"0",0,0]
[null,"HEALTH CARE AND SOCIAL ASSISTANCE",0,"0",0,0]
[]
["Total UI Covered"]
[null,"TOTAL UI COVERED",484,7470,224159100,30000]
[]
["Federal Government"]
[null,"FEDERAL GOVERNMENT",14,80,3298300,41200]
[]
[]
["*Less than 5 employees unrounded"]
[]
[]
[]
[]
[]
[]
[]
[]
[]
[]
[]
[]
[]
[]
[]
[]
[]
[]
[]
[]
[]
[]
[]
[]
[]
[]
[]
["Telephone:  800-784-0360",null,null,null,"Released ","2015-09-17T10:27:09.330"]

{"sheet":"Clinton (023)","index":15,"n_rows":75,"n_cols":6,"rows_kept":75,"cut":false,"hidden":false,"merged":[[27,2,27,5],[0,1,0,5],[1,1,1,5],[2,1,2,5]]}
[null,"UI COVERED EMPLOYMENT"]
[null,"Clinton County"]
[null,"2014 Annual Averages"]
[]
[]
[]
["NAICS Sectors/Ownership",null,"Number of Reporting Units","Average Number of Workers","Total Annual Wages","Average Annual Wages"]
["Private Ownership Only",null,"not rounded","rounded to tens","rounded to hundreds","rounded to hundreds"]
[null,"AGRICULTURE, FORESTRY, FISHING AND HUNTI",28,220,6569200,29900]
[null,"MINING, QUARRYING, AND OIL AND GAS EXTRA",0,"0",0,0]
[null,"UTILITIES",0,"0",0,0]
[null,"CONSTRUCTION",61,430,19139200,44500]
[null,"MANUFACTURING",40,3770,179986100,47700]
[null,"WHOLESALE TRADE",39,270,14260400,52800]
[null,"RETAIL TRADE",87,950,20513900,21600]
[null,"TRANSPORTATION AND WAREHOUSING",31,400,22013700,55000]
[null,"INFORMATION",8,70,2565700,36700]
[null,"FINANCE AND INSURANCE",33,200,9721500,48600]
[null,"REAL ESTATE AND RENTAL AND LEASING",14,50,1202200,24000]
[null,"PROFESSIONAL AND TECHNICAL SERVICES",34,110,3572700,32500]
[null,"MANAGEMENT OF COMPANIES AND ENTERPRISES","Confidential","Confidential","Confidential","Confidential"]
[null,"ADMINISTRATIVE AND WASTE SERVICES",24,410,11620000,28300]
[null,"EDUCATIONAL SERVICES",4,10,223600,22400]
[null,"HEALTH CARE AND SOCIAL ASSISTANCE",41,1100,35208000,32000]
[null,"ARTS, ENTERTAINMENT, AND RECREATION",6,40,281500,7000]
[null,"ACCOMMODATION AND FOOD SERVICES",47,740,8353200,11300]
[null,"OTHER SERVICES, EXCEPT PUBLIC ADMIN",44,360,8470200,23500]
[null,"UNCLASSIFIED","Data included in Total UI Covered"]
[]
["Local Government"]
[null,"LOCAL GOVERNMENT",23,1570,49473500,31500]
[null,"EDUCATIONAL SERVICES",9,940,30343600,32300]
[null,"HEALTH CARE AND SOCIAL ASSISTANCE",0,"0",0,0]
[]
["State Government"]
[null,"STATE GOVERNMENT",9,60,2152500,35900]
[null,"EDUCATIONAL SERVICES",0,"0",0,0]
[null,"HEALTH CARE AND SOCIAL ASSISTANCE",0,"0",0,0]
[]
["Total UI Covered"]
[null,"TOTAL UI COVERED",574,10760,396760000,36900]
[]
["Federal Government"]
[null,"FEDERAL GOVERNMENT",10,60,2855100,47600]
[]
[]
["*Less than 5 employees unrounded"]
[]
[]
[]
[]
[]
[]
[]
[]
[]
[]
[]
[]
[]
[]
[]
[]
[]
[]
[]
[]
[]
[]
[]
[]
[]
[]
[]
["Telephone:  800-784-0360",null,null,null,"Released ","2015-09-17T10:27:41.360"]

{"sheet":"Crawford (025)","index":16,"n_rows":75,"n_cols":6,"rows_kept":75,"cut":false,"hidden":false,"merged":[[27,2,27,5],[0,1,0,5],[1,1,1,5],[2,1,2,5]]}
[null,"UI COVERED EMPLOYMENT"]
[null,"Crawford County"]
[null,"2014 Annual Averages"]
[]
[]
[]
["NAICS Sectors/Ownership",null,"Number of Reporting Units","Average Number of Workers","Total Annual Wages","Average Annual Wages"]
["Private Ownership Only",null,"not rounded","rounded to tens","rounded to hundreds","rounded to hundreds"]
[null,"AGRICULTURE, FORESTRY, FISHING AND HUNTI",3,10,268600,26900]
[null,"MINING, QUARRYING, AND OIL AND GAS EXTRA","Confidential","Confidential","Confidential","Confidential"]
[null,"UTILITIES",3,10,396200,39600]
[null,"CONSTRUCTION",13,30,547800,18300]
[null,"MANUFACTURING","Confidential","Confidential","Confidential","Confidential"]
[null,"WHOLESALE TRADE",4,20,614000,30700]
[null,"RETAIL TRADE",26,180,3202300,17800]
[null,"TRANSPORTATION AND WAREHOUSING",15,150,4758900,31700]
[null,"INFORMATION",0,"0",0,0]
[null,"FINANCE AND INSURANCE",8,30,888500,29600]
[null,"REAL ESTATE AND RENTAL AND LEASING","Confidential","Confidential","Confidential","Confidential"]
[null,"PROFESSIONAL AND TECHNICAL SERVICES",4,10,129800,13000]
[null,"MANAGEMENT OF COMPANIES AND ENTERPRISES","Confidential","Confidential","Confidential","Confidential"]
[null,"ADMINISTRATIVE AND WASTE SERVICES","Confidential","Confidential","Confidential","Confidential"]
[null,"EDUCATIONAL SERVICES",0,"0",0,0]
[null,"HEALTH CARE AND SOCIAL ASSISTANCE",20,140,4149500,29600]
[null,"ARTS, ENTERTAINMENT, AND RECREATION","Confidential","Confidential","Confidential","Confidential"]
[null,"ACCOMMODATION AND FOOD SERVICES",20,140,1692000,12100]
[null,"OTHER SERVICES, EXCEPT PUBLIC ADMIN",9,40,700100,17500]
[null,"UNCLASSIFIED","Data included in Total UI Covered"]
[]
["Local Government"]
[null,"LOCAL GOVERNMENT",13,500,11975700,24000]
[null,"EDUCATIONAL SERVICES",2,340,8726900,25700]
[null,"HEALTH CARE AND SOCIAL ASSISTANCE",0,"0",0,0]
[]
["State Government"]
[null,"STATE GOVERNMENT",9,60,1859400,31000]
[null,"EDUCATIONAL SERVICES",0,"0",0,0]
[null,"HEALTH CARE AND SOCIAL ASSISTANCE",0,"0",0,0]
[]
["Total UI Covered"]
[null,"TOTAL UI COVERED",162,1990,55194100,27700]
[]
["Federal Government"]
[null,"FEDERAL GOVERNMENT",5,20,910300,45500]
[]
[]
["*Less than 5 employees unrounded"]
[]
[]
[]
[]
[]
[]
[]
[]
[]
[]
[]
[]
[]
[]
[]
[]
[]
[]
[]
[]
[]
[]
[]
[]
[]
[]
[]
["Telephone:  800-784-0360",null,null,null,"Released ","2015-09-17T10:28:06.490"]

{"sheet":"Daviess (027)","index":17,"n_rows":75,"n_cols":6,"rows_kept":75,"cut":false,"hidden":false,"merged":[[27,2,27,5],[0,1,0,5],[1,1,1,5],[2,1,2,5]]}
[null,"UI COVERED EMPLOYMENT"]
[null,"Daviess County"]
[null,"2014 Annual Averages"]
[]
[]
[]
["NAICS Sectors/Ownership",null,"Number of Reporting Units","Average Number of Workers","Total Annual Wages","Average Annual Wages"]
["Private Ownership Only",null,"not rounded","rounded to tens","rounded to hundreds","rounded to hundreds"]
[null,"AGRICULTURE, FORESTRY, FISHING AND HUNTI",25,90,3286500,36500]
[null,"MINING, QUARRYING, AND OIL AND GAS EXTRA","Confidential","Confidential","Confidential","Confidential"]
[null,"UTILITIES",4,40,2681100,67000]
[null,"CONSTRUCTION",190,1280,47807700,37300]
[null,"MANUFACTURING",87,2130,71840700,33700]
[null,"WHOLESALE TRADE",32,390,20665600,53000]
[null,"RETAIL TRADE",102,1270,32774500,25800]
[null,"TRANSPORTATION AND WAREHOUSING",43,770,25804300,33500]
[null,"INFORMATION",9,80,2984600,37300]
[null,"FINANCE AND INSURANCE",40,260,11788700,45300]
[null,"REAL ESTATE AND RENTAL AND LEASING",15,80,1905100,23800]
[null,"PROFESSIONAL AND TECHNICAL SERVICES",47,290,12555500,43300]
[null,"MANAGEMENT OF COMPANIES AND ENTERPRISES","Confidential","Confidential","Confidential","Confidential"]
[null,"ADMINISTRATIVE AND WASTE SERVICES",18,190,5073600,26700]
[null,"EDUCATIONAL SERVICES","Confidential","Confidential","Confidential","Confidential"]
[null,"HEALTH CARE AND SOCIAL ASSISTANCE",70,960,26089900,27200]
[null,"ARTS, ENTERTAINMENT, AND RECREATION",5,70,431200,6200]
[null,"ACCOMMODATION AND FOOD SERVICES",52,820,8711500,10600]
[null,"OTHER SERVICES, EXCEPT PUBLIC ADMIN",70,330,8615800,26100]
[null,"UNCLASSIFIED","Data included in Total UI Covered"]
[]
["Local Government"]
[null,"LOCAL GOVERNMENT",21,1620,59180300,36500]
[null,"EDUCATIONAL SERVICES",6,640,21119400,33000]
[null,"HEALTH CARE AND SOCIAL ASSISTANCE",1,560,23982700,42800]
[]
["State Government"]
[null,"STATE GOVERNMENT",14,90,3438900,38200]
[null,"EDUCATIONAL SERVICES",0,"0",0,0]
[null,"HEALTH CARE AND SOCIAL ASSISTANCE",0,"0",0,0]
[]
["Total UI Covered"]
[null,"TOTAL UI COVERED",852,10940,355877500,32500]
[]
["Federal Government"]
[null,"FEDERAL GOVERNMENT",9,70,3619300,51700]
[]
[]
["*Less than 5 employees unrounded"]
[]
[]
[]
[]
[]
[]
[]
[]
[]
[]
[]
[]
[]
[]
[]
[]
[]
[]
[]
[]
[]
[]
[]
[]
[]
[]
[]
["Telephone:  800-784-0360",null,null,null,"Released ","2015-09-17T10:28:26.510"]

{"sheet":"Dearborn (029)","index":18,"n_rows":75,"n_cols":6,"rows_kept":75,"cut":false,"hidden":false,"merged":[[27,2,27,5],[0,1,0,5],[1,1,1,5],[2,1,2,5]]}
[null,"UI COVERED EMPLOYMENT"]
[null,"Dearborn County"]
[null,"2014 Annual Averages"]
[]
[]
[]
["NAICS Sectors/Ownership",null,"Number of Reporting Units","Average Number of Workers","Total Annual Wages","Average Annual Wages"]
["Private Ownership Only",null,"not rounded","rounded to tens","rounded to hundreds","rounded to hundreds"]
[null,"AGRICULTURE, FORESTRY, FISHING AND HUNTI",4,10,129100,12900]
[null,"MINING, QUARRYING, AND OIL AND GAS EXTRA","Confidential","Confidential","Confidential","Confidential"]
[null,"UTILITIES",16,230,21976300,95500]
[null,"CONSTRUCTION",118,620,33250500,53600]
[null,"MANUFACTURING",47,2110,92499200,43800]
[null,"WHOLESALE TRADE",51,250,11983300,47900]
[null,"RETAIL TRADE",126,1880,48562400,25800]
[null,"TRANSPORTATION AND WAREHOUSING",53,330,13016000,39400]
[null,"INFORMATION",8,110,4300800,39100]
[null,"FINANCE AND INSURANCE",50,340,15668300,46100]
[null,"REAL ESTATE AND RENTAL AND LEASING",34,90,2582900,28700]
[null,"PROFESSIONAL AND TECHNICAL SERVICES",72,250,10090400,40400]
[null,"MANAGEMENT OF COMPANIES AND ENTERPRISES","Confidential","Confidential","Confidential","Confidential"]
[null,"ADMINISTRATIVE AND WASTE SERVICES",52,330,8310200,25200]
[null,"EDUCATIONAL SERVICES","Confidential","Confidential","Confidential","Confidential"]
[null,"HEALTH CARE AND SOCIAL ASSISTANCE",83,1420,45319500,31900]
[null,"ARTS, ENTERTAINMENT, AND RECREATION",24,1630,42538300,26100]
[null,"ACCOMMODATION AND FOOD SERVICES",64,1220,15375400,12600]
[null,"OTHER SERVICES, EXCEPT PUBLIC ADMIN",70,280,6317500,22600]
[null,"UNCLASSIFIED","Data included in Total UI Covered"]
[]
["Local Government"]
[null,"LOCAL GOVERNMENT",45,2800,109765600,39200]
[null,"EDUCATIONAL SERVICES",8,1140,39184400,34400]
[null,"HEALTH CARE AND SOCIAL ASSISTANCE",17,870,45564100,52400]
[]
["State Government"]
[null,"STATE GOVERNMENT",10,100,3710900,37100]
[null,"EDUCATIONAL SERVICES",0,"0",0,0]
[null,"HEALTH CARE AND SOCIAL ASSISTANCE",0,"0",0,0]
[]
["Total UI Covered"]
[null,"TOTAL UI COVERED",939,14070,488082500,34700]
[]
["Federal Government"]
[null,"FEDERAL GOVERNMENT",9,100,5823700,58200]
[]
[]
["*Less than 5 employees unrounded"]
[]
[]
[]
[]
[]
[]
[]
[]
[]
[]
[]
[]
[]
[]
[]
[]
[]
[]
[]
[]
[]
[]
[]
[]
[]
[]
[]
["Telephone:  800-784-0360",null,null,null,"Released ","2015-09-17T10:31:31.370"]

{"sheet":"Decatur (031)","index":19,"n_rows":75,"n_cols":6,"rows_kept":75,"cut":false,"hidden":false,"merged":[[27,2,27,5],[0,1,0,5],[1,1,1,5],[2,1,2,5]]}
[null,"UI COVERED EMPLOYMENT"]
[null,"Decatur County"]
[null,"2014 Annual Averages"]
[]
[]
[]
["NAICS Sectors/Ownership",null,"Number of Reporting Units","Average Number of Workers","Total Annual Wages","Average Annual Wages"]
["Private Ownership Only",null,"not rounded","rounded to tens","rounded to hundreds","rounded to hundreds"]
[null,"AGRICULTURE, FORESTRY, FISHING AND HUNTI",27,210,8333500,39700]
[null,"MINING, QUARRYING, AND OIL AND GAS EXTRA","Confidential","Confidential","Confidential","Confidential"]
[null,"UTILITIES",4,60,4089800,68200]
[null,"CONSTRUCTION",64,280,9784400,34900]
[null,"MANUFACTURING",59,5170,265497600,51400]
[null,"WHOLESALE TRADE",36,430,20633000,48000]
[null,"RETAIL TRADE",94,1100,25065700,22800]
[null,"TRANSPORTATION AND WAREHOUSING",35,670,26563100,39600]
[null,"INFORMATION",5,70,2632100,37600]
[null,"FINANCE AND INSURANCE",37,240,12166700,50700]
[null,"REAL ESTATE AND RENTAL AND LEASING",17,50,1810500,36200]
[null,"PROFESSIONAL AND TECHNICAL SERVICES",29,100,4371200,43700]
[null,"MANAGEMENT OF COMPANIES AND ENTERPRISES","Confidential","Confidential","Confidential","Confidential"]
[null,"ADMINISTRATIVE AND WASTE SERVICES",29,1430,38064900,26600]
[null,"EDUCATIONAL SERVICES",7,10,96600,9700]
[null,"HEALTH CARE AND SOCIAL ASSISTANCE",43,710,20354900,28700]
[null,"ARTS, ENTERTAINMENT, AND RECREATION",6,120,3077700,25600]
[null,"ACCOMMODATION AND FOOD SERVICES",49,820,10915300,13300]
[null,"OTHER SERVICES, EXCEPT PUBLIC ADMIN",51,260,5344600,20600]
[null,"UNCLASSIFIED","Data included in Total UI Covered"]
[]
["Local Government"]
[null,"LOCAL GOVERNMENT",21,1400,55134500,39400]
[null,"EDUCATIONAL SERVICES",6,610,21976600,36000]
[null,"HEALTH CARE AND SOCIAL ASSISTANCE",1,430,21803800,50700]
[]
["State Government"]
[null,"STATE GOVERNMENT",12,60,2199100,36700]
[null,"EDUCATIONAL SERVICES",0,"0",0,0]
[null,"HEALTH CARE AND SOCIAL ASSISTANCE",0,"0",0,0]
[]
["Total UI Covered"]
[null,"TOTAL UI COVERED",627,13420,531816400,39600]
[]
["Federal Government"]
[null,"FEDERAL GOVERNMENT",8,60,3431700,57200]
[]
[]
["*Less than 5 employees unrounded"]
[]
[]
[]
[]
[]
[]
[]
[]
[]
[]
[]
[]
[]
[]
[]
[]
[]
[]
[]
[]
[]
[]
[]
[]
[]
[]
[]
["Telephone:  800-784-0360",null,null,null,"Released ","2015-09-17T10:31:50.820"]

{"sheet":"Dekalb (033)","index":20,"n_rows":75,"n_cols":6,"rows_kept":75,"cut":false,"hidden":false,"merged":[[27,2,27,5],[0,1,0,5],[1,1,1,5],[2,1,2,5]]}
[null,"UI COVERED EMPLOYMENT"]
[null,"Dekalb County"]
[null,"2014 Annual Averages"]
[]
[]
[]
["NAICS Sectors/Ownership",null,"Number of Reporting Units","Average Number of Workers","Total Annual Wages","Average Annual Wages"]
["Private Ownership Only",null,"not rounded","rounded to tens","rounded to hundreds","rounded to hundreds"]
[null,"AGRICULTURE, FORESTRY, FISHING AND HUNTI",20,90,2432800,27000]
[null,"MINING, QUARRYING, AND OIL AND GAS EXTRA",5,60,2134300,35600]
[null,"UTILITIES","Confidential","Confidential","Confidential","Confidential"]
[null,"CONSTRUCTION",113,630,24702400,39200]
[null,"MANUFACTURING",118,8240,453336700,55000]
[null,"WHOLESALE TRADE",57,1310,65528300,50000]
[null,"RETAIL TRADE",110,1460,34670600,23700]
[null,"TRANSPORTATION AND WAREHOUSING",38,850,29945300,35200]
[null,"INFORMATION",8,90,2770600,30800]
[null,"FINANCE AND INSURANCE",52,330,13692400,41500]
[null,"REAL ESTATE AND RENTAL AND LEASING",24,110,4211700,38300]
[null,"PROFESSIONAL AND TECHNICAL SERVICES",79,470,24785300,52700]
[null,"MANAGEMENT OF COMPANIES AND ENTERPRISES",6,350,30206100,86300]
[null,"ADMINISTRATIVE AND WASTE SERVICES",55,940,26545000,28200]
[null,"EDUCATIONAL SERVICES",6,60,702800,11700]
[null,"HEALTH CARE AND SOCIAL ASSISTANCE",56,1600,58373200,36500]
[null,"ARTS, ENTERTAINMENT, AND RECREATION",17,170,2254400,13300]
[null,"ACCOMMODATION AND FOOD SERVICES",76,1270,15693500,12400]
[null,"OTHER SERVICES, EXCEPT PUBLIC ADMIN",81,470,8371600,17800]
[null,"UNCLASSIFIED","Data included in Total UI Covered"]
[]
["Local Government"]
[null,"LOCAL GOVERNMENT",22,1870,64426800,34500]
[null,"EDUCATIONAL SERVICES",10,1200,43174400,36000]
[null,"HEALTH CARE AND SOCIAL ASSISTANCE",0,"0",0,0]
[]
["State Government"]
[null,"STATE GOVERNMENT",14,80,2919800,36500]
[null,"EDUCATIONAL SERVICES",0,"0",0,0]
[null,"HEALTH CARE AND SOCIAL ASSISTANCE",0,"0",0,0]
[]
["Total UI Covered"]
[null,"TOTAL UI COVERED",958,20470,868218200,42400]
[]
["Federal Government"]
[null,"FEDERAL GOVERNMENT",11,80,4454800,55700]
[]
[]
["*Less than 5 employees unrounded"]
[]
[]
[]
[]
[]
[]
[]
[]
[]
[]
[]
[]
[]
[]
[]
[]
[]
[]
[]
[]
[]
[]
[]
[]
[]
[]
[]
["Telephone:  800-784-0360",null,null,null,"Released ","2015-09-17T10:32:08.670"]

{"sheet":"Delaware (035)","index":21,"n_rows":75,"n_cols":6,"rows_kept":75,"cut":false,"hidden":false,"merged":[[27,2,27,5],[0,1,0,5],[1,1,1,5],[2,1,2,5]]}
[null,"UI COVERED EMPLOYMENT"]
[null,"Delaware County"]
[null,"2014 Annual Averages"]
[]
[]
[]
["NAICS Sectors/Ownership",null,"Number of Reporting Units","Average Number of Workers","Total Annual Wages","Average Annual Wages"]
["Private Ownership Only",null,"not rounded","rounded to tens","rounded to hundreds","rounded to hundreds"]
[null,"AGRICULTURE, FORESTRY, FISHING AND HUNTI",17,180,5540900,30800]
[null,"MINING, QUARRYING, AND OIL AND GAS EXTRA","Confidential","Confidential","Confidential","Confidential"]
[null,"UTILITIES",6,170,13033300,76700]
[null,"CONSTRUCTION",171,1410,60076800,42600]
[null,"MANUFACTURING",125,4180,198740500,47500]
[null,"WHOLESALE TRADE",108,970,47388200,48900]
[null,"RETAIL TRADE",412,6460,151076100,23400]
[null,"TRANSPORTATION AND WAREHOUSING",46,1100,44764100,40700]
[null,"INFORMATION",13,330,14743900,44700]
[null,"FINANCE AND INSURANCE",153,1750,73613200,42100]
[null,"REAL ESTATE AND RENTAL AND LEASING",97,610,21204000,34800]
[null,"PROFESSIONAL AND TECHNICAL SERVICES",164,1710,77441700,45300]
[null,"MANAGEMENT OF COMPANIES AND ENTERPRISES",17,790,66380700,84000]
[null,"ADMINISTRATIVE AND WASTE SERVICES",107,1890,45237900,23900]
[null,"EDUCATIONAL SERVICES",18,110,3078000,28000]
[null,"HEALTH CARE AND SOCIAL ASSISTANCE",239,8030,325930200,40600]
[null,"ARTS, ENTERTAINMENT, AND RECREATION",41,490,6380000,13000]
[null,"ACCOMMODATION AND FOOD SERVICES",209,4450,56512100,12700]
[null,"OTHER SERVICES, EXCEPT PUBLIC ADMIN",181,1130,27837900,24600]
[null,"UNCLASSIFIED","Data included in Total UI Covered"]
[]
["Local Government"]
[null,"LOCAL GOVERNMENT",51,3630,125438600,34600]
[null,"EDUCATIONAL SERVICES",28,2240,76441600,34100]
[null,"HEALTH CARE AND SOCIAL ASSISTANCE",0,"0",0,0]
[]
["State Government"]
[null,"STATE GOVERNMENT",21,4670,231951900,49700]
[null,"EDUCATIONAL SERVICES",2,4490,224508300,50000]
[null,"HEALTH CARE AND SOCIAL ASSISTANCE",0,"0",0,0]
[]
["Total UI Covered"]
[null,"TOTAL UI COVERED",2196,44070,1598286400,36300]
[]
["Federal Government"]
[null,"FEDERAL GOVERNMENT",17,280,17128800,61200]
[]
[]
["*Less than 5 employees unrounded"]
[]
[]
[]
[]
[]
[]
[]
[]
[]
[]
[]
[]
[]
[]
[]
[]
[]
[]
[]
[]
[]
[]
[]
[]
[]
[]
[]
["Telephone:  800-784-0360",null,null,null,"Released ","2015-09-17T10:32:25.780"]

{"sheet":"Dubois (037)","index":22,"n_rows":75,"n_cols":6,"rows_kept":75,"cut":false,"hidden":false,"merged":[[27,2,27,5],[0,1,0,5],[1,1,1,5],[2,1,2,5]]}
[null,"UI COVERED EMPLOYMENT"]
[null,"Dubois County"]
[null,"2014 Annual Averages"]
[]
[]
[]
["NAICS Sectors/Ownership",null,"Number of Reporting Units","Average Number of Workers","Total Annual Wages","Average Annual Wages"]
["Private Ownership Only",null,"not rounded","rounded to tens","rounded to hundreds","rounded to hundreds"]
[null,"AGRICULTURE, FORESTRY, FISHING AND HUNTI",45,390,9752400,25000]
[null,"MINING, QUARRYING, AND OIL AND GAS EXTRA","Confidential","Confidential","Confidential","Confidential"]
[null,"UTILITIES",5,50,2511900,50200]
[null,"CONSTRUCTION",149,940,37834200,40200]
[null,"MANUFACTURING",104,11220,485775200,43300]
[null,"WHOLESALE TRADE",87,1400,67760500,48400]
[null,"RETAIL TRADE",198,2900,75812900,26100]
[null,"TRANSPORTATION AND WAREHOUSING",59,920,42585900,46300]
[null,"INFORMATION",9,190,7067000,37200]
[null,"FINANCE AND INSURANCE",75,460,24031700,52200]
[null,"REAL ESTATE AND RENTAL AND LEASING",23,100,2445500,24500]
[null,"PROFESSIONAL AND TECHNICAL SERVICES",85,480,21830400,45500]
[null,"MANAGEMENT OF COMPANIES AND ENTERPRISES",10,470,46160600,98200]
[null,"ADMINISTRATIVE AND WASTE SERVICES",45,350,7121700,20300]
[null,"EDUCATIONAL SERVICES","Confidential","Confidential","Confidential","Confidential"]
[null,"HEALTH CARE AND SOCIAL ASSISTANCE",113,3100,139033700,44800]
[null,"ARTS, ENTERTAINMENT, AND RECREATION",12,120,1226400,10200]
[null,"ACCOMMODATION AND FOOD SERVICES",99,1650,19714100,11900]
[null,"OTHER SERVICES, EXCEPT PUBLIC ADMIN",100,550,13407300,24400]
[null,"UNCLASSIFIED","Data included in Total UI Covered"]
[]
["Local Government"]
[null,"LOCAL GOVERNMENT",24,1880,60880600,32400]
[null,"EDUCATIONAL SERVICES",8,1110,35804500,32300]
[null,"HEALTH CARE AND SOCIAL ASSISTANCE",0,"0",0,0]
[]
["State Government"]
[null,"STATE GOVERNMENT",14,160,6227900,38900]
[null,"EDUCATIONAL SERVICES",1,70,2250000,32100]
[null,"HEALTH CARE AND SOCIAL ASSISTANCE",0,"0",0,0]
[]
["Total UI Covered"]
[null,"TOTAL UI COVERED",1262,27440,1075146200,39200]
[]
["Federal Government"]
[null,"FEDERAL GOVERNMENT",15,100,5362200,53600]
[]
[]
["*Less than 5 employees unrounded"]
[]
[]
[]
[]
[]
[]
[]
[]
[]
[]
[]
[]
[]
[]
[]
[]
[]
[]
[]
[]
[]
[]
[]
[]
[]
[]
[]
["Telephone:  800-784-0360",null,null,null,"Released ","2015-09-17T10:32:41.160"]

{"sheet":"Elkhart (039)","index":23,"n_rows":75,"n_cols":6,"rows_kept":75,"cut":false,"hidden":false,"merged":[[27,2,27,5],[0,1,0,5],[1,1,1,5],[2,1,2,5]]}
[null,"UI COVERED EMPLOYMENT"]
[null,"Elkhart County"]
[null,"2014 Annual Averages"]
[]
[]
[]
["NAICS Sectors/Ownership",null,"Number of Reporting Units","Average Number of Workers","Total Annual Wages","Average Annual Wages"]
["Private Ownership Only",null,"not rounded","rounded to tens","rounded to hundreds","rounded to hundreds"]
[null,"AGRICULTURE, FORESTRY, FISHING AND HUNTI",23,180,5380400,29900]
[null,"MINING, QUARRYING, AND OIL AND GAS EXTRA","Confidential","Confidential","Confidential","Confidential"]
[null,"UTILITIES",6,160,15412400,96300]
[null,"CONSTRUCTION",442,2800,133928700,47800]
[null,"MANUFACTURING",752,57910,2674234200,46200]
[null,"WHOLESALE TRADE",422,5780,282709100,48900]
[null,"RETAIL TRADE",645,9180,234454700,25500]
[null,"TRANSPORTATION AND WAREHOUSING",179,2850,130352800,45700]
[null,"INFORMATION",40,540,22332500,41400]
[null,"FINANCE AND INSURANCE",234,1800,87762600,48800]
[null,"REAL ESTATE AND RENTAL AND LEASING",150,810,27233800,33600]
[null,"PROFESSIONAL AND TECHNICAL SERVICES",319,1940,94746400,48800]
[null,"MANAGEMENT OF COMPANIES AND ENTERPRISES",28,1940,282569500,145700]
[null,"ADMINISTRATIVE AND WASTE SERVICES",211,5470,115583400,21100]
[null,"EDUCATIONAL SERVICES",20,660,19594100,29700]
[null,"HEALTH CARE AND SOCIAL ASSISTANCE",311,9990,421675300,42200]
[null,"ARTS, ENTERTAINMENT, AND RECREATION",46,510,8045900,15800]
[null,"ACCOMMODATION AND FOOD SERVICES",334,6610,86597300,13100]
[null,"OTHER SERVICES, EXCEPT PUBLIC ADMIN",403,2330,72219600,31000]
[null,"UNCLASSIFIED","Data included in Total UI Covered"]
[]
["Local Government"]
[null,"LOCAL GOVERNMENT",54,8150,290336000,35600]
[null,"EDUCATIONAL SERVICES",20,5780,201900300,34900]
[null,"HEALTH CARE AND SOCIAL ASSISTANCE",0,"0",0,0]
[]
["State Government"]
[null,"STATE GOVERNMENT",17,230,8812100,38300]
[null,"EDUCATIONAL SERVICES",0,"0",0,0]
[null,"HEALTH CARE AND SOCIAL ASSISTANCE",0,"0",0,0]
[]
["Total UI Covered"]
[null,"TOTAL UI COVERED",4635,119890,5016281400,41800]
[]
["Federal Government"]
[null,"FEDERAL GOVERNMENT",15,250,15123300,60500]
[]
[]
["*Less than 5 employees unrounded"]
[]
[]
[]
[]
[]
[]
[]
[]
[]
[]
[]
[]
[]
[]
[]
[]
[]
[]
[]
[]
[]
[]
[]
[]
[]
[]
[]
["Telephone:  800-784-0360",null,null,null,"Released ","2015-09-17T10:32:57.700"]

{"sheet":"Fayette (041)","index":24,"n_rows":75,"n_cols":6,"rows_kept":75,"cut":false,"hidden":false,"merged":[[27,2,27,5],[0,1,0,5],[1,1,1,5],[2,1,2,5]]}
[null,"UI COVERED EMPLOYMENT"]
[null,"Fayette County"]
[null,"2014 Annual Averages"]
[null,null,null,null,null,"                            "]
[]
[]
["NAICS Sectors/Ownership",null,"Number of Reporting Units","Average Number of Workers","Total Annual Wages","Average Annual Wages"]
["Private Ownership Only",null,"not rounded","rounded to tens","rounded to hundreds","rounded to hundreds"]
[null,"AGRICULTURE, FORESTRY, FISHING AND HUNTI",6,20,710100,35500]
[null,"MINING, QUARRYING, AND OIL AND GAS EXTRA","Confidential","Confidential","Confidential","Confidential"]
[null,"UTILITIES",4,50,2680400,53600]
[null,"CONSTRUCTION",32,120,3832500,31900]
[null,"MANUFACTURING",31,1230,62787400,51000]
[null,"WHOLESALE TRADE",13,180,8769700,48700]
[null,"RETAIL TRADE",67,830,19929500,24000]
[null,"TRANSPORTATION AND WAREHOUSING",13,30,1188200,39600]
[null,"INFORMATION",7,100,2559500,25600]
[null,"FINANCE AND INSURANCE",29,150,5644900,37600]
[null,"REAL ESTATE AND RENTAL AND LEASING",18,50,1235900,24700]
[null,"PROFESSIONAL AND TECHNICAL SERVICES",31,230,4608500,20000]
[null,"MANAGEMENT OF COMPANIES AND ENTERPRISES","Confidential","Confidential","Confidential","Confidential"]
[null,"ADMINISTRATIVE AND WASTE SERVICES",8,40,1382700,34600]
[null,"EDUCATIONAL SERVICES",5,30,295000,9800]
[null,"HEALTH CARE AND SOCIAL ASSISTANCE",37,1400,46368100,33100]
[null,"ARTS, ENTERTAINMENT, AND RECREATION",7,50,829400,16600]
[null,"ACCOMMODATION AND FOOD SERVICES",41,560,6567000,11700]
[null,"OTHER SERVICES, EXCEPT PUBLIC ADMIN",45,170,3832900,22500]
[null,"UNCLASSIFIED","Data included in Total UI Covered"]
[]
["Local Government"]
[null,"LOCAL GOVERNMENT",23,970,31218300,32200]
[null,"EDUCATIONAL SERVICES",14,520,18952200,36400]
[null,"HEALTH CARE AND SOCIAL ASSISTANCE",1,10,202800,20300]
[]
["State Government"]
[null,"STATE GOVERNMENT",12,60,2602300,43400]
[null,"EDUCATIONAL SERVICES",0,"0",0,0]
[null,"HEALTH CARE AND SOCIAL ASSISTANCE",0,"0",0,0]
[]
["Total UI Covered"]
[null,"TOTAL UI COVERED",430,6290,209664600,33300]
[]
["Federal Government"]
[null,"FEDERAL GOVERNMENT",5,40,1973300,49300]
[]
[]
["*Less than 5 employees unrounded"]
[]
[]
[]
[]
[]
[]
[]
[]
[]
[]
[]
[]
[]
[]
[]
[]
[]
[]
[]
[]
[]
[]
[]
[]
[]
[]
[]
["Telephone:  800-784-0360",null,null,null,"Released ","2015-09-17T10:33:16.530"]

{"sheet":"Floyd (43)","index":25,"n_rows":75,"n_cols":6,"rows_kept":75,"cut":false,"hidden":false,"merged":[[27,2,27,5],[0,1,0,5],[1,1,1,5],[2,1,2,5]]}
[null,"UI COVERED EMPLOYMENT"]
[null,"Floyd County"]
[null,"2014 Annual Averages"]
[]
[]
[]
["NAICS Sectors/Ownership",null,"Number of Reporting Units","Average Number of Workers","Total Annual Wages","Average Annual Wages"]
["Private Ownership Only",null,"not rounded","rounded to tens","rounded to hundreds","rounded to hundreds"]
[null,"AGRICULTURE, FORESTRY, FISHING AND HUNTI",4,10,271200,27100]
[null,"MINING, QUARRYING, AND OIL AND GAS EXTRA","Confidential","Confidential","Confidential","Confidential"]
[null,"UTILITIES",4,70,6005900,85800]
[null,"CONSTRUCTION",202,1530,71929700,47000]
[null,"MANUFACTURING",118,5800,285544300,49200]
[null,"WHOLESALE TRADE",93,550,27264700,49600]
[null,"RETAIL TRADE",170,3020,69203400,22900]
[null,"TRANSPORTATION AND WAREHOUSING",42,320,13026900,40700]
[null,"INFORMATION",17,150,7888400,52600]
[null,"FINANCE AND INSURANCE",136,730,43136500,59100]
[null,"REAL ESTATE AND RENTAL AND LEASING",72,180,5661200,31500]
[null,"PROFESSIONAL AND TECHNICAL SERVICES",211,1060,55056800,51900]
[null,"MANAGEMENT OF COMPANIES AND ENTERPRISES",16,190,11622400,61200]
[null,"ADMINISTRATIVE AND WASTE SERVICES",84,1110,30097100,27100]
[null,"EDUCATIONAL SERVICES",17,260,5905900,22700]
[null,"HEALTH CARE AND SOCIAL ASSISTANCE",212,3720,123378800,33200]
[null,"ARTS, ENTERTAINMENT, AND RECREATION",18,100,1427200,14300]
[null,"ACCOMMODATION AND FOOD SERVICES",138,2700,36046900,13400]
[null,"OTHER SERVICES, EXCEPT PUBLIC ADMIN",131,910,23620100,26000]
[null,"UNCLASSIFIED","Data included in Total UI Covered"]
[]
["Local Government"]
[null,"LOCAL GOVERNMENT",56,4570,194685000,42600]
[null,"EDUCATIONAL SERVICES",18,1350,52298400,38700]
[null,"HEALTH CARE AND SOCIAL ASSISTANCE",20,2150,105476900,49100]
[]
["State Government"]
[null,"STATE GOVERNMENT",16,930,32787900,35300]
[null,"EDUCATIONAL SERVICES",1,830,28874500,34800]
[null,"HEALTH CARE AND SOCIAL ASSISTANCE",0,"0",0,0]
[]
["Total UI Covered"]
[null,"TOTAL UI COVERED",1757,27910,1044849500,37400]
[]
["Federal Government"]
[null,"FEDERAL GOVERNMENT",17,210,13284300,63300]
[]
[]
["*Less than 5 employees unrounded"]
[]
[]
[]
[]
[]
[]
[]
[]
[]
[]
[]
[]
[]
[]
[]
[]
[]
[]
[]
[]
[]
[]
[]
[]
[]
[]
[]
["Telephone:  800-784-0360",null,null,null,"Released ","2015-09-17T10:33:32.660"]

{"sheet":"Fountain (045)","index":26,"n_rows":79,"n_cols":6,"rows_kept":79,"cut":false,"hidden":false,"merged":[[27,2,27,5],[0,1,0,5],[1,1,1,5],[2,1,2,5]]}
[null,"UI COVERED EMPLOYMENT"]
[null,"Fountain County"]
[null,"2014 Annual Averages"]
[]
[]
[]
["NAICS Sectors/Ownership",null,"Number of Reporting Units","Average Number of Workers","Total Annual Wages","Average Annual Wages"]
["Private Ownership Only",null,"not rounded","rounded to tens","rounded to hundreds","rounded to hundreds"]
[null,"AGRICULTURE, FORESTRY, FISHING AND HUNTI",13,170,4767900,28000]
[null,"MINING, QUARRYING, AND OIL AND GAS EXTRA",0,"0",0,0]
[null,"UTILITIES","Confidential","Confidential","Confidential","Confidential"]
[null,"CONSTRUCTION",33,100,3402100,34000]
[null,"MANUFACTURING",22,1880,76895200,40900]
[null,"WHOLESALE TRADE",15,100,4553300,45500]
[null,"RETAIL TRADE",62,630,10772900,17100]
[null,"TRANSPORTATION AND WAREHOUSING",15,100,3531800,35300]
[null,"INFORMATION",7,50,1451500,29000]
[null,"FINANCE AND INSURANCE",18,160,5425100,33900]
[null,"REAL ESTATE AND RENTAL AND LEASING",7,20,399700,20000]
[null,"PROFESSIONAL AND TECHNICAL SERVICES",18,60,1516800,25300]
[null,"MANAGEMENT OF COMPANIES AND ENTERPRISES","Confidential","Confidential","Confidential","Confidential"]
[null,"ADMINISTRATIVE AND WASTE SERVICES",9,30,548000,18300]
[null,"EDUCATIONAL SERVICES","Confidential","Confidential","Confidential","Confidential"]
[null,"HEALTH CARE AND SOCIAL ASSISTANCE",17,370,11112700,30000]
[null,"ARTS, ENTERTAINMENT, AND RECREATION",6,20,350800,17500]
[null,"ACCOMMODATION AND FOOD SERVICES",32,350,3717100,10600]
[null,"OTHER SERVICES, EXCEPT PUBLIC ADMIN",31,80,2016100,25200]
[null,"UNCLASSIFIED","Data included in Total UI Covered"]
[]
["Local Government"]
[null,"LOCAL GOVERNMENT",14,730,20941000,28700]
[null,"EDUCATIONAL SERVICES",7,460,13864600,30100]
[null,"HEALTH CARE AND SOCIAL ASSISTANCE",0,"0",0,0]
[]
["State Government"]
[null,"STATE GOVERNMENT",10,40,1493400,37300]
[null,"EDUCATIONAL SERVICES",0,"0",0,0]
[null,"HEALTH CARE AND SOCIAL ASSISTANCE",0,"0",0,0]
[]
["Total UI Covered"]
[null,"TOTAL UI COVERED",332,4920,154755100,31500]
[]
["Federal Government"]
[null,"FEDERAL GOVERNMENT",9,60,2567100,42800]
[]
[]
["*Less than 5 employees unrounded"]
[]
[]
[]
[]
[]
[]
[]
[]
[]
[]
[]
[]
[]
[]
[]
[]
[]
[]
[]
[]
[]
[]
[]
[]
[]
[]
[]
["Telephone:  800-784-0360"]
[]
[]
[]
[null,null,null,null,"Released ","2015-09-17T10:33:53.140"]

{"sheet":"Franklin (047)","index":27,"n_rows":75,"n_cols":6,"rows_kept":75,"cut":false,"hidden":false,"merged":[[27,2,27,5],[0,1,0,5],[1,1,1,5],[2,1,2,5]]}
[null,"UI COVERED EMPLOYMENT"]
[null,"Franklin County"]
[null,"2014 Annual Averages"]
[null,null,null,null,null,"                   "]
[]
[]
["NAICS Sectors/Ownership",null,"Number of Reporting Units","Average Number of Workers","Total Annual Wages","Average Annual Wages"]
["Private Ownership Only",null,"not rounded","rounded to tens","rounded to hundreds","rounded to hundreds"]
[null,"AGRICULTURE, FORESTRY, FISHING AND HUNTI",6,30,696600,23200]
[null,"MINING, QUARRYING, AND OIL AND GAS EXTRA",3,10,406800,40700]
[null,"UTILITIES","Confidential","Confidential","Confidential","Confidential"]
[null,"CONSTRUCTION",48,170,6272000,36900]
[null,"MANUFACTURING",18,640,27416900,42800]
[null,"WHOLESALE TRADE",14,100,3987300,39900]
[null,"RETAIL TRADE",51,650,13949900,21500]
[null,"TRANSPORTATION AND WAREHOUSING",17,80,3149800,39400]
[null,"INFORMATION","Confidential","Confidential","Confidential","Confidential"]
[null,"FINANCE AND INSURANCE",11,150,6564800,43800]
[null,"REAL ESTATE AND RENTAL AND LEASING","Confidential","Confidential","Confidential","Confidential"]
[null,"PROFESSIONAL AND TECHNICAL SERVICES",22,50,1593900,31900]
[null,"MANAGEMENT OF COMPANIES AND ENTERPRISES","Confidential","Confidential","Confidential","Confidential"]
[null,"ADMINISTRATIVE AND WASTE SERVICES",12,140,4764600,34000]
[null,"EDUCATIONAL SERVICES","Confidential","Confidential","Confidential","Confidential"]
[null,"HEALTH CARE AND SOCIAL ASSISTANCE",34,500,13178200,26400]
[null,"ARTS, ENTERTAINMENT, AND RECREATION",7,40,384300,9600]
[null,"ACCOMMODATION AND FOOD SERVICES",28,450,5200300,11600]
[null,"OTHER SERVICES, EXCEPT PUBLIC ADMIN",33,90,1894600,21100]
[null,"UNCLASSIFIED","Data included in Total UI Covered"]
[]
["Local Government"]
[null,"LOCAL GOVERNMENT",21,850,25162900,29600]
[null,"EDUCATIONAL SERVICES",10,610,20360300,33400]
[null,"HEALTH CARE AND SOCIAL ASSISTANCE",0,"0",0,0]
[]
["State Government"]
[null,"STATE GOVERNMENT",10,110,2896500,26300]
[null,"EDUCATIONAL SERVICES",0,"0",0,0]
[null,"HEALTH CARE AND SOCIAL ASSISTANCE",0,"0",0,0]
[]
["Total UI Covered"]
[null,"TOTAL UI COVERED",346,4140,119933100,29000]
[]
["Federal Government"]
[null,"FEDERAL GOVERNMENT",9,40,1737200,43400]
[]
[]
["*Less than 5 employees unrounded"]
[]
[]
[]
[]
[]
[]
[]
[]
[]
[]
[]
[]
[]
[]
[]
[]
[]
[]
[]
[]
[]
[]
[]
[]
[]
[]
[]
["Telephone:  800-784-0360",null,null,null,"Released ","2015-09-17T10:34:11.660"]

{"sheet":"Fulton (049)","index":28,"n_rows":75,"n_cols":6,"rows_kept":75,"cut":false,"hidden":false,"merged":[[27,2,27,5],[0,1,0,5],[1,1,1,5],[2,1,2,5]]}
[null,"UI COVERED EMPLOYMENT"]
[null,"Fulton County"]
[null,"2014 Annual Averages"]
[]
[]
[]
["NAICS Sectors/Ownership",null,"Number of Reporting Units","Average Number of Workers","Total Annual Wages","Average Annual Wages"]
["Private Ownership Only",null,"not rounded","rounded to tens","rounded to hundreds","rounded to hundreds"]
[null,"AGRICULTURE, FORESTRY, FISHING AND HUNTI",15,80,2780600,34800]
[null,"MINING, QUARRYING, AND OIL AND GAS EXTRA","Confidential","Confidential","Confidential","Confidential"]
[null,"UTILITIES",3,30,2041600,68100]
[null,"CONSTRUCTION",43,320,14739300,46100]
[null,"MANUFACTURING",48,1700,75517200,44400]
[null,"WHOLESALE TRADE",33,240,10247200,42700]
[null,"RETAIL TRADE",73,840,18434300,21900]
[null,"TRANSPORTATION AND WAREHOUSING",24,120,5766600,48100]
[null,"INFORMATION",6,80,3648700,45600]
[null,"FINANCE AND INSURANCE",28,180,8624200,47900]
[null,"REAL ESTATE AND RENTAL AND LEASING",19,40,980200,24500]
[null,"PROFESSIONAL AND TECHNICAL SERVICES",25,90,2673100,29700]
[null,"MANAGEMENT OF COMPANIES AND ENTERPRISES","Confidential","Confidential","Confidential","Confidential"]
[null,"ADMINISTRATIVE AND WASTE SERVICES",16,60,1720500,28700]
[null,"EDUCATIONAL SERVICES",0,"0",0,0]
[null,"HEALTH CARE AND SOCIAL ASSISTANCE",30,430,10709900,24900]
[null,"ARTS, ENTERTAINMENT, AND RECREATION","Confidential","Confidential","Confidential","Confidential"]
[null,"ACCOMMODATION AND FOOD SERVICES",39,480,5255500,10900]
[null,"OTHER SERVICES, EXCEPT PUBLIC ADMIN",41,180,5062600,28100]
[null,"UNCLASSIFIED","Data included in Total UI Covered"]
[]
["Local Government"]
[null,"LOCAL GOVERNMENT",16,1270,45830500,36100]
[null,"EDUCATIONAL SERVICES",3,500,14482700,29000]
[null,"HEALTH CARE AND SOCIAL ASSISTANCE",1,400,23028600,57600]
[]
["State Government"]
[null,"STATE GOVERNMENT",10,40,1631500,40800]
[null,"EDUCATIONAL SERVICES",0,"0",0,0]
[null,"HEALTH CARE AND SOCIAL ASSISTANCE",0,"0",0,0]
[]
["Total UI Covered"]
[null,"TOTAL UI COVERED",475,6210,218464500,35200]
[]
["Federal Government"]
[null,"FEDERAL GOVERNMENT",9,40,2053300,51300]
[]
[]
["*Less than 5 employees unrounded"]
[]
[]
[]
[]
[]
[]
[]
[]
[]
[]
[]
[]
[]
[]
[]
[]
[]
[]
[]
[]
[]
[]
[]
[]
[]
[]
[]
["Telephone:  800-784-0360",null,null,null,"Released ","2015-09-17T10:34:34.390"]

{"sheet":"Gibson (051)","index":29,"n_rows":75,"n_cols":6,"rows_kept":75,"cut":false,"hidden":false,"merged":[[27,2,27,5],[0,1,0,5],[1,1,1,5],[2,1,2,5]]}
[null,"UI COVERED EMPLOYMENT"]
[null,"Gibson County"]
[null,"2014 Annual Averages"]
[]
[]
[]
["NAICS Sectors/Ownership",null,"Number of Reporting Units","Average Number of Workers","Total Annual Wages","Average Annual Wages"]
["Private Ownership Only",null,"not rounded","rounded to tens","rounded to hundreds","rounded to hundreds"]
[null,"AGRICULTURE, FORESTRY, FISHING AND HUNTI",22,140,4582400,32700]
[null,"MINING, QUARRYING, AND OIL AND GAS EXTRA",18,1230,99678900,81000]
[null,"UTILITIES",10,430,37520100,87300]
[null,"CONSTRUCTION",67,330,15707600,47600]
[null,"MANUFACTURING",46,7200,483657600,67200]
[null,"WHOLESALE TRADE",30,330,14964800,45300]
[null,"RETAIL TRADE",108,1510,36828900,24400]
[null,"TRANSPORTATION AND WAREHOUSING",38,600,27182700,45300]
[null,"INFORMATION",4,70,1888800,27000]
[null,"FINANCE AND INSURANCE",39,150,6960600,46400]
[null,"REAL ESTATE AND RENTAL AND LEASING",20,70,1803300,25800]
[null,"PROFESSIONAL AND TECHNICAL SERVICES",49,260,11271000,43400]
[null,"MANAGEMENT OF COMPANIES AND ENTERPRISES",4,10,656200,65600]
[null,"ADMINISTRATIVE AND WASTE SERVICES",33,2570,86109500,33500]
[null,"EDUCATIONAL SERVICES",6,400,10423200,26100]
[null,"HEALTH CARE AND SOCIAL ASSISTANCE",60,1200,38305300,31900]
[null,"ARTS, ENTERTAINMENT, AND RECREATION",7,70,460700,6600]
[null,"ACCOMMODATION AND FOOD SERVICES",64,1230,14730500,12000]
[null,"OTHER SERVICES, EXCEPT PUBLIC ADMIN",58,250,6160000,24600]
[null,"UNCLASSIFIED","Data included in Total UI Covered"]
[]
["Local Government"]
[null,"LOCAL GOVERNMENT",39,1250,39179700,31300]
[null,"EDUCATIONAL SERVICES",20,730,25030900,34300]
[null,"HEALTH CARE AND SOCIAL ASSISTANCE",0,"0",0,0]
[]
["State Government"]
[null,"STATE GOVERNMENT",11,60,2490200,41500]
[null,"EDUCATIONAL SERVICES",0,"0",0,0]
[null,"HEALTH CARE AND SOCIAL ASSISTANCE",0,"0",0,0]
[]
["Total UI Covered"]
[null,"TOTAL UI COVERED",729,19340,940562100,48600]
[]
["Federal Government"]
[null,"FEDERAL GOVERNMENT",12,80,4164700,52100]
[]
[]
["*Less than 5 employees unrounded"]
[]
[]
[]
[]
[]
[]
[]
[]
[]
[]
[]
[]
[]
[]
[]
[]
[]
[]
[]
[]
[]
[]
[]
[]
[]
[]
[]
["Telephone:  800-784-0360",null,null,null,"Released ","2015-09-17T10:34:52.730"]

{"sheet":"Grant (053)","index":30,"n_rows":75,"n_cols":6,"rows_kept":75,"cut":false,"hidden":false,"merged":[[27,2,27,5],[0,1,0,5],[1,1,1,5],[2,1,2,5]]}
[null,"UI COVERED EMPLOYMENT"]
[null,"Grant County"]
[null,"2014 Annual Averages"]
[]
[]
[]
["NAICS Sectors/Ownership",null,"Number of Reporting Units","Average Number of Workers","Total Annual Wages","Average Annual Wages"]
["Private Ownership Only",null,"not rounded","rounded to tens","rounded to hundreds","rounded to hundreds"]
[null,"AGRICULTURE, FORESTRY, FISHING AND HUNTI",14,90,2248900,25000]
[null,"MINING, QUARRYING, AND OIL AND GAS EXTRA","Confidential","Confidential","Confidential","Confidential"]
[null,"UTILITIES",3,60,5068100,84500]
[null,"CONSTRUCTION",93,630,26076000,41400]
[null,"MANUFACTURING",62,4790,267692700,55900]
[null,"WHOLESALE TRADE",49,1110,47179300,42500]
[null,"RETAIL TRADE",242,3110,67211800,21600]
[null,"TRANSPORTATION AND WAREHOUSING",39,1460,49112800,33600]
[null,"INFORMATION",17,240,8442800,35200]
[null,"FINANCE AND INSURANCE",89,630,28364400,45000]
[null,"REAL ESTATE AND RENTAL AND LEASING",48,210,5591200,26600]
[null,"PROFESSIONAL AND TECHNICAL SERVICES",78,350,14940100,42700]
[null,"MANAGEMENT OF COMPANIES AND ENTERPRISES",7,250,14364100,57500]
[null,"ADMINISTRATIVE AND WASTE SERVICES",52,1300,28774200,22100]
[null,"EDUCATIONAL SERVICES",8,1900,64681800,34000]
[null,"HEALTH CARE AND SOCIAL ASSISTANCE",125,4560,165165500,36200]
[null,"ARTS, ENTERTAINMENT, AND RECREATION",12,80,1270500,15900]
[null,"ACCOMMODATION AND FOOD SERVICES",124,2210,27678800,12500]
[null,"OTHER SERVICES, EXCEPT PUBLIC ADMIN",117,680,15667700,23000]
[null,"UNCLASSIFIED","Data included in Total UI Covered"]
[]
["Local Government"]
[null,"LOCAL GOVERNMENT",54,2800,86244700,30800]
[null,"EDUCATIONAL SERVICES",24,1660,53120200,32000]
[null,"HEALTH CARE AND SOCIAL ASSISTANCE",2,40,877100,21900]
[]
["State Government"]
[null,"STATE GOVERNMENT",14,120,4731300,39400]
[null,"EDUCATIONAL SERVICES",0,"0",0,0]
[null,"HEALTH CARE AND SOCIAL ASSISTANCE",0,"0",0,0]
[]
["Total UI Covered"]
[null,"TOTAL UI COVERED",1250,26630,935265300,35100]
[]
["Federal Government"]
[null,"FEDERAL GOVERNMENT",17,990,59293900,59900]
[]
[]
["*Less than 5 employees unrounded"]
[]
[]
[]
[]
[]
[]
[]
[]
[]
[]
[]
[]
[]
[]
[]
[]
[]
[]
[]
[]
[]
[]
[]
[]
[]
[]
[]
["Telephone:  800-784-0360",null,null,null,"Released ","2015-09-17T10:35:10.100"]

{"sheet":"Greene (055)","index":31,"n_rows":75,"n_cols":6,"rows_kept":75,"cut":false,"hidden":false,"merged":[[27,2,27,5],[0,1,0,5],[1,1,1,5],[2,1,2,5]]}
[null,"UI COVERED EMPLOYMENT"]
[null,"Greene County"]
[null,"2014 Annual Averages"]
[]
[]
[]
["NAICS Sectors/Ownership",null,"Number of Reporting Units","Average Number of Workers","Total Annual Wages","Average Annual Wages"]
["Private Ownership Only",null,"not rounded","rounded to tens","rounded to hundreds","rounded to hundreds"]
[null,"AGRICULTURE, FORESTRY, FISHING AND HUNTI",13,250,8067400,32300]
[null,"MINING, QUARRYING, AND OIL AND GAS EXTRA",6,140,7087000,50600]
[null,"UTILITIES",5,90,5756400,64000]
[null,"CONSTRUCTION",68,370,16634400,45000]
[null,"MANUFACTURING",25,490,17931300,36600]
[null,"WHOLESALE TRADE",22,80,3028600,37900]
[null,"RETAIL TRADE",100,1010,21171400,21000]
[null,"TRANSPORTATION AND WAREHOUSING",23,120,5072800,42300]
[null,"INFORMATION",10,50,1587300,31700]
[null,"FINANCE AND INSURANCE",29,190,7344200,38700]
[null,"REAL ESTATE AND RENTAL AND LEASING",12,30,539200,18000]
[null,"PROFESSIONAL AND TECHNICAL SERVICES",46,210,8618300,41000]
[null,"MANAGEMENT OF COMPANIES AND ENTERPRISES",3,50,1164400,23300]
[null,"ADMINISTRATIVE AND WASTE SERVICES",19,110,3311100,30100]
[null,"EDUCATIONAL SERVICES","Confidential","Confidential","Confidential","Confidential"]
[null,"HEALTH CARE AND SOCIAL ASSISTANCE",54,790,19861700,25100]
[null,"ARTS, ENTERTAINMENT, AND RECREATION",4,20,209300,10500]
[null,"ACCOMMODATION AND FOOD SERVICES",51,580,6652100,11500]
[null,"OTHER SERVICES, EXCEPT PUBLIC ADMIN",51,160,2748200,17200]
[null,"UNCLASSIFIED","Data included in Total UI Covered"]
[]
["Local Government"]
[null,"LOCAL GOVERNMENT",33,1580,51448300,32600]
[null,"EDUCATIONAL SERVICES",6,850,25383800,29900]
[null,"HEALTH CARE AND SOCIAL ASSISTANCE",1,280,12078000,43100]
[]
["State Government"]
[null,"STATE GOVERNMENT",12,150,6422400,42800]
[null,"EDUCATIONAL SERVICES",0,"0",0,0]
[null,"HEALTH CARE AND SOCIAL ASSISTANCE",0,"0",0,0]
[]
["Total UI Covered"]
[null,"TOTAL UI COVERED",589,6510,198314400,30500]
[]
["Federal Government"]
[null,"FEDERAL GOVERNMENT",13,70,3408900,48700]
[]
[]
["*Less than 5 employees unrounded"]
[]
[]
[]
[]
[]
[]
[]
[]
[]
[]
[]
[]
[]
[]
[]
[]
[]
[]
[]
[]
[]
[]
[]
[]
[]
[]
[]
["Telephone:  800-784-0360",null,null,null,"Released ","2015-09-17T10:35:29.910"]

{"sheet":"Hamilton (057)","index":32,"n_rows":75,"n_cols":6,"rows_kept":75,"cut":false,"hidden":false,"merged":[[27,2,27,5],[0,1,0,5],[1,1,1,5],[2,1,2,5]]}
[null,"UI COVERED EMPLOYMENT"]
[null,"Hamilton County"]
[null,"2014 Annual Averages"]
[]
[]
[]
["NAICS Sectors/Ownership",null,"Number of Reporting Units","Average Number of Workers","Total Annual Wages","Average Annual Wages"]
["Private Ownership Only",null,"not rounded","rounded to tens","rounded to hundreds","rounded to hundreds"]
[null,"AGRICULTURE, FORESTRY, FISHING AND HUNTI",34,700,35196500,50300]
[null,"MINING, QUARRYING, AND OIL AND GAS EXTRA",14,180,13217400,73400]
[null,"UTILITIES",12,1040,120748700,116100]
[null,"CONSTRUCTION",647,6700,366100600,54600]
[null,"MANUFACTURING",219,5920,338773400,57200]
[null,"WHOLESALE TRADE",926,6130,530281800,86500]
[null,"RETAIL TRADE",802,15350,438223800,28500]
[null,"TRANSPORTATION AND WAREHOUSING",118,990,49476200,50000]
[null,"INFORMATION",146,2890,176955800,61200]
[null,"FINANCE AND INSURANCE",742,12910,1041598700,80700]
[null,"REAL ESTATE AND RENTAL AND LEASING",386,3320,184755700,55600]
[null,"PROFESSIONAL AND TECHNICAL SERVICES",1475,9400,640155300,68100]
[null,"MANAGEMENT OF COMPANIES AND ENTERPRISES",110,2860,270743400,94700]
[null,"ADMINISTRATIVE AND WASTE SERVICES",521,10090,431064600,42700]
[null,"EDUCATIONAL SERVICES",136,1350,32484900,24100]
[null,"HEALTH CARE AND SOCIAL ASSISTANCE",775,14030,596966600,42500]
[null,"ARTS, ENTERTAINMENT, AND RECREATION",148,2330,48729800,20900]
[null,"ACCOMMODATION AND FOOD SERVICES",571,12770,193459400,15100]
[null,"OTHER SERVICES, EXCEPT PUBLIC ADMIN",760,3730,94384200,25300]
[null,"UNCLASSIFIED","Data included in Total UI Covered"]
[]
["Local Government"]
[null,"LOCAL GOVERNMENT",83,12320,500426100,40600]
[null,"EDUCATIONAL SERVICES",51,7100,273723600,38600]
[null,"HEALTH CARE AND SOCIAL ASSISTANCE",1,1260,60784600,48200]
[]
["State Government"]
[null,"STATE GOVERNMENT",21,160,6446600,40300]
[null,"EDUCATIONAL SERVICES",0,"0",0,0]
[null,"HEALTH CARE AND SOCIAL ASSISTANCE",0,"0",0,0]
[]
["Total UI Covered"]
[null,"TOTAL UI COVERED",8646,125160,6110222500,48800]
[]
["Federal Government"]
[null,"FEDERAL GOVERNMENT",11,360,22475100,62400]
[]
[]
["*Less than 5 employees unrounded"]
[]
[]
[]
[]
[]
[]
[]
[]
[]
[]
[]
[]
[]
[]
[]
[]
[]
[]
[]
[]
[]
[]
[]
[]
[]
[]
[]
["Telephone:  800-784-0360",null,null,null,"Released ","2015-09-17T10:35:53.640"]

{"sheet":"Hancock (059)","index":33,"n_rows":75,"n_cols":6,"rows_kept":75,"cut":false,"hidden":false,"merged":[[27,2,27,5],[0,1,0,5],[1,1,1,5],[2,1,2,5]]}
[null,"UI COVERED EMPLOYMENT"]
[null,"Hancock County"]
[null,"2014 Annual Averages"]
[]
[]
[]
["NAICS Sectors/Ownership",null,"Number of Reporting Units","Average Number of Workers","Total Annual Wages","Average Annual Wages"]
["Private Ownership Only",null,"not rounded","rounded to tens","rounded to hundreds","rounded to hundreds"]
[null,"AGRICULTURE, FORESTRY, FISHING AND HUNTI",22,100,2797100,28000]
[null,"MINING, QUARRYING, AND OIL AND GAS EXTRA",0,"0",0,0]
[null,"UTILITIES",4,50,3465800,69300]
[null,"CONSTRUCTION",220,1390,60061900,43200]
[null,"MANUFACTURING",71,3450,163765100,47500]
[null,"WHOLESALE TRADE",95,670,36483400,54500]
[null,"RETAIL TRADE",152,2250,56391600,25100]
[null,"TRANSPORTATION AND WAREHOUSING",47,670,26370100,39400]
[null,"INFORMATION",18,410,21728600,53000]
[null,"FINANCE AND INSURANCE",81,360,16810000,46700]
[null,"REAL ESTATE AND RENTAL AND LEASING",44,160,5133900,32100]
[null,"PROFESSIONAL AND TECHNICAL SERVICES",145,1600,149325200,93300]
[null,"MANAGEMENT OF COMPANIES AND ENTERPRISES",10,130,11307800,87000]
[null,"ADMINISTRATIVE AND WASTE SERVICES",99,1670,44090200,26400]
[null,"EDUCATIONAL SERVICES",12,90,3260000,36200]
[null,"HEALTH CARE AND SOCIAL ASSISTANCE",127,1940,63652900,32800]
[null,"ARTS, ENTERTAINMENT, AND RECREATION",13,180,2008400,11200]
[null,"ACCOMMODATION AND FOOD SERVICES",108,2030,25114600,12400]
[null,"OTHER SERVICES, EXCEPT PUBLIC ADMIN",120,410,10797800,26300]
[null,"UNCLASSIFIED","Data included in Total UI Covered"]
[]
["Local Government"]
[null,"LOCAL GOVERNMENT",40,3350,124404900,37100]
[null,"EDUCATIONAL SERVICES",20,1690,57171900,33800]
[null,"HEALTH CARE AND SOCIAL ASSISTANCE",1,740,36819800,49800]
[]
["State Government"]
[null,"STATE GOVERNMENT",18,280,13213500,47200]
[null,"EDUCATIONAL SERVICES",0,"0",0,0]
[null,"HEALTH CARE AND SOCIAL ASSISTANCE",0,"0",0,0]
[]
["Total UI Covered"]
[null,"TOTAL UI COVERED",1444,21180,840182700,39700]
[]
["Federal Government"]
[null,"FEDERAL GOVERNMENT",9,110,5588200,50800]
[]
[]
["*Less than 5 employees unrounded"]
[]
[]
[]
[]
[]
[]
[]
[]
[]
[]
[]
[]
[]
[]
[]
[]
[]
[]
[]
[]
[]
[]
[]
[]
[]
[]
[]
["Telephone:  800-784-0360",null,null,null,"Released ","2015-09-17T10:36:26.350"]

{"sheet":"Harrison (061)","index":34,"n_rows":75,"n_cols":6,"rows_kept":75,"cut":false,"hidden":false,"merged":[[27,2,27,5],[0,1,0,5],[1,1,1,5],[2,1,2,5]]}
[null,"UI COVERED EMPLOYMENT"]
[null,"Harrison County"]
[null,"2014 Annual Averages"]
[]
[]
[]
["NAICS Sectors/Ownership",null,"Number of Reporting Units","Average Number of Workers","Total Annual Wages","Average Annual Wages"]
["Private Ownership Only",null,"not rounded","rounded to tens","rounded to hundreds","rounded to hundreds"]
[null,"AGRICULTURE, FORESTRY, FISHING AND HUNTI",15,50,1378700,27600]
[null,"MINING, QUARRYING, AND OIL AND GAS EXTRA",10,90,4866000,54100]
[null,"UTILITIES",6,90,6375600,70800]
[null,"CONSTRUCTION",88,320,9971300,31200]
[null,"MANUFACTURING",37,1620,64527700,39800]
[null,"WHOLESALE TRADE",36,350,14652800,41900]
[null,"RETAIL TRADE",98,1250,29280800,23400]
[null,"TRANSPORTATION AND WAREHOUSING",28,130,4479400,34500]
[null,"INFORMATION",4,60,1557900,26000]
[null,"FINANCE AND INSURANCE",47,260,12598000,48500]
[null,"REAL ESTATE AND RENTAL AND LEASING",12,30,1009800,33700]
[null,"PROFESSIONAL AND TECHNICAL SERVICES",46,170,5999600,35300]
[null,"MANAGEMENT OF COMPANIES AND ENTERPRISES",3,30,1036600,34600]
[null,"ADMINISTRATIVE AND WASTE SERVICES",23,100,2904900,29000]
[null,"EDUCATIONAL SERVICES","Confidential","Confidential","Confidential","Confidential"]
[null,"HEALTH CARE AND SOCIAL ASSISTANCE",67,670,19548500,29200]
[null,"ARTS, ENTERTAINMENT, AND RECREATION","Confidential","Confidential","Confidential","Confidential"]
[null,"ACCOMMODATION AND FOOD SERVICES",49,940,11919100,12700]
[null,"OTHER SERVICES, EXCEPT PUBLIC ADMIN",49,240,4474500,18600]
[null,"UNCLASSIFIED","Data included in Total UI Covered"]
[]
["Local Government"]
[null,"LOCAL GOVERNMENT",18,1870,63776900,34100]
[null,"EDUCATIONAL SERVICES",3,900,28388500,31500]
[null,"HEALTH CARE AND SOCIAL ASSISTANCE",6,560,24398500,43600]
[]
["State Government"]
[null,"STATE GOVERNMENT",9,110,4110500,37400]
[null,"EDUCATIONAL SERVICES",0,"0",0,0]
[null,"HEALTH CARE AND SOCIAL ASSISTANCE",0,"0",0,0]
[]
["Total UI Covered"]
[null,"TOTAL UI COVERED",657,9920,319484500,32200]
[]
["Federal Government"]
[null,"FEDERAL GOVERNMENT",15,100,4857400,48600]
[]
[]
["*Less than 5 employees unrounded"]
[]
[]
[]
[]
[]
[]
[]
[]
[]
[]
[]
[]
[]
[]
[]
[]
[]
[]
[]
[]
[]
[]
[]
[]
[]
[]
[]
["Telephone:  800-784-0360",null,null,null,"Released ","2015-09-17T10:36:41.600"]

{"sheet":"Hendricks (063)","index":35,"n_rows":75,"n_cols":6,"rows_kept":75,"cut":false,"hidden":false,"merged":[[27,2,27,5],[0,1,0,5],[1,1,1,5],[2,1,2,5]]}
[null,"UI COVERED EMPLOYMENT"]
[null,"Hendricks County"]
[null,"2014 Annual Averages"]
[]
[]
[]
["NAICS Sectors/Ownership",null,"Number of Reporting Units","Average Number of Workers","Total Annual Wages","Average Annual Wages"]
["Private Ownership Only",null,"not rounded","rounded to tens","rounded to hundreds","rounded to hundreds"]
[null,"AGRICULTURE, FORESTRY, FISHING AND HUNTI",20,130,3669600,28200]
[null,"MINING, QUARRYING, AND OIL AND GAS EXTRA","Confidential","Confidential","Confidential","Confidential"]
[null,"UTILITIES",8,770,59601600,77400]
[null,"CONSTRUCTION",341,2280,108008100,47400]
[null,"MANUFACTURING",110,3540,178238000,50300]
[null,"WHOLESALE TRADE",191,3330,160482000,48200]
[null,"RETAIL TRADE",395,9760,250007800,25600]
[null,"TRANSPORTATION AND WAREHOUSING",142,6740,251899500,37400]
[null,"INFORMATION",28,230,4758100,20700]
[null,"FINANCE AND INSURANCE",183,900,45616400,50700]
[null,"REAL ESTATE AND RENTAL AND LEASING",93,420,13194800,31400]
[null,"PROFESSIONAL AND TECHNICAL SERVICES",314,1020,47486900,46600]
[null,"MANAGEMENT OF COMPANIES AND ENTERPRISES",18,270,18786600,69600]
[null,"ADMINISTRATIVE AND WASTE SERVICES",185,5810,141669100,24400]
[null,"EDUCATIONAL SERVICES",35,180,4713700,26200]
[null,"HEALTH CARE AND SOCIAL ASSISTANCE",230,4810,169580300,35300]
[null,"ARTS, ENTERTAINMENT, AND RECREATION",61,660,28144500,42600]
[null,"ACCOMMODATION AND FOOD SERVICES",289,6700,94412200,14100]
[null,"OTHER SERVICES, EXCEPT PUBLIC ADMIN",258,1860,51115400,27500]
[null,"UNCLASSIFIED","Data included in Total UI Covered"]
[]
["Local Government"]
[null,"LOCAL GOVERNMENT",51,6930,274498400,39600]
[null,"EDUCATIONAL SERVICES",27,3490,122604700,35100]
[null,"HEALTH CARE AND SOCIAL ASSISTANCE",1,1600,91186900,57000]
[]
["State Government"]
[null,"STATE GOVERNMENT",28,1110,44991500,40500]
[null,"EDUCATIONAL SERVICES",0,"0",0,0]
[null,"HEALTH CARE AND SOCIAL ASSISTANCE",0,"0",0,0]
[]
["Total UI Covered"]
[null,"TOTAL UI COVERED",2978,57450,1951960700,34000]
[]
["Federal Government"]
[null,"FEDERAL GOVERNMENT",14,270,18602900,68900]
[]
[]
["*Less than 5 employees unrounded"]
[]
[]
[]
[]
[]
[]
[]
[]
[]
[]
[]
[]
[]
[]
[]
[]
[]
[]
[]
[]
[]
[]
[]
[]
[]
[]
[]
["Telephone:  800-784-0360",null,null,null,"Released ","2015-09-17T10:36:58.680"]

{"sheet":"Henry (065)","index":36,"n_rows":75,"n_cols":6,"rows_kept":75,"cut":false,"hidden":false,"merged":[[27,2,27,5],[0,1,0,5],[1,1,1,5],[2,1,2,5]]}
[null,"UI COVERED EMPLOYMENT"]
[null,"Henry County"]
[null,"2014 Annual Averages"]
[]
[]
[]
["NAICS Sectors/Ownership",null,"Number of Reporting Units","Average Number of Workers","Total Annual Wages","Average Annual Wages"]
["Private Ownership Only",null,"not rounded","rounded to tens","rounded to hundreds","rounded to hundreds"]
[null,"AGRICULTURE, FORESTRY, FISHING AND HUNTI",19,130,3676100,28300]
[null,"MINING, QUARRYING, AND OIL AND GAS EXTRA","Confidential","Confidential","Confidential","Confidential"]
[null,"UTILITIES",6,60,4304000,71700]
[null,"CONSTRUCTION",95,520,22440800,43200]
[null,"MANUFACTURING",46,2050,90704500,44200]
[null,"WHOLESALE TRADE",38,340,13773600,40500]
[null,"RETAIL TRADE",159,1640,36867600,22500]
[null,"TRANSPORTATION AND WAREHOUSING",26,190,7641400,40200]
[null,"INFORMATION",12,120,4422600,36900]
[null,"FINANCE AND INSURANCE",52,340,15272600,44900]
[null,"REAL ESTATE AND RENTAL AND LEASING",21,120,2455400,20500]
[null,"PROFESSIONAL AND TECHNICAL SERVICES",46,140,3984600,28500]
[null,"MANAGEMENT OF COMPANIES AND ENTERPRISES",4,20,690400,34500]
[null,"ADMINISTRATIVE AND WASTE SERVICES",38,770,25204600,32700]
[null,"EDUCATIONAL SERVICES",0,"0",0,0]
[null,"HEALTH CARE AND SOCIAL ASSISTANCE",67,2070,47159100,22800]
[null,"ARTS, ENTERTAINMENT, AND RECREATION",12,90,1247000,13900]
[null,"ACCOMMODATION AND FOOD SERVICES",58,970,12670600,13100]
[null,"OTHER SERVICES, EXCEPT PUBLIC ADMIN",64,340,7189800,21100]
[null,"UNCLASSIFIED","Data included in Total UI Covered"]
[]
["Local Government"]
[null,"LOCAL GOVERNMENT",38,2730,100877500,37000]
[null,"EDUCATIONAL SERVICES",10,1250,38898800,31100]
[null,"HEALTH CARE AND SOCIAL ASSISTANCE",1,730,41310600,56600]
[]
["State Government"]
[null,"STATE GOVERNMENT",16,140,4889900,34900]
[null,"EDUCATIONAL SERVICES",0,"0",0,0]
[null,"HEALTH CARE AND SOCIAL ASSISTANCE",0,"0",0,0]
[]
["Total UI Covered"]
[null,"TOTAL UI COVERED",818,12760,406144200,31800]
[]
["Federal Government"]
[null,"FEDERAL GOVERNMENT",15,90,4264300,47400]
[]
[]
["*Less than 5 employees unrounded"]
[]
[]
[]
[]
[]
[]
[]
[]
[]
[]
[]
[]
[]
[]
[]
[]
[]
[]
[]
[]
[]
[]
[]
[]
[]
[]
[]
["Telephone:  800-784-0360",null,null,null,"Released ","2015-09-17T10:37:22.890"]

{"sheet":"Howard (067)","index":37,"n_rows":75,"n_cols":6,"rows_kept":75,"cut":false,"hidden":false,"merged":[[27,2,27,5],[0,1,0,5],[1,1,1,5],[2,1,2,5]]}
[null,"UI COVERED EMPLOYMENT"]
[null,"Howard County"]
[null,"2014 Annual Averages"]
[]
[]
[]
["NAICS Sectors/Ownership",null,"Number of Reporting Units","Average Number of Workers","Total Annual Wages","Average Annual Wages"]
["Private Ownership Only",null,"not rounded","rounded to tens","rounded to hundreds","rounded to hundreds"]
[null,"AGRICULTURE, FORESTRY, FISHING AND HUNTI",11,60,2162800,36000]
[null,"MINING, QUARRYING, AND OIL AND GAS EXTRA","Confidential","Confidential","Confidential","Confidential"]
[null,"UTILITIES",4,130,10176200,78300]
[null,"CONSTRUCTION",136,1040,43099600,41400]
[null,"MANUFACTURING",69,11440,903137400,78900]
[null,"WHOLESALE TRADE",84,810,44897200,55400]
[null,"RETAIL TRADE",316,4900,111836300,22800]
[null,"TRANSPORTATION AND WAREHOUSING",40,550,23915300,43500]
[null,"INFORMATION",19,360,19471000,54100]
[null,"FINANCE AND INSURANCE",121,780,42600600,54600]
[null,"REAL ESTATE AND RENTAL AND LEASING",63,280,8240900,29400]
[null,"PROFESSIONAL AND TECHNICAL SERVICES",125,660,25818400,39100]
[null,"MANAGEMENT OF COMPANIES AND ENTERPRISES",9,30,1185000,39500]
[null,"ADMINISTRATIVE AND WASTE SERVICES",76,1970,46932400,23800]
[null,"EDUCATIONAL SERVICES",17,150,3455100,23000]
[null,"HEALTH CARE AND SOCIAL ASSISTANCE",178,5410,220009700,40700]
[null,"ARTS, ENTERTAINMENT, AND RECREATION",15,160,2343200,14600]
[null,"ACCOMMODATION AND FOOD SERVICES",183,3970,51024400,12900]
[null,"OTHER SERVICES, EXCEPT PUBLIC ADMIN",141,1000,22262700,22300]
[null,"UNCLASSIFIED","Data included in Total UI Covered"]
[]
["Local Government"]
[null,"LOCAL GOVERNMENT",45,3580,118010900,33000]
[null,"EDUCATIONAL SERVICES",27,2200,69052500,31400]
[null,"HEALTH CARE AND SOCIAL ASSISTANCE",0,"0",0,0]
[]
["State Government"]
[null,"STATE GOVERNMENT",19,990,31034600,31300]
[null,"EDUCATIONAL SERVICES",2,870,26224600,30100]
[null,"HEALTH CARE AND SOCIAL ASSISTANCE",0,"0",0,0]
[]
["Total UI Covered"]
[null,"TOTAL UI COVERED",1673,38270,1732586600,45300]
[]
["Federal Government"]
[null,"FEDERAL GOVERNMENT",13,220,12839800,58400]
[]
[]
["*Less than 5 employees unrounded"]
[]
[]
[]
[]
[]
[]
[]
[]
[]
[]
[]
[]
[]
[]
[]
[]
[]
[]
[]
[]
[]
[]
[]
[]
[]
[]
[]
["Telephone:  800-784-0360",null,null,null,"Released ","2015-09-17T10:37:39.110"]

{"sheet":"Huntington (069)","index":38,"n_rows":75,"n_cols":6,"rows_kept":75,"cut":false,"hidden":false,"merged":[[27,2,27,5],[0,1,0,5],[1,1,1,5],[2,1,2,5]]}
[null,"UI COVERED EMPLOYMENT"]
[null,"Huntington County"]
[null,"2014 Annual Averages"]
[]
[]
[]
["NAICS Sectors/Ownership",null,"Number of Reporting Units","Average Number of Workers","Total Annual Wages","Average Annual Wages"]
["Private Ownership Only",null,"not rounded","rounded to tens","rounded to hundreds","rounded to hundreds"]
[null,"AGRICULTURE, FORESTRY, FISHING AND HUNTI",18,170,5778200,34000]
[null,"MINING, QUARRYING, AND OIL AND GAS EXTRA","Confidential","Confidential","Confidential","Confidential"]
[null,"UTILITIES",3,50,3351200,67000]
[null,"CONSTRUCTION",69,440,20560400,46700]
[null,"MANUFACTURING",70,3860,168259200,43600]
[null,"WHOLESALE TRADE",43,590,26396600,44700]
[null,"RETAIL TRADE",126,1350,29929700,22200]
[null,"TRANSPORTATION AND WAREHOUSING",49,550,32780500,59600]
[null,"INFORMATION",11,390,15135800,38800]
[null,"FINANCE AND INSURANCE",62,480,21439300,44700]
[null,"REAL ESTATE AND RENTAL AND LEASING",32,90,1968800,21900]
[null,"PROFESSIONAL AND TECHNICAL SERVICES",58,180,6626700,36800]
[null,"MANAGEMENT OF COMPANIES AND ENTERPRISES","Confidential","Confidential","Confidential","Confidential"]
[null,"ADMINISTRATIVE AND WASTE SERVICES",30,780,15012200,19200]
[null,"EDUCATIONAL SERVICES",8,310,9629900,31100]
[null,"HEALTH CARE AND SOCIAL ASSISTANCE",54,1670,47360900,28400]
[null,"ARTS, ENTERTAINMENT, AND RECREATION",13,50,485000,9700]
[null,"ACCOMMODATION AND FOOD SERVICES",83,1080,13008400,12000]
[null,"OTHER SERVICES, EXCEPT PUBLIC ADMIN",80,540,9352600,17300]
[null,"UNCLASSIFIED","Data included in Total UI Covered"]
[]
["Local Government"]
[null,"LOCAL GOVERNMENT",31,1300,43262400,33300]
[null,"EDUCATIONAL SERVICES",11,840,28408200,33800]
[null,"HEALTH CARE AND SOCIAL ASSISTANCE",1,10,474300,47400]
[]
["State Government"]
[null,"STATE GOVERNMENT",15,110,3810500,34600]
[null,"EDUCATIONAL SERVICES",0,"0",0,0]
[null,"HEALTH CARE AND SOCIAL ASSISTANCE",0,"0",0,0]
[]
["Total UI Covered"]
[null,"TOTAL UI COVERED",858,14020,478531200,34100]
[]
["Federal Government"]
[null,"FEDERAL GOVERNMENT",8,80,4198700,52500]
[]
[]
["*Less than 5 employees unrounded"]
[]
[]
[]
[]
[]
[]
[]
[]
[]
[]
[]
[]
[]
[]
[]
[]
[]
[]
[]
[]
[]
[]
[]
[]
[]
[]
[]
["Telephone:  800-784-0360",null,null,null,"Released ","2015-09-17T10:37:56.730"]

{"sheet":"Jackson (071)","index":39,"n_rows":75,"n_cols":6,"rows_kept":75,"cut":false,"hidden":false,"merged":[[27,2,27,5],[0,1,0,5],[1,1,1,5],[2,1,2,5]]}
[null,"UI COVERED EMPLOYMENT"]
[null,"Jackson County"]
[null,"2014 Annual Averages"]
[]
[]
[]
["NAICS Sectors/Ownership",null,"Number of Reporting Units","Average Number of Workers","Total Annual Wages","Average Annual Wages"]
["Private Ownership Only",null,"not rounded","rounded to tens","rounded to hundreds","rounded to hundreds"]
[null,"AGRICULTURE, FORESTRY, FISHING AND HUNTI","Confidential","Confidential","Confidential","Confidential"]
[null,"MINING, QUARRYING, AND OIL AND GAS EXTRA","Confidential","Confidential","Confidential","Confidential"]
[null,"UTILITIES",5,110,7726800,70200]
[null,"CONSTRUCTION",92,560,22329400,39900]
[null,"MANUFACTURING",69,6370,329111500,51700]
[null,"WHOLESALE TRADE",54,680,30191400,44400]
[null,"RETAIL TRADE",168,2140,51323700,24000]
[null,"TRANSPORTATION AND WAREHOUSING",53,1590,71417700,44900]
[null,"INFORMATION",6,70,1782800,25500]
[null,"FINANCE AND INSURANCE",66,380,16572600,43600]
[null,"REAL ESTATE AND RENTAL AND LEASING",38,110,2699100,24500]
[null,"PROFESSIONAL AND TECHNICAL SERVICES",56,260,9380400,36100]
[null,"MANAGEMENT OF COMPANIES AND ENTERPRISES",10,100,7255000,72600]
[null,"ADMINISTRATIVE AND WASTE SERVICES",30,1170,39964100,34200]
[null,"EDUCATIONAL SERVICES",3,10,112900,11300]
[null,"HEALTH CARE AND SOCIAL ASSISTANCE",86,1150,38227600,33200]
[null,"ARTS, ENTERTAINMENT, AND RECREATION",8,70,851100,12200]
[null,"ACCOMMODATION AND FOOD SERVICES",86,1430,18483100,12900]
[null,"OTHER SERVICES, EXCEPT PUBLIC ADMIN",71,390,9126800,23400]
[null,"UNCLASSIFIED","Data included in Total UI Covered"]
[]
["Local Government"]
[null,"LOCAL GOVERNMENT",31,2540,100317200,39500]
[null,"EDUCATIONAL SERVICES",11,1040,34898000,33600]
[null,"HEALTH CARE AND SOCIAL ASSISTANCE",1,870,46337700,53300]
[]
["State Government"]
[null,"STATE GOVERNMENT",18,280,12712000,45400]
[null,"EDUCATIONAL SERVICES",0,"0",0,0]
[null,"HEALTH CARE AND SOCIAL ASSISTANCE",0,"0",0,0]
[]
["Total UI Covered"]
[null,"TOTAL UI COVERED",969,19990,792497900,39600]
[]
["Federal Government"]
[null,"FEDERAL GOVERNMENT",11,90,4429800,49200]
[]
[]
["*Less than 5 employees unrounded"]
[]
[]
[]
[]
[]
[]
[]
[]
[]
[]
[]
[]
[]
[]
[]
[]
[]
[]
[]
[]
[]
[]
[]
[]
[]
[]
[]
["Telephone:  800-784-0360",null,null,null,"Released ","2015-09-17T10:38:15.900"]

{"sheet":"Jasper (73)","index":40,"n_rows":75,"n_cols":6,"rows_kept":75,"cut":false,"hidden":false,"merged":[[27,2,27,5],[0,1,0,5],[1,1,1,5],[2,1,2,5]]}
[null,"UI COVERED EMPLOYMENT"]
[null,"Jasper County"]
[null,"2014 Annual Averages"]
[]
[]
[]
["NAICS Sectors/Ownership",null,"Number of Reporting Units","Average Number of Workers","Total Annual Wages","Average Annual Wages"]
["Private Ownership Only",null,"not rounded","rounded to tens","rounded to hundreds","rounded to hundreds"]
[null,"AGRICULTURE, FORESTRY, FISHING AND HUNTI",43,740,39299300,53100]
[null,"MINING, QUARRYING, AND OIL AND GAS EXTRA","Confidential","Confidential","Confidential","Confidential"]
[null,"UTILITIES","Confidential","Confidential","Confidential","Confidential"]
[null,"CONSTRUCTION",100,750,37079800,49400]
[null,"MANUFACTURING",35,1410,65896900,46700]
[null,"WHOLESALE TRADE",43,420,21829200,52000]
[null,"RETAIL TRADE",120,1420,32969000,23200]
[null,"TRANSPORTATION AND WAREHOUSING",71,1550,58995500,38100]
[null,"INFORMATION",13,110,4556400,41400]
[null,"FINANCE AND INSURANCE",40,240,9014300,37600]
[null,"REAL ESTATE AND RENTAL AND LEASING",25,90,2241700,24900]
[null,"PROFESSIONAL AND TECHNICAL SERVICES",52,160,5805500,36300]
[null,"MANAGEMENT OF COMPANIES AND ENTERPRISES",4,40,2606700,65200]
[null,"ADMINISTRATIVE AND WASTE SERVICES",28,270,7075100,26200]
[null,"EDUCATIONAL SERVICES",5,280,9928700,35500]
[null,"HEALTH CARE AND SOCIAL ASSISTANCE",46,870,23468300,27000]
[null,"ARTS, ENTERTAINMENT, AND RECREATION",10,80,1075700,13400]
[null,"ACCOMMODATION AND FOOD SERVICES",64,1010,11349700,11200]
[null,"OTHER SERVICES, EXCEPT PUBLIC ADMIN",60,180,3534900,19600]
[null,"UNCLASSIFIED","Data included in Total UI Covered"]
[]
["Local Government"]
[null,"LOCAL GOVERNMENT",26,1780,54422200,30600]
[null,"EDUCATIONAL SERVICES",10,860,25030500,29100]
[null,"HEALTH CARE AND SOCIAL ASSISTANCE",5,500,16332300,32700]
[]
["State Government"]
[null,"STATE GOVERNMENT",13,80,3096000,38700]
[null,"EDUCATIONAL SERVICES",0,"0",0,0]
[null,"HEALTH CARE AND SOCIAL ASSISTANCE",0,"0",0,0]
[]
["Total UI Covered"]
[null,"TOTAL UI COVERED",804,11790,428771900,36400]
[]
["Federal Government"]
[null,"FEDERAL GOVERNMENT",8,90,4405300,48900]
[]
[]
["*Less than 5 employees unrounded"]
[]
[]
[]
[]
[]
[]
[]
[]
[]
[]
[]
[]
[]
[]
[]
[]
[]
[]
[]
[]
[]
[]
[]
[]
[]
[]
[]
["Telephone:  800-784-0360",null,null,null,"Released ","2015-09-17T10:38:32.890"]

{"sheet":"Jay (075)","index":41,"n_rows":75,"n_cols":6,"rows_kept":75,"cut":false,"hidden":false,"merged":[[27,2,27,5],[0,1,0,5],[1,1,1,5],[2,1,2,5]]}
[null,"UI COVERED EMPLOYMENT"]
[null,"Jay County"]
[null,"2014 Annual Averages"]
[]
[]
[]
["NAICS Sectors/Ownership",null,"Number of Reporting Units","Average Number of Workers","Total Annual Wages","Average Annual Wages"]
["Private Ownership Only",null,"not rounded","rounded to tens","rounded to hundreds","rounded to hundreds"]
[null,"AGRICULTURE, FORESTRY, FISHING AND HUNTI",11,170,4504000,26500]
[null,"MINING, QUARRYING, AND OIL AND GAS EXTRA","Confidential","Confidential","Confidential","Confidential"]
[null,"UTILITIES","Confidential","Confidential","Confidential","Confidential"]
[null,"CONSTRUCTION",41,230,7519500,32700]
[null,"MANUFACTURING",35,3130,127148200,40600]
[null,"WHOLESALE TRADE",21,240,10785800,44900]
[null,"RETAIL TRADE",55,600,12620600,21000]
[null,"TRANSPORTATION AND WAREHOUSING",9,50,2046300,40900]
[null,"INFORMATION",7,70,1685700,24100]
[null,"FINANCE AND INSURANCE",34,170,5844100,34400]
[null,"REAL ESTATE AND RENTAL AND LEASING",13,30,435400,14500]
[null,"PROFESSIONAL AND TECHNICAL SERVICES",18,110,3756000,34100]
[null,"MANAGEMENT OF COMPANIES AND ENTERPRISES",4,90,2252600,25000]
[null,"ADMINISTRATIVE AND WASTE SERVICES",16,190,3631100,19100]
[null,"EDUCATIONAL SERVICES",3,20,578500,28900]
[null,"HEALTH CARE AND SOCIAL ASSISTANCE",18,480,12656500,26400]
[null,"ARTS, ENTERTAINMENT, AND RECREATION",5,20,161800,8100]
[null,"ACCOMMODATION AND FOOD SERVICES",29,450,4879100,10800]
[null,"OTHER SERVICES, EXCEPT PUBLIC ADMIN",36,140,2196500,15700]
[null,"UNCLASSIFIED","Data included in Total UI Covered"]
[]
["Local Government"]
[null,"LOCAL GOVERNMENT",20,1240,39792500,32100]
[null,"EDUCATIONAL SERVICES",11,490,16358200,33400]
[null,"HEALTH CARE AND SOCIAL ASSISTANCE",1,310,13313400,42900]
[]
["State Government"]
[null,"STATE GOVERNMENT",12,40,1888900,47200]
[null,"EDUCATIONAL SERVICES",0,"0",0,0]
[null,"HEALTH CARE AND SOCIAL ASSISTANCE",0,"0",0,0]
[]
["Total UI Covered"]
[null,"TOTAL UI COVERED",389,7500,246881000,32900]
[]
["Federal Government"]
[null,"FEDERAL GOVERNMENT",6,40,2025500,50600]
[]
[]
["*Less than 5 employees unrounded"]
[]
[]
[]
[]
[]
[]
[]
[]
[]
[]
[]
[]
[]
[]
[]
[]
[]
[]
[]
[]
[]
[]
[]
[]
[]
[]
[]
["Telephone:  800-784-0360",null,null,null,"Released ","2015-09-17T10:38:53.180"]

{"sheet":"Jefferson (077)","index":42,"n_rows":75,"n_cols":6,"rows_kept":75,"cut":false,"hidden":false,"merged":[[27,2,27,5],[0,1,0,5],[1,1,1,5],[2,1,2,5]]}
[null,"UI COVERED EMPLOYMENT"]
[null,"Jefferson County"]
[null,"2014 Annual Averages"]
[]
[]
[]
["NAICS Sectors/Ownership",null,"Number of Reporting Units","Average Number of Workers","Total Annual Wages","Average Annual Wages"]
["Private Ownership Only",null,"not rounded","rounded to tens","rounded to hundreds","rounded to hundreds"]
[null,"AGRICULTURE, FORESTRY, FISHING AND HUNTI","Confidential","Confidential","Confidential","Confidential"]
[null,"MINING, QUARRYING, AND OIL AND GAS EXTRA",0,"0",0,0]
[null,"UTILITIES","Confidential","Confidential","Confidential","Confidential"]
[null,"CONSTRUCTION",54,250,9075400,36300]
[null,"MANUFACTURING",48,2930,142747900,48700]
[null,"WHOLESALE TRADE",20,140,6305500,45000]
[null,"RETAIL TRADE",120,1590,38634900,24300]
[null,"TRANSPORTATION AND WAREHOUSING",16,180,6984100,38800]
[null,"INFORMATION",9,110,2561300,23300]
[null,"FINANCE AND INSURANCE",34,170,7528700,44300]
[null,"REAL ESTATE AND RENTAL AND LEASING",31,100,2771600,27700]
[null,"PROFESSIONAL AND TECHNICAL SERVICES",48,200,6852900,34300]
[null,"MANAGEMENT OF COMPANIES AND ENTERPRISES","Confidential","Confidential","Confidential","Confidential"]
[null,"ADMINISTRATIVE AND WASTE SERVICES",23,320,9536100,29800]
[null,"EDUCATIONAL SERVICES","Confidential","Confidential","Confidential","Confidential"]
[null,"HEALTH CARE AND SOCIAL ASSISTANCE",71,1620,71751300,44300]
[null,"ARTS, ENTERTAINMENT, AND RECREATION",10,50,611100,12200]
[null,"ACCOMMODATION AND FOOD SERVICES",74,1230,14171700,11500]
[null,"OTHER SERVICES, EXCEPT PUBLIC ADMIN",50,250,4924300,19700]
[null,"UNCLASSIFIED","Data included in Total UI Covered"]
[]
["Local Government"]
[null,"LOCAL GOVERNMENT",18,1160,35033300,30200]
[null,"EDUCATIONAL SERVICES",9,780,24960800,32000]
[null,"HEALTH CARE AND SOCIAL ASSISTANCE",1,10,115800,11600]
[]
["State Government"]
[null,"STATE GOVERNMENT",22,1070,36057000,33700]
[null,"EDUCATIONAL SERVICES",1,290,8350400,28800]
[null,"HEALTH CARE AND SOCIAL ASSISTANCE",1,350,14165600,40500]
[]
["Total UI Covered"]
[null,"TOTAL UI COVERED",667,12200,447333100,36700]
[]
["Federal Government"]
[null,"FEDERAL GOVERNMENT",10,80,4213200,52700]
[]
[]
["*Less than 5 employees unrounded"]
[]
[]
[]
[]
[]
[]
[]
[]
[]
[]
[]
[]
[]
[]
[]
[]
[]
[]
[]
[]
[]
[]
[]
[]
[]
[]
[]
["Telephone:  800-784-0360",null,null,null,"Released ","2015-09-17T10:39:12.060"]

{"sheet":"Jennings (079)","index":43,"n_rows":75,"n_cols":6,"rows_kept":75,"cut":false,"hidden":false,"merged":[[27,2,27,5],[0,1,0,5],[1,1,1,5],[2,1,2,5]]}
[null,"UI COVERED EMPLOYMENT"]
[null,"Jennings County"]
[null,"2014 Annual Averages"]
[]
[]
[]
["NAICS Sectors/Ownership",null,"Number of Reporting Units","Average Number of Workers","Total Annual Wages","Average Annual Wages"]
["Private Ownership Only",null,"not rounded","rounded to tens","rounded to hundreds","rounded to hundreds"]
[null,"AGRICULTURE, FORESTRY, FISHING AND HUNTI","Confidential","Confidential","Confidential","Confidential"]
[null,"MINING, QUARRYING, AND OIL AND GAS EXTRA","Confidential","Confidential","Confidential","Confidential"]
[null,"UTILITIES",3,20,813000,40700]
[null,"CONSTRUCTION",38,610,29581000,48500]
[null,"MANUFACTURING",41,1930,78520700,40700]
[null,"WHOLESALE TRADE",16,230,8743800,38000]
[null,"RETAIL TRADE",53,690,16148600,23400]
[null,"TRANSPORTATION AND WAREHOUSING","Confidential","Confidential","Confidential","Confidential"]
[null,"INFORMATION",3,20,503600,25200]
[null,"FINANCE AND INSURANCE",19,90,3505500,39000]
[null,"REAL ESTATE AND RENTAL AND LEASING",13,40,2007500,50200]
[null,"PROFESSIONAL AND TECHNICAL SERVICES",19,70,3274100,46800]
[null,"MANAGEMENT OF COMPANIES AND ENTERPRISES",0,"0",0,0]
[null,"ADMINISTRATIVE AND WASTE SERVICES",11,70,1732700,24800]
[null,"EDUCATIONAL SERVICES",4,30,574000,19100]
[null,"HEALTH CARE AND SOCIAL ASSISTANCE",54,690,21373200,31000]
[null,"ARTS, ENTERTAINMENT, AND RECREATION",4,10,38900,3900]
[null,"ACCOMMODATION AND FOOD SERVICES",25,340,4225600,12400]
[null,"OTHER SERVICES, EXCEPT PUBLIC ADMIN",26,100,2022800,20200]
[null,"UNCLASSIFIED","Data included in Total UI Covered"]
[]
["Local Government"]
[null,"LOCAL GOVERNMENT",20,1020,33772300,33100]
[null,"EDUCATIONAL SERVICES",11,730,25308100,34700]
[null,"HEALTH CARE AND SOCIAL ASSISTANCE",0,"0",0,0]
[]
["State Government"]
[null,"STATE GOVERNMENT",12,170,6284100,37000]
[null,"EDUCATIONAL SERVICES",0,"0",0,0]
[null,"HEALTH CARE AND SOCIAL ASSISTANCE",0,"0",0,0]
[]
["Total UI Covered"]
[null,"TOTAL UI COVERED",383,7160,247695200,34600]
[]
["Federal Government"]
[null,"FEDERAL GOVERNMENT",12,70,3763000,53800]
[]
[]
["*Less than 5 employees unrounded"]
[]
[]
[]
[]
[]
[]
[]
[]
[]
[]
[]
[]
[]
[]
[]
[]
[]
[]
[]
[]
[]
[]
[]
[]
[]
[]
[]
["Telephone:  800-784-0360",null,null,null,"Released ","2015-09-17T10:39:27.530"]

{"sheet":"Johnson (081)","index":44,"n_rows":75,"n_cols":6,"rows_kept":75,"cut":false,"hidden":false,"merged":[[27,2,27,5],[0,1,0,5],[1,1,1,5],[2,1,2,5]]}
[null,"UI COVERED EMPLOYMENT"]
[null,"Johnson County"]
[null,"2014 Annual Averages"]
[]
[]
[]
["NAICS Sectors/Ownership",null,"Number of Reporting Units","Average Number of Workers","Total Annual Wages","Average Annual Wages"]
["Private Ownership Only",null,"not rounded","rounded to tens","rounded to hundreds","rounded to hundreds"]
[null,"AGRICULTURE, FORESTRY, FISHING AND HUNTI",13,110,3741300,34000]
[null,"MINING, QUARRYING, AND OIL AND GAS EXTRA",3,20,1133500,56700]
[null,"UTILITIES",6,120,8552500,71300]
[null,"CONSTRUCTION",352,2060,92171300,44700]
[null,"MANUFACTURING",144,5380,270874700,50300]
[null,"WHOLESALE TRADE",188,2000,107755500,53900]
[null,"RETAIL TRADE",467,8300,194133300,23400]
[null,"TRANSPORTATION AND WAREHOUSING",93,2030,83173400,41000]
[null,"INFORMATION",26,240,9989300,41600]
[null,"FINANCE AND INSURANCE",231,1030,53725600,52200]
[null,"REAL ESTATE AND RENTAL AND LEASING",119,460,15109300,32800]
[null,"PROFESSIONAL AND TECHNICAL SERVICES",312,1160,57953700,50000]
[null,"MANAGEMENT OF COMPANIES AND ENTERPRISES",26,180,12893400,71600]
[null,"ADMINISTRATIVE AND WASTE SERVICES",185,3330,102230100,30700]
[null,"EDUCATIONAL SERVICES",39,670,20420200,30500]
[null,"HEALTH CARE AND SOCIAL ASSISTANCE",263,5700,217958000,38200]
[null,"ARTS, ENTERTAINMENT, AND RECREATION",34,340,4921100,14500]
[null,"ACCOMMODATION AND FOOD SERVICES",278,6350,92329100,14500]
[null,"OTHER SERVICES, EXCEPT PUBLIC ADMIN",252,1570,50307600,32000]
[null,"UNCLASSIFIED","Data included in Total UI Covered"]
[]
["Local Government"]
[null,"LOCAL GOVERNMENT",63,6020,213232700,35400]
[null,"EDUCATIONAL SERVICES",32,3380,117541800,34800]
[null,"HEALTH CARE AND SOCIAL ASSISTANCE",5,740,35514700,48000]
[]
["State Government"]
[null,"STATE GOVERNMENT",22,350,12914800,36900]
[null,"EDUCATIONAL SERVICES",0,"0",0,0]
[null,"HEALTH CARE AND SOCIAL ASSISTANCE",0,"0",0,0]
[]
["Total UI Covered"]
[null,"TOTAL UI COVERED",3115,47400,1625520500,34300]
[]
["Federal Government"]
[null,"FEDERAL GOVERNMENT",16,400,23885600,59700]
[]
[]
["*Less than 5 employees unrounded"]
[]
[]
[]
[]
[]
[]
[]
[]
[]
[]
[]
[]
[]
[]
[]
[]
[]
[]
[]
[]
[]
[]
[]
[]
[]
[]
[]
["Telephone:  800-784-0360",null,null,null,"Released ","2015-09-17T10:39:48.690"]

{"sheet":"Knox (083)","index":45,"n_rows":75,"n_cols":6,"rows_kept":75,"cut":false,"hidden":false,"merged":[[27,2,27,5],[0,1,0,5],[1,1,1,5],[2,1,2,5]]}
[null,"UI COVERED EMPLOYMENT"]
[null,"Knox County"]
[null,"2014 Annual Averages"]
[]
[]
[]
["NAICS Sectors/Ownership",null,"Number of Reporting Units","Average Number of Workers","Total Annual Wages","Average Annual Wages"]
["Private Ownership Only",null,"not rounded","rounded to tens","rounded to hundreds","rounded to hundreds"]
[null,"AGRICULTURE, FORESTRY, FISHING AND HUNTI",51,390,12159600,31200]
[null,"MINING, QUARRYING, AND OIL AND GAS EXTRA",12,890,69265700,77800]
[null,"UTILITIES",10,260,23604100,90800]
[null,"CONSTRUCTION",70,460,17438200,37900]
[null,"MANUFACTURING",40,2120,84024600,39600]
[null,"WHOLESALE TRADE",64,640,28053000,43800]
[null,"RETAIL TRADE",142,1890,42784200,22600]
[null,"TRANSPORTATION AND WAREHOUSING",44,630,21107000,33500]
[null,"INFORMATION",15,180,7216500,40100]
[null,"FINANCE AND INSURANCE",59,490,23857900,48700]
[null,"REAL ESTATE AND RENTAL AND LEASING",29,140,3324300,23700]
[null,"PROFESSIONAL AND TECHNICAL SERVICES",43,180,5958500,33100]
[null,"MANAGEMENT OF COMPANIES AND ENTERPRISES",7,80,3956400,49500]
[null,"ADMINISTRATIVE AND WASTE SERVICES",37,490,9466700,19300]
[null,"EDUCATIONAL SERVICES",9,120,2871600,23900]
[null,"HEALTH CARE AND SOCIAL ASSISTANCE",100,2070,84250900,40700]
[null,"ARTS, ENTERTAINMENT, AND RECREATION",7,50,635200,12700]
[null,"ACCOMMODATION AND FOOD SERVICES",86,1600,20241800,12700]
[null,"OTHER SERVICES, EXCEPT PUBLIC ADMIN",79,550,12670100,23000]
[null,"UNCLASSIFIED","Data included in Total UI Covered"]
[]
["Local Government"]
[null,"LOCAL GOVERNMENT",34,2870,102984300,35900]
[null,"EDUCATIONAL SERVICES",13,680,22900800,33700]
[null,"HEALTH CARE AND SOCIAL ASSISTANCE",1,1610,64355200,40000]
[]
["State Government"]
[null,"STATE GOVERNMENT",15,1320,57262000,43400]
[null,"EDUCATIONAL SERVICES",1,1080,47012700,43500]
[null,"HEALTH CARE AND SOCIAL ASSISTANCE",0,"0",0,0]
[]
["Total UI Covered"]
[null,"TOTAL UI COVERED",949,17420,633132500,36300]
[]
["Federal Government"]
[null,"FEDERAL GOVERNMENT",17,170,10094200,59400]
[]
[]
["*Less than 5 employees unrounded"]
[]
[]
[]
[]
[]
[]
[]
[]
[]
[]
[]
[]
[]
[]
[]
[]
[]
[]
[]
[]
[]
[]
[]
[]
[]
[]
[]
["Telephone:  800-784-0360",null,null,null,"Released ","2015-09-17T10:40:05.780"]

{"sheet":"Kosciusko (085)","index":46,"n_rows":75,"n_cols":6,"rows_kept":75,"cut":false,"hidden":false,"merged":[[27,2,27,5],[0,1,0,5],[1,1,1,5],[2,1,2,5]]}
[null,"UI COVERED EMPLOYMENT"]
[null,"Kosciusko County"]
[null,"2014 Annual Averages"]
[]
[]
[]
["NAICS Sectors/Ownership",null,"Number of Reporting Units","Average Number of Workers","Total Annual Wages","Average Annual Wages"]
["Private Ownership Only",null,"not rounded","rounded to tens","rounded to hundreds","rounded to hundreds"]
[null,"AGRICULTURE, FORESTRY, FISHING AND HUNTI",46,480,17196900,35800]
[null,"MINING, QUARRYING, AND OIL AND GAS EXTRA",3,10,452700,45300]
[null,"UTILITIES",3,60,3919100,65300]
[null,"CONSTRUCTION",199,970,36214000,37300]
[null,"MANUFACTURING",178,14610,936146200,64100]
[null,"WHOLESALE TRADE",128,1530,161873000,105800]
[null,"RETAIL TRADE",275,3700,88541600,23900]
[null,"TRANSPORTATION AND WAREHOUSING",54,420,17240900,41000]
[null,"INFORMATION",18,400,16014500,40000]
[null,"FINANCE AND INSURANCE",117,660,36631000,55500]
[null,"REAL ESTATE AND RENTAL AND LEASING",70,200,4704600,23500]
[null,"PROFESSIONAL AND TECHNICAL SERVICES",151,510,20891600,41000]
[null,"MANAGEMENT OF COMPANIES AND ENTERPRISES",15,440,29897000,67900]
[null,"ADMINISTRATIVE AND WASTE SERVICES",93,1730,47697700,27600]
[null,"EDUCATIONAL SERVICES",16,810,18322400,22600]
[null,"HEALTH CARE AND SOCIAL ASSISTANCE",104,3120,108544000,34800]
[null,"ARTS, ENTERTAINMENT, AND RECREATION",22,250,4257700,17000]
[null,"ACCOMMODATION AND FOOD SERVICES",160,2650,34300500,12900]
[null,"OTHER SERVICES, EXCEPT PUBLIC ADMIN",168,1170,34398800,29400]
[null,"UNCLASSIFIED","Data included in Total UI Covered"]
[]
["Local Government"]
[null,"LOCAL GOVERNMENT",43,2910,93139000,32000]
[null,"EDUCATIONAL SERVICES",13,2100,66074500,31500]
[null,"HEALTH CARE AND SOCIAL ASSISTANCE",1,10,701200,70100]
[]
["State Government"]
[null,"STATE GOVERNMENT",12,80,3184600,39800]
[null,"EDUCATIONAL SERVICES",0,"0",0,0]
[null,"HEALTH CARE AND SOCIAL ASSISTANCE",0,"0",0,0]
[]
["Total UI Covered"]
[null,"TOTAL UI COVERED",1873,36720,1713567800,46700]
[]
["Federal Government"]
[null,"FEDERAL GOVERNMENT",17,160,9388200,58700]
[]
[]
["*Less than 5 employees unrounded"]
[]
[]
[]
[]
[]
[]
[]
[]
[]
[]
[]
[]
[]
[]
[]
[]
[]
[]
[]
[]
[]
[]
[]
[]
[]
[]
[]
["Telephone:  800-784-0360",null,null,null,"Released ","2015-09-17T10:40:23.650"]

{"sheet":"Lagrange (087)","index":47,"n_rows":75,"n_cols":6,"rows_kept":75,"cut":false,"hidden":false,"merged":[[27,2,27,5],[0,1,0,5],[1,1,1,5],[2,1,2,5]]}
[null,"UI COVERED EMPLOYMENT"]
[null,"Lagrange County"]
[null,"2014 Annual Averages"]
[]
[]
[]
["NAICS Sectors/Ownership",null,"Number of Reporting Units","Average Number of Workers","Total Annual Wages","Average Annual Wages"]
["Private Ownership Only",null,"not rounded","rounded to tens","rounded to hundreds","rounded to hundreds"]
[null,"AGRICULTURE, FORESTRY, FISHING AND HUNTI",31,210,7882800,37500]
[null,"MINING, QUARRYING, AND OIL AND GAS EXTRA","Confidential","Confidential","Confidential","Confidential"]
[null,"UTILITIES","Confidential","Confidential","Confidential","Confidential"]
[null,"CONSTRUCTION",100,450,16592200,36900]
[null,"MANUFACTURING",143,6090,289028000,47500]
[null,"WHOLESALE TRADE",43,640,15900900,24800]
[null,"RETAIL TRADE",137,1080,24681000,22900]
[null,"TRANSPORTATION AND WAREHOUSING",35,140,7372500,52700]
[null,"INFORMATION",4,20,1032200,51600]
[null,"FINANCE AND INSURANCE",24,260,10551200,40600]
[null,"REAL ESTATE AND RENTAL AND LEASING",25,70,1033100,14800]
[null,"PROFESSIONAL AND TECHNICAL SERVICES",42,190,6420700,33800]
[null,"MANAGEMENT OF COMPANIES AND ENTERPRISES",3,30,1454600,48500]
[null,"ADMINISTRATIVE AND WASTE SERVICES",25,70,1876200,26800]
[null,"EDUCATIONAL SERVICES","Confidential","Confidential","Confidential","Confidential"]
[null,"HEALTH CARE AND SOCIAL ASSISTANCE",29,750,23672000,31600]
[null,"ARTS, ENTERTAINMENT, AND RECREATION",7,30,517000,17200]
[null,"ACCOMMODATION AND FOOD SERVICES",60,1010,12717000,12600]
[null,"OTHER SERVICES, EXCEPT PUBLIC ADMIN",61,300,9220100,30700]
[null,"UNCLASSIFIED","Data included in Total UI Covered"]
[]
["Local Government"]
[null,"LOCAL GOVERNMENT",28,1260,39321800,31200]
[null,"EDUCATIONAL SERVICES",16,970,30967900,31900]
[null,"HEALTH CARE AND SOCIAL ASSISTANCE",0,"0",0,0]
[]
["State Government"]
[null,"STATE GOVERNMENT",12,60,2414000,40200]
[null,"EDUCATIONAL SERVICES",0,"0",0,0]
[null,"HEALTH CARE AND SOCIAL ASSISTANCE",0,"0",0,0]
[]
["Total UI Covered"]
[null,"TOTAL UI COVERED",812,12740,475401600,37300]
[]
["Federal Government"]
[null,"FEDERAL GOVERNMENT",12,60,2765400,46100]
[]
[]
["*Less than 5 employees unrounded"]
[]
[]
[]
[]
[]
[]
[]
[]
[]
[]
[]
[]
[]
[]
[]
[]
[]
[]
[]
[]
[]
[]
[]
[]
[]
[]
[]
["Telephone:  800-784-0360",null,null,null,"Released ","2015-09-17T10:40:41.960"]

{"sheet":"Lake (089)","index":48,"n_rows":75,"n_cols":9,"rows_kept":75,"cut":false,"hidden":false,"merged":[[27,2,27,5],[0,1,0,5],[1,1,1,5],[2,1,2,5]]}
[null,"UI COVERED EMPLOYMENT"]
[null,"Lake County"]
[null,"2014 Annual Averages"]
[]
[]
[]
["NAICS Sectors/Ownership",null,"Number of Reporting Units","Average Number of Workers","Total Annual Wages","Average Annual Wages"]
["Private Ownership Only",null,"not rounded","rounded to tens","rounded to hundreds","rounded to hundreds"]
[null,"AGRICULTURE, FORESTRY, FISHING AND HUNTI",25,170,4195100,24700]
[null,"MINING, QUARRYING, AND OIL AND GAS EXTRA",12,110,7417600,67400]
[null,"UTILITIES","Confidential","Confidential","Confidential","Confidential"]
[null,"CONSTRUCTION",940,10900,731372100,67100]
[null,"MANUFACTURING",382,24690,2106114300,85300]
[null,"WHOLESALE TRADE",629,5810,363228800,62500]
[null,"RETAIL TRADE",1456,24120,595451300,24700]
[null,"TRANSPORTATION AND WAREHOUSING",404,6890,316878900,46000]
[null,"INFORMATION",89,1370,61991100,45200]
[null,"FINANCE AND INSURANCE",608,4110,209043800,50900]
[null,"REAL ESTATE AND RENTAL AND LEASING",359,2050,69019500,33700]
[null,"PROFESSIONAL AND TECHNICAL SERVICES",979,5530,277576100,50200]
[null,"MANAGEMENT OF COMPANIES AND ENTERPRISES",45,2020,172984100,85600]
[null,"ADMINISTRATIVE AND WASTE SERVICES",478,8250,263129400,31900]
[null,"EDUCATIONAL SERVICES",150,2980,86678500,29100]
[null,"HEALTH CARE AND SOCIAL ASSISTANCE",1205,30200,1362154600,45100]
[null,"ARTS, ENTERTAINMENT, AND RECREATION",117,6120,173209000,28300]
[null,"ACCOMMODATION AND FOOD SERVICES",967,17600,238280000,13500]
[null,"OTHER SERVICES, EXCEPT PUBLIC ADMIN",990,6960,199187200,28600]
[null,"UNCLASSIFIED","Data included in Total UI Covered"]
[]
["Local Government"]
[null,"LOCAL GOVERNMENT",175,19990,700923000,35100]
[null,"EDUCATIONAL SERVICES",94,11350,409206900,36100]
[null,"HEALTH CARE AND SOCIAL ASSISTANCE",0,"0",0,0]
[]
["State Government"]
[null,"STATE GOVERNMENT",28,3300,129871200,39400]
[null,"EDUCATIONAL SERVICES",3,2490,95647300,38400]
[null,"HEALTH CARE AND SOCIAL ASSISTANCE",0,"0",0,0]
[]
["Total UI Covered"]
[null,"TOTAL UI COVERED",10051,184760,8226906200,44500]
[]
["Federal Government"]
[null,"FEDERAL GOVERNMENT",45,1320,98459000,74600]
[]
[]
["*Less than 5 employees unrounded"]
[]
[]
[]
[]
[]
[]
[]
[]
[]
[]
[]
[]
[]
[]
[null,null,null,null,null,null,null,null," "]
[]
[]
[]
[]
[]
[]
[]
[]
[]
[]
[]
[]
["Telephone:  800-784-0360",null,null,null,"Released ","2015-09-17T10:41:12.770"]

{"sheet":"Laporte (091)","index":49,"n_rows":75,"n_cols":6,"rows_kept":75,"cut":false,"hidden":false,"merged":[[27,2,27,5],[0,1,0,5],[1,1,1,5],[2,1,2,5]]}
[null,"UI COVERED EMPLOYMENT"]
[null,"Laporte County"]
[null,"2014 Annual Averages"]
[]
[]
[]
["NAICS Sectors/Ownership",null,"Number of Reporting Units","Average Number of Workers","Total Annual Wages","Average Annual Wages"]
["Private Ownership Only",null,"not rounded","rounded to tens","rounded to hundreds","rounded to hundreds"]
[null,"AGRICULTURE, FORESTRY, FISHING AND HUNTI",43,280,8565300,30600]
[null,"MINING, QUARRYING, AND OIL AND GAS EXTRA","Confidential","Confidential","Confidential","Confidential"]
[null,"UTILITIES","Confidential","Confidential","Confidential","Confidential"]
[null,"CONSTRUCTION",216,1730,105484700,61000]
[null,"MANUFACTURING",170,7620,376646000,49400]
[null,"WHOLESALE TRADE",142,1200,56745900,47300]
[null,"RETAIL TRADE",403,5440,119322800,21900]
[null,"TRANSPORTATION AND WAREHOUSING",70,1140,49429300,43400]
[null,"INFORMATION",23,240,7417700,30900]
[null,"FINANCE AND INSURANCE",96,840,40390400,48100]
[null,"REAL ESTATE AND RENTAL AND LEASING",83,380,12729100,33500]
[null,"PROFESSIONAL AND TECHNICAL SERVICES",154,660,29961100,45400]
[null,"MANAGEMENT OF COMPANIES AND ENTERPRISES",11,100,6465400,64700]
[null,"ADMINISTRATIVE AND WASTE SERVICES",120,2040,58412600,28600]
[null,"EDUCATIONAL SERVICES",18,400,10407900,26000]
[null,"HEALTH CARE AND SOCIAL ASSISTANCE",185,5120,237325700,46400]
[null,"ARTS, ENTERTAINMENT, AND RECREATION",33,1350,38556700,28600]
[null,"ACCOMMODATION AND FOOD SERVICES",238,4070,51223500,12600]
[null,"OTHER SERVICES, EXCEPT PUBLIC ADMIN",222,1250,30269000,24200]
[null,"UNCLASSIFIED","Data included in Total UI Covered"]
[]
["Local Government"]
[null,"LOCAL GOVERNMENT",55,4240,148980900,35100]
[null,"EDUCATIONAL SERVICES",24,2330,83033400,35600]
[null,"HEALTH CARE AND SOCIAL ASSISTANCE",0,"0",0,0]
[]
["State Government"]
[null,"STATE GOVERNMENT",26,2110,82099900,38900]
[null,"EDUCATIONAL SERVICES",1,510,19173500,37600]
[null,"HEALTH CARE AND SOCIAL ASSISTANCE",0,"0",0,0]
[]
["Total UI Covered"]
[null,"TOTAL UI COVERED",2313,40480,1500287800,37100]
[]
["Federal Government"]
[null,"FEDERAL GOVERNMENT",16,170,9308000,54800]
[]
[]
["*Less than 5 employees unrounded"]
[]
[]
[]
[]
[]
[]
[]
[]
[]
[]
[]
[]
[]
[]
[]
[]
[]
[]
[]
[]
[]
[]
[]
[]
[]
[]
[]
["Telephone:  800-784-0360",null,null,null,"Released ","2015-09-17T10:41:27.620"]

{"sheet":"Lawrence (093)","index":50,"n_rows":75,"n_cols":6,"rows_kept":75,"cut":false,"hidden":false,"merged":[[27,2,27,5],[0,1,0,5],[1,1,1,5],[2,1,2,5]]}
[null,"UI COVERED EMPLOYMENT"]
[null,"Lawrence County"]
[null,"2014 Annual Averages"]
[]
[]
[]
["NAICS Sectors/Ownership",null,"Number of Reporting Units","Average Number of Workers","Total Annual Wages","Average Annual Wages"]
["Private Ownership Only",null,"not rounded","rounded to tens","rounded to hundreds","rounded to hundreds"]
[null,"AGRICULTURE, FORESTRY, FISHING AND HUNTI",4,10,339200,33900]
[null,"MINING, QUARRYING, AND OIL AND GAS EXTRA",13,170,7335200,43100]
[null,"UTILITIES",5,50,3138700,62800]
[null,"CONSTRUCTION",73,430,16210200,37700]
[null,"MANUFACTURING",58,2100,125397000,59700]
[null,"WHOLESALE TRADE",26,210,8100200,38600]
[null,"RETAIL TRADE",148,1910,44807800,23500]
[null,"TRANSPORTATION AND WAREHOUSING",30,200,7304000,36500]
[null,"INFORMATION",15,140,5236800,37400]
[null,"FINANCE AND INSURANCE",55,370,15811600,42700]
[null,"REAL ESTATE AND RENTAL AND LEASING",20,80,2287100,28600]
[null,"PROFESSIONAL AND TECHNICAL SERVICES",61,530,24949100,47100]
[null,"MANAGEMENT OF COMPANIES AND ENTERPRISES","Confidential","Confidential","Confidential","Confidential"]
[null,"ADMINISTRATIVE AND WASTE SERVICES",27,310,7036500,22700]
[null,"EDUCATIONAL SERVICES",4,40,1878200,47000]
[null,"HEALTH CARE AND SOCIAL ASSISTANCE",79,2450,71539100,29200]
[null,"ARTS, ENTERTAINMENT, AND RECREATION",10,50,628800,12600]
[null,"ACCOMMODATION AND FOOD SERVICES",59,1200,14658700,12200]
[null,"OTHER SERVICES, EXCEPT PUBLIC ADMIN",70,350,8649300,24700]
[null,"UNCLASSIFIED","Data included in Total UI Covered"]
[]
["Local Government"]
[null,"LOCAL GOVERNMENT",35,1770,54301400,30700]
[null,"EDUCATIONAL SERVICES",20,1140,35885800,31500]
[null,"HEALTH CARE AND SOCIAL ASSISTANCE",0,"0",0,0]
[]
["State Government"]
[null,"STATE GOVERNMENT",13,210,5683600,27100]
[null,"EDUCATIONAL SERVICES",0,"0",0,0]
[null,"HEALTH CARE AND SOCIAL ASSISTANCE",0,"0",0,0]
[]
["Total UI Covered"]
[null,"TOTAL UI COVERED",806,12590,425841000,33800]
[]
["Federal Government"]
[null,"FEDERAL GOVERNMENT",14,120,6262500,52200]
[]
[]
["*Less than 5 employees unrounded"]
[]
[]
[]
[]
[]
[]
[]
[]
[]
[]
[]
[]
[]
[]
[]
[]
[]
[]
[]
[]
[]
[]
[]
[]
[]
[]
[]
["Telephone:  800-784-0360",null,null,null,"Released ","2015-09-17T10:41:43.940"]

{"sheet":"Madison (095)","index":51,"n_rows":75,"n_cols":6,"rows_kept":75,"cut":false,"hidden":false,"merged":[[27,2,27,5],[0,1,0,5],[1,1,1,5],[2,1,2,5]]}
[null,"UI COVERED EMPLOYMENT"]
[null,"Madison County"]
[null,"2014 Annual Averages"]
[]
[]
[]
["NAICS Sectors/Ownership",null,"Number of Reporting Units","Average Number of Workers","Total Annual Wages","Average Annual Wages"]
["Private Ownership Only",null,"not rounded","rounded to tens","rounded to hundreds","rounded to hundreds"]
[null,"AGRICULTURE, FORESTRY, FISHING AND HUNTI",21,170,5607500,33000]
[null,"MINING, QUARRYING, AND OIL AND GAS EXTRA","Confidential","Confidential","Confidential","Confidential"]
[null,"UTILITIES","Confidential","Confidential","Confidential","Confidential"]
[null,"CONSTRUCTION",212,1460,66619900,45600]
[null,"MANUFACTURING",99,3940,210098300,53300]
[null,"WHOLESALE TRADE",108,1320,63807000,48300]
[null,"RETAIL TRADE",333,4860,107622400,22100]
[null,"TRANSPORTATION AND WAREHOUSING",69,1660,66817200,40300]
[null,"INFORMATION",29,440,19338500,44000]
[null,"FINANCE AND INSURANCE",147,910,47226200,51900]
[null,"REAL ESTATE AND RENTAL AND LEASING",79,440,12320400,28000]
[null,"PROFESSIONAL AND TECHNICAL SERVICES",188,750,30368600,40500]
[null,"MANAGEMENT OF COMPANIES AND ENTERPRISES",12,310,29334000,94600]
[null,"ADMINISTRATIVE AND WASTE SERVICES",104,2080,49554200,23800]
[null,"EDUCATIONAL SERVICES",27,860,28874500,33600]
[null,"HEALTH CARE AND SOCIAL ASSISTANCE",207,6170,245395000,39800]
[null,"ARTS, ENTERTAINMENT, AND RECREATION",37,1200,31486000,26200]
[null,"ACCOMMODATION AND FOOD SERVICES",213,4060,52395300,12900]
[null,"OTHER SERVICES, EXCEPT PUBLIC ADMIN",217,1140,26197800,23000]
[null,"UNCLASSIFIED","Data included in Total UI Covered"]
[]
["Local Government"]
[null,"LOCAL GOVERNMENT",56,4510,157606200,34900]
[null,"EDUCATIONAL SERVICES",27,2400,81199300,33800]
[null,"HEALTH CARE AND SOCIAL ASSISTANCE",1,30,971900,32400]
[]
["State Government"]
[null,"STATE GOVERNMENT",25,1340,51320100,38300]
[null,"EDUCATIONAL SERVICES",0,"0",0,0]
[null,"HEALTH CARE AND SOCIAL ASSISTANCE",0,"0",0,0]
[]
["Total UI Covered"]
[null,"TOTAL UI COVERED",2183,37680,1306100400,34700]
[]
["Federal Government"]
[null,"FEDERAL GOVERNMENT",16,240,13620200,56800]
[]
[]
["*Less than 5 employees unrounded"]
[]
[]
[]
[]
[]
[]
[]
[]
[]
[]
[]
[]
[]
[]
[]
[]
[]
[]
[]
[]
[]
[]
[]
[]
[]
[]
[]
["Telephone:  800-784-0360",null,null,null,"Released ","2015-09-17T10:42:10.690"]

{"sheet":"Marion (097)","index":52,"n_rows":75,"n_cols":6,"rows_kept":75,"cut":false,"hidden":false,"merged":[[27,2,27,5],[0,1,0,5],[1,1,1,5],[2,1,2,5]]}
[null,"UI COVERED EMPLOYMENT"]
[null,"Marion County"]
[null,"2014 Annual Averages"]
[]
[]
[]
["NAICS Sectors/Ownership",null,"Number of Reporting Units","Average Number of Workers","Total Annual Wages","Average Annual Wages"]
["Private Ownership Only",null,"not rounded","rounded to tens","rounded to hundreds","rounded to hundreds"]
[null,"AGRICULTURE, FORESTRY, FISHING AND HUNTI",20,520,23311100,44800]
[null,"MINING, QUARRYING, AND OIL AND GAS EXTRA",6,150,8472500,56500]
[null,"UTILITIES",18,1350,112821400,83600]
[null,"CONSTRUCTION",1688,24030,1393237900,58000]
[null,"MANUFACTURING",930,54910,4826338100,87900]
[null,"WHOLESALE TRADE",1948,26180,1627347200,62200]
[null,"RETAIL TRADE",2870,51080,1451163800,28400]
[null,"TRANSPORTATION AND WAREHOUSING",728,37560,1557894900,41500]
[null,"INFORMATION",419,11480,796540100,69400]
[null,"FINANCE AND INSURANCE",1556,25510,1907782600,74800]
[null,"REAL ESTATE AND RENTAL AND LEASING",1124,9660,460506600,47700]
[null,"PROFESSIONAL AND TECHNICAL SERVICES",3166,33610,2482720000,73900]
[null,"MANAGEMENT OF COMPANIES AND ENTERPRISES",215,7880,710905800,90200]
[null,"ADMINISTRATIVE AND WASTE SERVICES",1456,52050,1495264600,28700]
[null,"EDUCATIONAL SERVICES",321,10770,421656600,39200]
[null,"HEALTH CARE AND SOCIAL ASSISTANCE",1907,81520,4443579500,54500]
[null,"ARTS, ENTERTAINMENT, AND RECREATION",300,7800,471636000,60500]
[null,"ACCOMMODATION AND FOOD SERVICES",2129,48300,829761700,17200]
[null,"OTHER SERVICES, EXCEPT PUBLIC ADMIN",2093,18570,702794400,37800]
[null,"UNCLASSIFIED","Data included in Total UI Covered"]
[]
["Local Government"]
[null,"LOCAL GOVERNMENT",151,35200,1630496000,46300]
[null,"EDUCATIONAL SERVICES",91,17280,749998600,43400]
[null,"HEALTH CARE AND SOCIAL ASSISTANCE",2,4300,208419600,48500]
[]
["State Government"]
[null,"STATE GOVERNMENT",109,23850,1101991300,46200]
[null,"EDUCATIONAL SERVICES",6,12020,543570200,45200]
[null,"HEALTH CARE AND SOCIAL ASSISTANCE",2,330,13685600,41500]
[]
["Total UI Covered"]
[null,"TOTAL UI COVERED",23152,561980,28456234600,50600]
[]
["Federal Government"]
[null,"FEDERAL GOVERNMENT",96,14490,1060703700,73200]
[]
[]
["*Less than 5 employees unrounded"]
[]
[]
[]
[]
[]
[]
[]
[]
[]
[]
[]
[]
[]
[]
[]
[]
[]
[]
[]
[]
[]
[]
[]
[]
[]
[]
[]
["Telephone:  800-784-0360",null,null,null,"Released ","2015-09-17T10:42:52.170"]

{"sheet":"Marshall (099)","index":53,"n_rows":75,"n_cols":6,"rows_kept":75,"cut":false,"hidden":false,"merged":[[27,2,27,5],[0,1,0,5],[1,1,1,5],[2,1,2,5]]}
[null,"UI COVERED EMPLOYMENT"]
[null,"Marshall County"]
[null,"2014 Annual Averages"]
[]
[]
[]
["NAICS Sectors/Ownership",null,"Number of Reporting Units","Average Number of Workers","Total Annual Wages","Average Annual Wages"]
["Private Ownership Only",null,"not rounded","rounded to tens","rounded to hundreds","rounded to hundreds"]
[null,"AGRICULTURE, FORESTRY, FISHING AND HUNTI",18,320,11888200,37200]
[null,"MINING, QUARRYING, AND OIL AND GAS EXTRA","Confidential","Confidential","Confidential","Confidential"]
[null,"UTILITIES","Confidential","Confidential","Confidential","Confidential"]
[null,"CONSTRUCTION",95,460,18303000,39800]
[null,"MANUFACTURING",126,6690,281924000,42100]
[null,"WHOLESALE TRADE",69,490,24050200,49100]
[null,"RETAIL TRADE",161,2030,49285600,24300]
[null,"TRANSPORTATION AND WAREHOUSING",38,350,15494100,44300]
[null,"INFORMATION",11,100,3459200,34600]
[null,"FINANCE AND INSURANCE",60,540,30468800,56400]
[null,"REAL ESTATE AND RENTAL AND LEASING",22,80,1835200,22900]
[null,"PROFESSIONAL AND TECHNICAL SERVICES",62,310,11601600,37400]
[null,"MANAGEMENT OF COMPANIES AND ENTERPRISES","Confidential","Confidential","Confidential","Confidential"]
[null,"ADMINISTRATIVE AND WASTE SERVICES",39,890,22474500,25300]
[null,"EDUCATIONAL SERVICES","Confidential","Confidential","Confidential","Confidential"]
[null,"HEALTH CARE AND SOCIAL ASSISTANCE",70,1640,53185800,32400]
[null,"ARTS, ENTERTAINMENT, AND RECREATION",11,150,1704300,11400]
[null,"ACCOMMODATION AND FOOD SERVICES",81,1490,20168200,13500]
[null,"OTHER SERVICES, EXCEPT PUBLIC ADMIN",94,640,18874100,29500]
[null,"UNCLASSIFIED","Data included in Total UI Covered"]
[]
["Local Government"]
[null,"LOCAL GOVERNMENT",34,1910,61144100,32000]
[null,"EDUCATIONAL SERVICES",12,1220,41348900,33900]
[null,"HEALTH CARE AND SOCIAL ASSISTANCE",0,"0",0,0]
[]
["State Government"]
[null,"STATE GOVERNMENT",16,100,4420400,44200]
[null,"EDUCATIONAL SERVICES",0,"0",0,0]
[null,"HEALTH CARE AND SOCIAL ASSISTANCE",0,"0",0,0]
[]
["Total UI Covered"]
[null,"TOTAL UI COVERED",1020,19120,667761400,34900]
[]
["Federal Government"]
[null,"FEDERAL GOVERNMENT",11,90,4302300,47800]
[]
[]
["*Less than 5 employees unrounded"]
[]
[]
[]
[]
[]
[]
[]
[]
[]
[]
[]
[]
[]
[]
[]
[]
[]
[]
[]
[]
[]
[]
[]
[]
[]
[]
[]
["Telephone:  800-784-0360",null,null,null,"Released ","2015-09-17T10:43:40.870"]

{"sheet":"Martin (101)","index":54,"n_rows":75,"n_cols":6,"rows_kept":75,"cut":false,"hidden":false,"merged":[[27,2,27,5],[0,1,0,5],[1,1,1,5],[2,1,2,5]]}
[null,"UI COVERED EMPLOYMENT"]
[null,"Martin County"]
[null,"2014 Annual Averages"]
[]
[]
[]
["NAICS Sectors/Ownership",null,"Number of Reporting Units","Average Number of Workers","Total Annual Wages","Average Annual Wages"]
["Private Ownership Only",null,"not rounded","rounded to tens","rounded to hundreds","rounded to hundreds"]
[null,"AGRICULTURE, FORESTRY, FISHING AND HUNTI","Confidential","Confidential","Confidential","Confidential"]
[null,"MINING, QUARRYING, AND OIL AND GAS EXTRA",0,"0",0,0]
[null,"UTILITIES",3,10,730000,73000]
[null,"CONSTRUCTION",19,80,3162800,39500]
[null,"MANUFACTURING",11,380,18879500,49700]
[null,"WHOLESALE TRADE",11,120,5340100,44500]
[null,"RETAIL TRADE",30,310,6074700,19600]
[null,"TRANSPORTATION AND WAREHOUSING",11,110,3850700,35000]
[null,"INFORMATION",4,40,971100,24300]
[null,"FINANCE AND INSURANCE",9,50,1676700,33500]
[null,"REAL ESTATE AND RENTAL AND LEASING",4,20,472900,23600]
[null,"PROFESSIONAL AND TECHNICAL SERVICES",24,890,55578400,62400]
[null,"MANAGEMENT OF COMPANIES AND ENTERPRISES",0,"0",0,0]
[null,"ADMINISTRATIVE AND WASTE SERVICES",8,20,459900,23000]
[null,"EDUCATIONAL SERVICES",0,"0",0,0]
[null,"HEALTH CARE AND SOCIAL ASSISTANCE",11,120,2802500,23400]
[null,"ARTS, ENTERTAINMENT, AND RECREATION","Confidential","Confidential","Confidential","Confidential"]
[null,"ACCOMMODATION AND FOOD SERVICES",21,290,2878600,9900]
[null,"OTHER SERVICES, EXCEPT PUBLIC ADMIN",22,60,1143400,19100]
[null,"UNCLASSIFIED","Data included in Total UI Covered"]
[]
["Local Government"]
[null,"LOCAL GOVERNMENT",14,390,10859400,27800]
[null,"EDUCATIONAL SERVICES",3,220,7391100,33600]
[null,"HEALTH CARE AND SOCIAL ASSISTANCE",0,"0",0,0]
[]
["State Government"]
[null,"STATE GOVERNMENT",8,20,980400,49000]
[null,"EDUCATIONAL SERVICES",0,"0",0,0]
[null,"HEALTH CARE AND SOCIAL ASSISTANCE",0,"0",0,0]
[]
["Total UI Covered"]
[null,"TOTAL UI COVERED",212,2920,116094900,39800]
[]
["Federal Government"]
[null,"FEDERAL GOVERNMENT",6,4000,336261400,84100]
[]
[]
["*Less than 5 employees unrounded"]
[]
[]
[]
[]
[]
[]
[]
[]
[]
[]
[]
[]
[]
[]
[]
[]
[]
[]
[]
[]
[]
[]
[]
[]
[]
[]
[]
["Telephone:  800-784-0360",null,null,null,"Released ","2015-09-17T12:44:17.020"]

{"sheet":"Miami (103)","index":55,"n_rows":75,"n_cols":6,"rows_kept":75,"cut":false,"hidden":false,"merged":[[27,2,27,5],[0,1,0,5],[1,1,1,5],[2,1,2,5]]}
[null,"UI COVERED EMPLOYMENT"]
[null,"Miami County"]
[null,"2014 Annual Averages"]
[]
[]
[]
["NAICS Sectors/Ownership",null,"Number of Reporting Units","Average Number of Workers","Total Annual Wages","Average Annual Wages"]
["Private Ownership Only",null,"not rounded","rounded to tens","rounded to hundreds","rounded to hundreds"]
[null,"AGRICULTURE, FORESTRY, FISHING AND HUNTI",23,180,4262400,23700]
[null,"MINING, QUARRYING, AND OIL AND GAS EXTRA",3,40,2085300,52100]
[null,"UTILITIES","Confidential","Confidential","Confidential","Confidential"]
[null,"CONSTRUCTION",57,310,13232900,42700]
[null,"MANUFACTURING",39,1820,76201500,41900]
[null,"WHOLESALE TRADE",35,240,9947000,41400]
[null,"RETAIL TRADE",88,870,18903200,21700]
[null,"TRANSPORTATION AND WAREHOUSING",22,300,9512900,31700]
[null,"INFORMATION",7,100,2137200,21400]
[null,"FINANCE AND INSURANCE",40,260,11410500,43900]
[null,"REAL ESTATE AND RENTAL AND LEASING",18,70,1420600,20300]
[null,"PROFESSIONAL AND TECHNICAL SERVICES",28,90,3016500,33500]
[null,"MANAGEMENT OF COMPANIES AND ENTERPRISES",0,"0",0,0]
[null,"ADMINISTRATIVE AND WASTE SERVICES",20,160,6358300,39700]
[null,"EDUCATIONAL SERVICES","Confidential","Confidential","Confidential","Confidential"]
[null,"HEALTH CARE AND SOCIAL ASSISTANCE",33,980,31314700,32000]
[null,"ARTS, ENTERTAINMENT, AND RECREATION",6,40,487800,12200]
[null,"ACCOMMODATION AND FOOD SERVICES",57,850,9305500,10900]
[null,"OTHER SERVICES, EXCEPT PUBLIC ADMIN",47,300,6585000,22000]
[null,"UNCLASSIFIED","Data included in Total UI Covered"]
[]
["Local Government"]
[null,"LOCAL GOVERNMENT",29,1340,41483300,31000]
[null,"EDUCATIONAL SERVICES",13,800,26125900,32700]
[null,"HEALTH CARE AND SOCIAL ASSISTANCE",0,"0",0,0]
[]
["State Government"]
[null,"STATE GOVERNMENT",14,610,22095200,36200]
[null,"EDUCATIONAL SERVICES",0,"0",0,0]
[null,"HEALTH CARE AND SOCIAL ASSISTANCE",0,"0",0,0]
[]
["Total UI Covered"]
[null,"TOTAL UI COVERED",568,8630,274673800,31800]
[]
["Federal Government"]
[null,"FEDERAL GOVERNMENT",18,640,39962000,62400]
[]
[]
["*Less than 5 employees unrounded"]
[]
[]
[]
[]
[]
[]
[]
[]
[]
[]
[]
[]
[]
[]
[]
[]
[]
[]
[]
[]
[]
[]
[]
[]
[]
[]
[]
["Telephone:  800-784-0360",null,null,null,"Released ","2015-09-17T12:44:40.530"]

{"sheet":"Monroe (105)","index":56,"n_rows":75,"n_cols":6,"rows_kept":75,"cut":false,"hidden":false,"merged":[[27,2,27,5],[0,1,0,5],[1,1,1,5],[2,1,2,5]]}
[null,"UI COVERED EMPLOYMENT"]
[null,"Monroe County"]
[null,"2014 Annual Averages"]
[]
[]
[]
["NAICS Sectors/Ownership",null,"Number of Reporting Units","Average Number of Workers","Total Annual Wages","Average Annual Wages"]
["Private Ownership Only",null,"not rounded","rounded to tens","rounded to hundreds","rounded to hundreds"]
[null,"AGRICULTURE, FORESTRY, FISHING AND HUNTI",12,80,1853200,23200]
[null,"MINING, QUARRYING, AND OIL AND GAS EXTRA",10,160,7518400,47000]
[null,"UTILITIES",13,370,33565800,90700]
[null,"CONSTRUCTION",249,2050,97603600,47600]
[null,"MANUFACTURING",103,6810,321364200,47200]
[null,"WHOLESALE TRADE",128,1400,69930200,50000]
[null,"RETAIL TRADE",425,7020,150467300,21400]
[null,"TRANSPORTATION AND WAREHOUSING",48,960,30298100,31600]
[null,"INFORMATION",58,1100,47834100,43500]
[null,"FINANCE AND INSURANCE",157,1380,63590000,46100]
[null,"REAL ESTATE AND RENTAL AND LEASING",173,1110,34617100,31200]
[null,"PROFESSIONAL AND TECHNICAL SERVICES",285,1710,96457000,56400]
[null,"MANAGEMENT OF COMPANIES AND ENTERPRISES",23,360,40897000,113600]
[null,"ADMINISTRATIVE AND WASTE SERVICES",157,2010,57498100,28600]
[null,"EDUCATIONAL SERVICES",50,500,12235500,24500]
[null,"HEALTH CARE AND SOCIAL ASSISTANCE",297,8680,357738800,41200]
[null,"ARTS, ENTERTAINMENT, AND RECREATION",46,400,7835100,19600]
[null,"ACCOMMODATION AND FOOD SERVICES",322,7450,102789100,13800]
[null,"OTHER SERVICES, EXCEPT PUBLIC ADMIN",242,1980,53182400,26900]
[null,"UNCLASSIFIED","Data included in Total UI Covered"]
[]
["Local Government"]
[null,"LOCAL GOVERNMENT",55,4320,147630800,34200]
[null,"EDUCATIONAL SERVICES",30,2100,70202600,33400]
[null,"HEALTH CARE AND SOCIAL ASSISTANCE",0,"0",0,0]
[]
["State Government"]
[null,"STATE GOVERNMENT",26,11390,605246600,53100]
[null,"EDUCATIONAL SERVICES",2,11090,594174700,53600]
[null,"HEALTH CARE AND SOCIAL ASSISTANCE",0,"0",0,0]
[]
["Total UI Covered"]
[null,"TOTAL UI COVERED",2876,61230,2340199100,38200]
[]
["Federal Government"]
[null,"FEDERAL GOVERNMENT",22,280,17817500,63600]
[]
[]
["*Less than 5 employees unrounded"]
[]
[]
[]
[]
[]
[]
[]
[]
[]
[]
[]
[]
[]
[]
[]
[]
[]
[]
[]
[]
[]
[]
[]
[]
[]
[]
[]
["Telephone:  800-784-0360",null,null,null,"Released ","2015-09-17T12:45:02.220"]

{"sheet":"Montgomery (107)","index":57,"n_rows":75,"n_cols":6,"rows_kept":75,"cut":false,"hidden":false,"merged":[[27,2,27,5],[0,1,0,5],[1,1,1,5],[2,1,2,5]]}
[null,"UI COVERED EMPLOYMENT"]
[null,"Montgomery County"]
[null,"2014 Annual Averages"]
[]
[]
[]
["NAICS Sectors/Ownership",null,"Number of Reporting Units","Average Number of Workers","Total Annual Wages","Average Annual Wages"]
["Private Ownership Only",null,"not rounded","rounded to tens","rounded to hundreds","rounded to hundreds"]
[null,"AGRICULTURE, FORESTRY, FISHING AND HUNTI",22,150,4881100,32500]
[null,"MINING, QUARRYING, AND OIL AND GAS EXTRA","Confidential","Confidential","Confidential","Confidential"]
[null,"UTILITIES","Confidential","Confidential","Confidential","Confidential"]
[null,"CONSTRUCTION",81,380,15420400,40600]
[null,"MANUFACTURING",56,4950,274616200,55500]
[null,"WHOLESALE TRADE",46,420,23858400,56800]
[null,"RETAIL TRADE",121,1580,34933700,22100]
[null,"TRANSPORTATION AND WAREHOUSING",47,690,22455600,32500]
[null,"INFORMATION",11,120,5376800,44800]
[null,"FINANCE AND INSURANCE",53,270,11936200,44200]
[null,"REAL ESTATE AND RENTAL AND LEASING",28,80,2363400,29500]
[null,"PROFESSIONAL AND TECHNICAL SERVICES",50,210,7677600,36600]
[null,"MANAGEMENT OF COMPANIES AND ENTERPRISES","Confidential","Confidential","Confidential","Confidential"]
[null,"ADMINISTRATIVE AND WASTE SERVICES",42,820,17940900,21900]
[null,"EDUCATIONAL SERVICES","Confidential","Confidential","Confidential","Confidential"]
[null,"HEALTH CARE AND SOCIAL ASSISTANCE",72,1370,55152700,40300]
[null,"ARTS, ENTERTAINMENT, AND RECREATION",10,120,1269900,10600]
[null,"ACCOMMODATION AND FOOD SERVICES",79,1260,17972400,14300]
[null,"OTHER SERVICES, EXCEPT PUBLIC ADMIN",80,310,6457500,20800]
[null,"UNCLASSIFIED","Data included in Total UI Covered"]
[]
["Local Government"]
[null,"LOCAL GOVERNMENT",39,1590,50440600,31700]
[null,"EDUCATIONAL SERVICES",17,1020,32056900,31400]
[null,"HEALTH CARE AND SOCIAL ASSISTANCE",1,"*",51200,"*"]
[]
["State Government"]
[null,"STATE GOVERNMENT",15,220,9935100,45200]
[null,"EDUCATIONAL SERVICES",0,"0",0,0]
[null,"HEALTH CARE AND SOCIAL ASSISTANCE",0,"0",0,0]
[]
["Total UI Covered"]
[null,"TOTAL UI COVERED",863,14950,584546100,39100]
[]
["Federal Government"]
[null,"FEDERAL GOVERNMENT",14,80,4008000,50100]
[]
[]
["*Less than 5 employees unrounded"]
[]
[]
[]
[]
[]
[]
[]
[]
[]
[]
[]
[]
[]
[]
[]
[]
[]
[]
[]
[]
[]
[]
[]
[]
[]
[]
[]
["Telephone:  800-784-0360",null,null,null,"Released ","2015-09-17T12:45:26.580"]

{"sheet":"Morgan (109)","index":58,"n_rows":75,"n_cols":6,"rows_kept":75,"cut":false,"hidden":false,"merged":[[27,2,27,5],[0,1,0,5],[1,1,1,5],[2,1,2,5]]}
[null,"UI COVERED EMPLOYMENT"]
[null,"Morgan County"]
[null,"2014 Annual Averages"]
[]
[]
[]
["NAICS Sectors/Ownership",null,"Number of Reporting Units","Average Number of Workers","Total Annual Wages","Average Annual Wages"]
["Private Ownership Only",null,"not rounded","rounded to tens","rounded to hundreds","rounded to hundreds"]
[null,"AGRICULTURE, FORESTRY, FISHING AND HUNTI",16,70,2180800,31200]
[null,"MINING, QUARRYING, AND OIL AND GAS EXTRA",8,50,2330100,46600]
[null,"UTILITIES",10,190,14874000,78300]
[null,"CONSTRUCTION",176,920,37974100,41300]
[null,"MANUFACTURING",65,2360,109969700,46600]
[null,"WHOLESALE TRADE",57,370,21826400,59000]
[null,"RETAIL TRADE",168,2290,53603600,23400]
[null,"TRANSPORTATION AND WAREHOUSING",37,140,4957100,35400]
[null,"INFORMATION",9,90,3444600,38300]
[null,"FINANCE AND INSURANCE",74,380,17745600,46700]
[null,"REAL ESTATE AND RENTAL AND LEASING",47,140,4772500,34100]
[null,"PROFESSIONAL AND TECHNICAL SERVICES",107,400,16841300,42100]
[null,"MANAGEMENT OF COMPANIES AND ENTERPRISES","Confidential","Confidential","Confidential","Confidential"]
[null,"ADMINISTRATIVE AND WASTE SERVICES",71,590,20919400,35500]
[null,"EDUCATIONAL SERVICES",8,40,509300,12700]
[null,"HEALTH CARE AND SOCIAL ASSISTANCE",88,1820,62937500,34600]
[null,"ARTS, ENTERTAINMENT, AND RECREATION",13,110,1427600,13000]
[null,"ACCOMMODATION AND FOOD SERVICES",80,1640,22111600,13500]
[null,"OTHER SERVICES, EXCEPT PUBLIC ADMIN",107,500,14372500,28700]
[null,"UNCLASSIFIED","Data included in Total UI Covered"]
[]
["Local Government"]
[null,"LOCAL GOVERNMENT",49,2410,77228400,32000]
[null,"EDUCATIONAL SERVICES",31,1440,51808800,36000]
[null,"HEALTH CARE AND SOCIAL ASSISTANCE",0,"0",0,0]
[]
["State Government"]
[null,"STATE GOVERNMENT",13,90,3646500,40500]
[null,"EDUCATIONAL SERVICES",0,"0",0,0]
[null,"HEALTH CARE AND SOCIAL ASSISTANCE",0,"0",0,0]
[]
["Total UI Covered"]
[null,"TOTAL UI COVERED",1202,14610,493709800,33800]
[]
["Federal Government"]
[null,"FEDERAL GOVERNMENT",7,90,4724300,52500]
[]
[]
["*Less than 5 employees unrounded"]
[]
[]
[]
[]
[]
[]
[]
[]
[]
[]
[]
[]
[]
[]
[]
[]
[]
[]
[]
[]
[]
[]
[]
[]
[]
[]
[]
["Telephone:  800-784-0360",null,null,null,"Released ","2015-09-17T12:45:49.920"]

{"sheet":"Newton (111)","index":59,"n_rows":75,"n_cols":6,"rows_kept":75,"cut":false,"hidden":false,"merged":[[27,2,27,5],[0,1,0,5],[1,1,1,5],[2,1,2,5]]}
[null,"UI COVERED EMPLOYMENT"]
[null,"Newton County"]
[null,"2014 Annual Averages"]
[]
[]
[]
["NAICS Sectors/Ownership",null,"Number of Reporting Units","Average Number of Workers","Total Annual Wages","Average Annual Wages"]
["Private Ownership Only",null,"not rounded","rounded to tens","rounded to hundreds","rounded to hundreds"]
[null,"AGRICULTURE, FORESTRY, FISHING AND HUNTI",17,390,15659700,40200]
[null,"MINING, QUARRYING, AND OIL AND GAS EXTRA","Confidential","Confidential","Confidential","Confidential"]
[null,"UTILITIES","Confidential","Confidential","Confidential","Confidential"]
[null,"CONSTRUCTION",35,130,4056200,31200]
[null,"MANUFACTURING",22,610,23981700,39300]
[null,"WHOLESALE TRADE",20,180,10146300,56400]
[null,"RETAIL TRADE",35,230,5204100,22600]
[null,"TRANSPORTATION AND WAREHOUSING",21,220,8639700,39300]
[null,"INFORMATION","Confidential","Confidential","Confidential","Confidential"]
[null,"FINANCE AND INSURANCE",11,120,4337700,36100]
[null,"REAL ESTATE AND RENTAL AND LEASING",5,10,272600,27300]
[null,"PROFESSIONAL AND TECHNICAL SERVICES",16,50,1653600,33100]
[null,"MANAGEMENT OF COMPANIES AND ENTERPRISES",0,"0",0,0]
[null,"ADMINISTRATIVE AND WASTE SERVICES",5,170,7052300,41500]
[null,"EDUCATIONAL SERVICES",0,"0",0,0]
[null,"HEALTH CARE AND SOCIAL ASSISTANCE",9,240,7474500,31100]
[null,"ARTS, ENTERTAINMENT, AND RECREATION","Confidential","Confidential","Confidential","Confidential"]
[null,"ACCOMMODATION AND FOOD SERVICES",22,250,3406100,13600]
[null,"OTHER SERVICES, EXCEPT PUBLIC ADMIN",19,40,777600,19400]
[null,"UNCLASSIFIED","Data included in Total UI Covered"]
[]
["Local Government"]
[null,"LOCAL GOVERNMENT",15,670,18849200,28100]
[null,"EDUCATIONAL SERVICES",2,390,11762700,30200]
[null,"HEALTH CARE AND SOCIAL ASSISTANCE",1,"*",189600,"*"]
[]
["State Government"]
[null,"STATE GOVERNMENT",6,40,1629100,40700]
[null,"EDUCATIONAL SERVICES",0,"0",0,0]
[null,"HEALTH CARE AND SOCIAL ASSISTANCE",0,"0",0,0]
[]
["Total UI Covered"]
[null,"TOTAL UI COVERED",264,3440,115149000,33500]
[]
["Federal Government"]
[null,"FEDERAL GOVERNMENT",9,30,1017100,33900]
[]
[]
["*Less than 5 employees unrounded"]
[]
[]
[]
[]
[]
[]
[]
[]
[]
[]
[]
[]
[]
[]
[]
[]
[]
[]
[]
[]
[]
[]
[]
[]
[]
[]
[]
["Telephone:  800-784-0360",null,null,null,"Released ","2015-09-17T12:46:15.410"]

{"sheet":"Noble (113)","index":60,"n_rows":75,"n_cols":6,"rows_kept":75,"cut":false,"hidden":false,"merged":[[27,2,27,5],[0,1,0,5],[1,1,1,5],[2,1,2,5]]}
[null,"UI COVERED EMPLOYMENT"]
[null,"Noble County"]
[null,"2014 Annual Averages"]
[]
[]
[]
["NAICS Sectors/Ownership",null,"Number of Reporting Units","Average Number of Workers","Total Annual Wages","Average Annual Wages"]
["Private Ownership Only",null,"not rounded","rounded to tens","rounded to hundreds","rounded to hundreds"]
[null,"AGRICULTURE, FORESTRY, FISHING AND HUNTI",21,170,5636700,33200]
[null,"MINING, QUARRYING, AND OIL AND GAS EXTRA","Confidential","Confidential","Confidential","Confidential"]
[null,"UTILITIES",4,50,3830900,76600]
[null,"CONSTRUCTION",81,460,18539900,40300]
[null,"MANUFACTURING",128,8910,393773500,44200]
[null,"WHOLESALE TRADE",50,380,18584700,48900]
[null,"RETAIL TRADE",121,1450,33275500,22900]
[null,"TRANSPORTATION AND WAREHOUSING",28,250,9327200,37300]
[null,"INFORMATION",11,240,8592000,35800]
[null,"FINANCE AND INSURANCE",46,260,9892600,38000]
[null,"REAL ESTATE AND RENTAL AND LEASING",30,90,2288200,25400]
[null,"PROFESSIONAL AND TECHNICAL SERVICES",51,180,5967500,33200]
[null,"MANAGEMENT OF COMPANIES AND ENTERPRISES","Confidential","Confidential","Confidential","Confidential"]
[null,"ADMINISTRATIVE AND WASTE SERVICES",37,900,23668200,26300]
[null,"EDUCATIONAL SERVICES",8,190,3954400,20800]
[null,"HEALTH CARE AND SOCIAL ASSISTANCE",45,1250,38265400,30600]
[null,"ARTS, ENTERTAINMENT, AND RECREATION",9,50,610900,12200]
[null,"ACCOMMODATION AND FOOD SERVICES",70,1090,11702700,10700]
[null,"OTHER SERVICES, EXCEPT PUBLIC ADMIN",68,440,7817500,17800]
[null,"UNCLASSIFIED","Data included in Total UI Covered"]
[]
["Local Government"]
[null,"LOCAL GOVERNMENT",23,1710,55503300,32500]
[null,"EDUCATIONAL SERVICES",7,1110,37885400,34100]
[null,"HEALTH CARE AND SOCIAL ASSISTANCE",0,"0",0,0]
[]
["State Government"]
[null,"STATE GOVERNMENT",16,130,4638700,35700]
[null,"EDUCATIONAL SERVICES",0,"0",0,0]
[null,"HEALTH CARE AND SOCIAL ASSISTANCE",0,"0",0,0]
[]
["Total UI Covered"]
[null,"TOTAL UI COVERED",849,18210,657737300,36100]
[]
["Federal Government"]
[null,"FEDERAL GOVERNMENT",12,80,3702100,46300]
[]
[]
["*Less than 5 employees unrounded"]
[]
[]
[]
[]
[]
[]
[]
[]
[]
[]
[]
[]
[]
[]
[]
[]
[]
[]
[]
[]
[]
[]
[]
[]
[]
[]
[]
["Telephone:  800-784-0360",null,null,null,"Released ","2015-09-17T12:46:47.230"]

{"sheet":"Ohio (115)","index":61,"n_rows":75,"n_cols":6,"rows_kept":75,"cut":false,"hidden":false,"merged":[[27,2,27,5],[39,0,39,1],[0,1,0,5],[1,1,1,5],[2,1,2,5]]}
[null,"UI COVERED EMPLOYMENT"]
[null,"Ohio County"]
[null,"2014 Annual Averages"]
[]
[]
[]
["NAICS Sectors/Ownership",null,"Number of Reporting Units","Average Number of Workers","Total Annual Wages","Average Annual Wages"]
["Private Ownership Only",null,"not rounded","rounded to tens","rounded to hundreds","rounded to hundreds"]
[null,"AGRICULTURE, FORESTRY, FISHING AND HUNTI","Confidential","Confidential","Confidential","Confidential"]
[null,"MINING, QUARRYING, AND OIL AND GAS EXTRA",0,"0",0,0]
[null,"UTILITIES","Confidential","Confidential","Confidential","Confidential"]
[null,"CONSTRUCTION",13,30,1167900,38900]
[null,"MANUFACTURING",5,20,566500,28300]
[null,"WHOLESALE TRADE",4,10,429500,43000]
[null,"RETAIL TRADE",10,80,1146000,14300]
[null,"TRANSPORTATION AND WAREHOUSING",5,40,1396300,34900]
[null,"INFORMATION",0,"0",0,0]
[null,"FINANCE AND INSURANCE",4,10,418900,41900]
[null,"REAL ESTATE AND RENTAL AND LEASING","Confidential","Confidential","Confidential","Confidential"]
[null,"PROFESSIONAL AND TECHNICAL SERVICES",4,10,190600,19100]
[null,"MANAGEMENT OF COMPANIES AND ENTERPRISES",0,"0",0,0]
[null,"ADMINISTRATIVE AND WASTE SERVICES","Confidential","Confidential","Confidential","Confidential"]
[null,"EDUCATIONAL SERVICES",0,"0",0,0]
[null,"HEALTH CARE AND SOCIAL ASSISTANCE",6,80,1948800,24400]
[null,"ARTS, ENTERTAINMENT, AND RECREATION","Confidential","Confidential","Confidential","Confidential"]
[null,"ACCOMMODATION AND FOOD SERVICES",9,60,687100,11500]
[null,"OTHER SERVICES, EXCEPT PUBLIC ADMIN",4,10,292600,29300]
[null,"UNCLASSIFIED","Data included in Total UI Covered"]
[]
["Local Government"]
[null,"LOCAL GOVERNMENT",6,310,8272900,26700]
[null,"EDUCATIONAL SERVICES",1,150,4603800,30700]
[null,"HEALTH CARE AND SOCIAL ASSISTANCE",1,10,665600,66600]
[]
["State Government"]
[null,"STATE GOVERNMENT",7,30,1316100,43900]
[null,"EDUCATIONAL SERVICES",0,"0",0,0]
[null,"HEALTH CARE AND SOCIAL ASSISTANCE",0,"0",0,0]
[]
["Total UI Covered"]
[null,"TOTAL UI COVERED",88,1510,36768300,24300]
[]
["Federal Government"]
[null,"FEDERAL GOVERNMENT",2,10,571600,57200]
[]
[]
["*Less than 5 employees unrounded"]
[]
[]
[]
[]
[]
[]
[]
[]
[]
[]
[]
[]
[]
[]
[]
[]
[]
[]
[]
[]
[]
[]
[]
[]
[]
[]
[]
["Telephone:  800-784-0360",null,null,null,"Released ","2015-09-17T12:47:10.880"]

{"sheet":"Orange (117)","index":62,"n_rows":75,"n_cols":6,"rows_kept":75,"cut":false,"hidden":false,"merged":[[27,2,27,5],[0,1,0,5],[1,1,1,5],[2,1,2,5]]}
[null,"UI COVERED EMPLOYMENT"]
[null,"Orange County"]
[null,"2014 Annual Averages"]
[]
[]
[]
["NAICS Sectors/Ownership",null,"Number of Reporting Units","Average Number of Workers","Total Annual Wages","Average Annual Wages"]
["Private Ownership Only",null,"not rounded","rounded to tens","rounded to hundreds","rounded to hundreds"]
[null,"AGRICULTURE, FORESTRY, FISHING AND HUNTI",5,90,2980100,33100]
[null,"MINING, QUARRYING, AND OIL AND GAS EXTRA","Confidential","Confidential","Confidential","Confidential"]
[null,"UTILITIES","Confidential","Confidential","Confidential","Confidential"]
[null,"CONSTRUCTION",41,550,26440300,48100]
[null,"MANUFACTURING",24,1300,44373300,34100]
[null,"WHOLESALE TRADE",14,110,6681100,60700]
[null,"RETAIL TRADE",57,630,13951200,22100]
[null,"TRANSPORTATION AND WAREHOUSING",16,130,5563000,42800]
[null,"INFORMATION",7,40,1143800,28600]
[null,"FINANCE AND INSURANCE",19,80,2931600,36600]
[null,"REAL ESTATE AND RENTAL AND LEASING",9,20,429200,21500]
[null,"PROFESSIONAL AND TECHNICAL SERVICES",16,60,1977900,33000]
[null,"MANAGEMENT OF COMPANIES AND ENTERPRISES",5,70,3683300,52600]
[null,"ADMINISTRATIVE AND WASTE SERVICES",13,190,5849900,30800]
[null,"EDUCATIONAL SERVICES","Confidential","Confidential","Confidential","Confidential"]
[null,"HEALTH CARE AND SOCIAL ASSISTANCE",39,770,22166400,28800]
[null,"ARTS, ENTERTAINMENT, AND RECREATION",7,130,2048800,15800]
[null,"ACCOMMODATION AND FOOD SERVICES",35,1930,44770300,23200]
[null,"OTHER SERVICES, EXCEPT PUBLIC ADMIN",30,140,2800500,20000]
[null,"UNCLASSIFIED","Data included in Total UI Covered"]
[]
["Local Government"]
[null,"LOCAL GOVERNMENT",18,810,23975700,29600]
[null,"EDUCATIONAL SERVICES",8,570,17900400,31400]
[null,"HEALTH CARE AND SOCIAL ASSISTANCE",0,"0",0,0]
[]
["State Government"]
[null,"STATE GOVERNMENT",10,100,4061300,40600]
[null,"EDUCATIONAL SERVICES",0,"0",0,0]
[null,"HEALTH CARE AND SOCIAL ASSISTANCE",0,"0",0,0]
[]
["Total UI Covered"]
[null,"TOTAL UI COVERED",367,7270,221066400,30400]
[]
["Federal Government"]
[null,"FEDERAL GOVERNMENT",6,40,1836000,45900]
[]
[]
["*Less than 5 employees unrounded"]
[]
[]
[]
[]
[]
[]
[]
[]
[]
[]
[]
[]
[]
[]
[]
[]
[]
[]
[]
[]
[]
[]
[]
[]
[]
[]
[]
["Telephone:  800-784-0360",null,null,null,"Released ","2015-09-17T12:47:34.940"]

{"sheet":"Owen (119)","index":63,"n_rows":75,"n_cols":6,"rows_kept":75,"cut":false,"hidden":false,"merged":[[27,2,27,5],[0,1,0,5],[1,1,1,5],[2,1,2,5]]}
[null,"UI COVERED EMPLOYMENT"]
[null,"Owen County"]
[null,"2014 Annual Averages"]
[]
[]
[]
["NAICS Sectors/Ownership",null,"Number of Reporting Units","Average Number of Workers","Total Annual Wages","Average Annual Wages"]
["Private Ownership Only",null,"not rounded","rounded to tens","rounded to hundreds","rounded to hundreds"]
[null,"AGRICULTURE, FORESTRY, FISHING AND HUNTI",5,20,364100,18200]
[null,"MINING, QUARRYING, AND OIL AND GAS EXTRA",0,"0",0,0]
[null,"UTILITIES","Confidential","Confidential","Confidential","Confidential"]
[null,"CONSTRUCTION",35,140,4354700,31100]
[null,"MANUFACTURING",28,1710,87214800,51000]
[null,"WHOLESALE TRADE",18,50,1727900,34600]
[null,"RETAIL TRADE",37,420,8916300,21200]
[null,"TRANSPORTATION AND WAREHOUSING",15,70,1866800,26700]
[null,"INFORMATION","Confidential","Confidential","Confidential","Confidential"]
[null,"FINANCE AND INSURANCE",13,120,4661300,38800]
[null,"REAL ESTATE AND RENTAL AND LEASING",7,10,119700,12000]
[null,"PROFESSIONAL AND TECHNICAL SERVICES",18,70,1829200,26100]
[null,"MANAGEMENT OF COMPANIES AND ENTERPRISES",0,"0",0,0]
[null,"ADMINISTRATIVE AND WASTE SERVICES",10,150,3082700,20600]
[null,"EDUCATIONAL SERVICES","Confidential","Confidential","Confidential","Confidential"]
[null,"HEALTH CARE AND SOCIAL ASSISTANCE",16,350,16997400,48600]
[null,"ARTS, ENTERTAINMENT, AND RECREATION",3,10,187500,18800]
[null,"ACCOMMODATION AND FOOD SERVICES",22,390,4206500,10800]
[null,"OTHER SERVICES, EXCEPT PUBLIC ADMIN",21,90,1492800,16600]
[null,"UNCLASSIFIED","Data included in Total UI Covered"]
[]
["Local Government"]
[null,"LOCAL GOVERNMENT",14,610,18736200,30700]
[null,"EDUCATIONAL SERVICES",7,390,12634900,32400]
[null,"HEALTH CARE AND SOCIAL ASSISTANCE",0,"0",0,0]
[]
["State Government"]
[null,"STATE GOVERNMENT",8,140,3221400,23000]
[null,"EDUCATIONAL SERVICES",0,"0",0,0]
[null,"HEALTH CARE AND SOCIAL ASSISTANCE",0,"0",0,0]
[]
["Total UI Covered"]
[null,"TOTAL UI COVERED",278,4470,163359300,36500]
[]
["Federal Government"]
[null,"FEDERAL GOVERNMENT",6,30,1385500,46200]
[]
[]
["*Less than 5 employees unrounded"]
[]
[]
[]
[]
[]
[]
[]
[]
[]
[]
[]
[]
[]
[]
[]
[]
[]
[]
[]
[]
[]
[]
[]
[]
[]
[]
[]
["Telephone:  800-784-0360",null,null,null,"Released ","2015-09-17T12:48:00.900"]

{"sheet":"Parke (121)","index":64,"n_rows":75,"n_cols":6,"rows_kept":75,"cut":false,"hidden":false,"merged":[[27,2,27,5],[0,1,0,5],[1,1,1,5],[2,1,2,5]]}
[null,"UI COVERED EMPLOYMENT"]
[null,"Parke County"]
[null,"2014 Annual Averages"]
[]
[]
[]
["NAICS Sectors/Ownership",null,"Number of Reporting Units","Average Number of Workers","Total Annual Wages","Average Annual Wages"]
["Private Ownership Only",null,"not rounded","rounded to tens","rounded to hundreds","rounded to hundreds"]
[null,"AGRICULTURE, FORESTRY, FISHING AND HUNTI",16,60,1965500,32800]
[null,"MINING, QUARRYING, AND OIL AND GAS EXTRA","Confidential","Confidential","Confidential","Confidential"]
[null,"UTILITIES","Confidential","Confidential","Confidential","Confidential"]
[null,"CONSTRUCTION",18,80,2716100,34000]
[null,"MANUFACTURING",15,460,17437300,37900]
[null,"WHOLESALE TRADE",12,100,2935600,29400]
[null,"RETAIL TRADE",38,340,6541100,19200]
[null,"TRANSPORTATION AND WAREHOUSING",16,70,2083400,29800]
[null,"INFORMATION",5,30,1283500,42800]
[null,"FINANCE AND INSURANCE",16,80,2995500,37400]
[null,"REAL ESTATE AND RENTAL AND LEASING",9,50,1786000,35700]
[null,"PROFESSIONAL AND TECHNICAL SERVICES",10,60,1420800,23700]
[null,"MANAGEMENT OF COMPANIES AND ENTERPRISES","Confidential","Confidential","Confidential","Confidential"]
[null,"ADMINISTRATIVE AND WASTE SERVICES",19,90,2171700,24100]
[null,"EDUCATIONAL SERVICES","Confidential","Confidential","Confidential","Confidential"]
[null,"HEALTH CARE AND SOCIAL ASSISTANCE",19,170,4221100,24800]
[null,"ARTS, ENTERTAINMENT, AND RECREATION",4,20,204200,10200]
[null,"ACCOMMODATION AND FOOD SERVICES",26,250,2833600,11300]
[null,"OTHER SERVICES, EXCEPT PUBLIC ADMIN",27,80,1765300,22100]
[null,"UNCLASSIFIED","Data included in Total UI Covered"]
[]
["Local Government"]
[null,"LOCAL GOVERNMENT",22,630,16843400,26700]
[null,"EDUCATIONAL SERVICES",9,390,11666200,29900]
[null,"HEALTH CARE AND SOCIAL ASSISTANCE",0,"0",0,0]
[]
["State Government"]
[null,"STATE GOVERNMENT",12,410,12448600,30400]
[null,"EDUCATIONAL SERVICES",0,"0",0,0]
[null,"HEALTH CARE AND SOCIAL ASSISTANCE",0,"0",0,0]
[]
["Total UI Covered"]
[null,"TOTAL UI COVERED",290,3040,85805900,28200]
[]
["Federal Government"]
[null,"FEDERAL GOVERNMENT",10,50,2005500,40100]
[]
[]
["*Less than 5 employees unrounded"]
[]
[]
[]
[]
[]
[]
[]
[]
[]
[]
[]
[]
[]
[]
[]
[]
[]
[]
[]
[]
[]
[]
[]
[]
[]
[]
[]
["Telephone:  800-784-0360",null,null,null,"Released ","2015-09-17T12:48:23.600"]

{"sheet":"Perry (123)","index":65,"n_rows":75,"n_cols":6,"rows_kept":75,"cut":false,"hidden":false,"merged":[[27,2,27,5],[0,1,0,5],[1,1,1,5],[2,1,2,5]]}
[null,"UI COVERED EMPLOYMENT"]
[null,"Perry County"]
[null,"2014 Annual Averages"]
[]
[]
[]
["NAICS Sectors/Ownership",null,"Number of Reporting Units","Average Number of Workers","Total Annual Wages","Average Annual Wages"]
["Private Ownership Only",null,"not rounded","rounded to tens","rounded to hundreds","rounded to hundreds"]
[null,"AGRICULTURE, FORESTRY, FISHING AND HUNTI",10,40,1263300,31600]
[null,"MINING, QUARRYING, AND OIL AND GAS EXTRA","Confidential","Confidential","Confidential","Confidential"]
[null,"UTILITIES",3,50,2603900,52100]
[null,"CONSTRUCTION",38,150,5691500,37900]
[null,"MANUFACTURING",24,2240,119725800,53400]
[null,"WHOLESALE TRADE",14,60,2496400,41600]
[null,"RETAIL TRADE",57,720,13846400,19200]
[null,"TRANSPORTATION AND WAREHOUSING",13,110,3492400,31700]
[null,"INFORMATION",6,50,1773900,35500]
[null,"FINANCE AND INSURANCE",24,110,5076100,46100]
[null,"REAL ESTATE AND RENTAL AND LEASING",12,80,2300500,28800]
[null,"PROFESSIONAL AND TECHNICAL SERVICES",27,80,2996000,37500]
[null,"MANAGEMENT OF COMPANIES AND ENTERPRISES","Confidential","Confidential","Confidential","Confidential"]
[null,"ADMINISTRATIVE AND WASTE SERVICES",10,50,1236900,24700]
[null,"EDUCATIONAL SERVICES","Confidential","Confidential","Confidential","Confidential"]
[null,"HEALTH CARE AND SOCIAL ASSISTANCE",30,400,10321000,25800]
[null,"ARTS, ENTERTAINMENT, AND RECREATION",3,20,207000,10400]
[null,"ACCOMMODATION AND FOOD SERVICES",42,620,7510500,12100]
[null,"OTHER SERVICES, EXCEPT PUBLIC ADMIN",28,90,2476200,27500]
[null,"UNCLASSIFIED","Data included in Total UI Covered"]
[]
["Local Government"]
[null,"LOCAL GOVERNMENT",16,1080,35792000,33100]
[null,"EDUCATIONAL SERVICES",3,480,14657100,30500]
[null,"HEALTH CARE AND SOCIAL ASSISTANCE",1,300,12938700,43100]
[]
["State Government"]
[null,"STATE GOVERNMENT",13,330,12688300,38400]
[null,"EDUCATIONAL SERVICES",0,"0",0,0]
[null,"HEALTH CARE AND SOCIAL ASSISTANCE",0,"0",0,0]
[]
["Total UI Covered"]
[null,"TOTAL UI COVERED",377,6380,238416800,37400]
[]
["Federal Government"]
[null,"FEDERAL GOVERNMENT",8,70,3736600,53400]
[]
[]
["*Less than 5 employees unrounded"]
[]
[]
[]
[]
[]
[]
[]
[]
[]
[]
[]
[]
[]
[]
[]
[]
[]
[]
[]
[]
[]
[]
[]
[]
[]
[]
[]
["Telephone:  800-784-0360",null,null,null,"Released ","2015-09-17T12:48:43.220"]

{"sheet":"Pike (125)","index":66,"n_rows":75,"n_cols":6,"rows_kept":75,"cut":false,"hidden":false,"merged":[[27,2,27,5],[0,1,0,5],[1,1,1,5],[2,1,2,5]]}
[null,"UI COVERED EMPLOYMENT"]
[null,"Pike County"]
[null,"2014 Annual Averages"]
[]
[]
[]
["NAICS Sectors/Ownership",null,"Number of Reporting Units","Average Number of Workers","Total Annual Wages","Average Annual Wages"]
["Private Ownership Only",null,"not rounded","rounded to tens","rounded to hundreds","rounded to hundreds"]
[null,"AGRICULTURE, FORESTRY, FISHING AND HUNTI",4,20,785700,39300]
[null,"MINING, QUARRYING, AND OIL AND GAS EXTRA",12,410,31394300,76600]
[null,"UTILITIES","Confidential","Confidential","Confidential","Confidential"]
[null,"CONSTRUCTION","Confidential","Confidential","Confidential","Confidential"]
[null,"MANUFACTURING",5,170,9330400,54900]
[null,"WHOLESALE TRADE",7,90,6493600,72200]
[null,"RETAIL TRADE",33,270,4814800,17800]
[null,"TRANSPORTATION AND WAREHOUSING",12,210,8329300,39700]
[null,"INFORMATION",3,30,859000,28600]
[null,"FINANCE AND INSURANCE",6,40,1599300,40000]
[null,"REAL ESTATE AND RENTAL AND LEASING","Confidential","Confidential","Confidential","Confidential"]
[null,"PROFESSIONAL AND TECHNICAL SERVICES",9,20,550100,27500]
[null,"MANAGEMENT OF COMPANIES AND ENTERPRISES","Confidential","Confidential","Confidential","Confidential"]
[null,"ADMINISTRATIVE AND WASTE SERVICES",12,100,2734600,27300]
[null,"EDUCATIONAL SERVICES",0,"0",0,0]
[null,"HEALTH CARE AND SOCIAL ASSISTANCE",16,290,6992800,24100]
[null,"ARTS, ENTERTAINMENT, AND RECREATION",4,10,156500,15700]
[null,"ACCOMMODATION AND FOOD SERVICES",12,140,1406200,10000]
[null,"OTHER SERVICES, EXCEPT PUBLIC ADMIN",21,90,3468200,38500]
[null,"UNCLASSIFIED","Data included in Total UI Covered"]
[]
["Local Government"]
[null,"LOCAL GOVERNMENT",14,530,15622700,29500]
[null,"EDUCATIONAL SERVICES",1,310,10727000,34600]
[null,"HEALTH CARE AND SOCIAL ASSISTANCE",0,"0",0,0]
[]
["State Government"]
[null,"STATE GOVERNMENT",8,50,2032700,40700]
[null,"EDUCATIONAL SERVICES",0,"0",0,0]
[null,"HEALTH CARE AND SOCIAL ASSISTANCE",0,"0",0,0]
[]
["Total UI Covered"]
[null,"TOTAL UI COVERED",201,3230,163407800,50600]
[]
["Federal Government"]
[null,"FEDERAL GOVERNMENT",7,30,1301500,43400]
[]
[]
["*Less than 5 employees unrounded"]
[]
[]
[]
[]
[]
[]
[]
[]
[]
[]
[]
[]
[]
[]
[]
[]
[]
[]
[]
[]
[]
[]
[]
[]
[]
[]
[]
["Telephone:  800-784-0360",null,null,null,"Released ","2015-09-17T12:49:02.720"]

{"sheet":"Porter (127)","index":67,"n_rows":75,"n_cols":6,"rows_kept":75,"cut":false,"hidden":false,"merged":[[27,2,27,5],[0,1,0,5],[1,1,1,5],[2,1,2,5]]}
[null,"UI COVERED EMPLOYMENT"]
[null,"Porter County"]
[null,"2014 Annual Averages"]
[]
[]
[]
["NAICS Sectors/Ownership",null,"Number of Reporting Units","Average Number of Workers","Total Annual Wages","Average Annual Wages"]
["Private Ownership Only",null,"not rounded","rounded to tens","rounded to hundreds","rounded to hundreds"]
[null,"AGRICULTURE, FORESTRY, FISHING AND HUNTI",11,50,1184000,23700]
[null,"MINING, QUARRYING, AND OIL AND GAS EXTRA","Confidential","Confidential","Confidential","Confidential"]
[null,"UTILITIES","Confidential","Confidential","Confidential","Confidential"]
[null,"CONSTRUCTION",374,3530,238648600,67600]
[null,"MANUFACTURING",157,9770,664352000,68000]
[null,"WHOLESALE TRADE",245,2180,122812900,56300]
[null,"RETAIL TRADE",417,7280,174605900,24000]
[null,"TRANSPORTATION AND WAREHOUSING",152,1910,91840100,48100]
[null,"INFORMATION",36,520,24858600,47800]
[null,"FINANCE AND INSURANCE",225,1140,57468900,50400]
[null,"REAL ESTATE AND RENTAL AND LEASING",142,580,18562900,32000]
[null,"PROFESSIONAL AND TECHNICAL SERVICES",380,1640,82066000,50000]
[null,"MANAGEMENT OF COMPANIES AND ENTERPRISES",24,230,17648200,76700]
[null,"ADMINISTRATIVE AND WASTE SERVICES",202,2780,95307800,34300]
[null,"EDUCATIONAL SERVICES",36,2510,71863400,28600]
[null,"HEALTH CARE AND SOCIAL ASSISTANCE",327,8010,336403100,42000]
[null,"ARTS, ENTERTAINMENT, AND RECREATION",44,480,8701900,18100]
[null,"ACCOMMODATION AND FOOD SERVICES",310,6240,82319500,13200]
[null,"OTHER SERVICES, EXCEPT PUBLIC ADMIN",330,2470,58998400,23900]
[null,"UNCLASSIFIED","Data included in Total UI Covered"]
[]
["Local Government"]
[null,"LOCAL GOVERNMENT",72,6160,205737600,33400]
[null,"EDUCATIONAL SERVICES",41,3750,126752800,33800]
[null,"HEALTH CARE AND SOCIAL ASSISTANCE",0,"0",0,0]
[]
["State Government"]
[null,"STATE GOVERNMENT",16,230,9106000,39600]
[null,"EDUCATIONAL SERVICES",0,"0",0,0]
[null,"HEALTH CARE AND SOCIAL ASSISTANCE",0,"0",0,0]
[]
["Total UI Covered"]
[null,"TOTAL UI COVERED",3504,58010,2394695700,41300]
[]
["Federal Government"]
[null,"FEDERAL GOVERNMENT",19,420,25288200,60200]
[]
[]
["*Less than 5 employees unrounded"]
[]
[]
[]
[]
[]
[]
[]
[]
[]
[]
[]
[]
[]
[]
[]
[]
[]
[]
[]
[]
[]
[]
[]
[]
[]
[]
[]
["Telephone:  800-784-0360",null,null,null,"Released ","2015-09-17T12:50:15.180"]

{"sheet":"Posey (129)","index":68,"n_rows":75,"n_cols":6,"rows_kept":75,"cut":false,"hidden":false,"merged":[[27,2,27,5],[0,1,0,5],[1,1,1,5],[2,1,2,5]]}
[null,"UI COVERED EMPLOYMENT"]
[null,"Posey County"]
[null,"2014 Annual Averages"]
[]
[]
[]
["NAICS Sectors/Ownership",null,"Number of Reporting Units","Average Number of Workers","Total Annual Wages","Average Annual Wages"]
["Private Ownership Only",null,"not rounded","rounded to tens","rounded to hundreds","rounded to hundreds"]
[null,"AGRICULTURE, FORESTRY, FISHING AND HUNTI",22,90,2917300,32400]
[null,"MINING, QUARRYING, AND OIL AND GAS EXTRA",11,50,1868600,37400]
[null,"UTILITIES","Confidential","Confidential","Confidential","Confidential"]
[null,"CONSTRUCTION",81,460,22404000,48700]
[null,"MANUFACTURING",32,2640,218967800,82900]
[null,"WHOLESALE TRADE",22,270,13567900,50300]
[null,"RETAIL TRADE",55,730,22510200,30800]
[null,"TRANSPORTATION AND WAREHOUSING",28,680,30636000,45100]
[null,"INFORMATION",5,20,436200,21800]
[null,"FINANCE AND INSURANCE",19,160,8490500,53100]
[null,"REAL ESTATE AND RENTAL AND LEASING",12,40,1098400,27500]
[null,"PROFESSIONAL AND TECHNICAL SERVICES",38,290,18686400,64400]
[null,"MANAGEMENT OF COMPANIES AND ENTERPRISES","Confidential","Confidential","Confidential","Confidential"]
[null,"ADMINISTRATIVE AND WASTE SERVICES",25,330,9893200,30000]
[null,"EDUCATIONAL SERVICES",5,80,1352300,16900]
[null,"HEALTH CARE AND SOCIAL ASSISTANCE",24,350,9082300,25900]
[null,"ARTS, ENTERTAINMENT, AND RECREATION","Confidential","Confidential","Confidential","Confidential"]
[null,"ACCOMMODATION AND FOOD SERVICES",31,510,6822900,13400]
[null,"OTHER SERVICES, EXCEPT PUBLIC ADMIN",41,160,4724000,29500]
[null,"UNCLASSIFIED","Data included in Total UI Covered"]
[]
["Local Government"]
[null,"LOCAL GOVERNMENT",19,1030,31863900,30900]
[null,"EDUCATIONAL SERVICES",2,610,20885200,34200]
[null,"HEALTH CARE AND SOCIAL ASSISTANCE",0,"0",0,0]
[]
["State Government"]
[null,"STATE GOVERNMENT",10,80,2695400,33700]
[null,"EDUCATIONAL SERVICES",0,"0",0,0]
[null,"HEALTH CARE AND SOCIAL ASSISTANCE",0,"0",0,0]
[]
["Total UI Covered"]
[null,"TOTAL UI COVERED",485,8110,418880500,51600]
[]
["Federal Government"]
[null,"FEDERAL GOVERNMENT",10,60,3342800,55700]
[]
[]
["*Less than 5 employees unrounded"]
[]
[]
[]
[]
[]
[]
[]
[]
[]
[]
[]
[]
[]
[]
[]
[]
[]
[]
[]
[]
[]
[]
[]
[]
[]
[]
[]
["Telephone:  800-784-0360",null,null,null,"Released ","2015-09-17T12:50:44.110"]

{"sheet":"Pulaski (131)","index":69,"n_rows":75,"n_cols":6,"rows_kept":75,"cut":false,"hidden":false,"merged":[[27,2,27,5],[0,1,0,5],[1,1,1,5],[2,1,2,5]]}
[null,"UI COVERED EMPLOYMENT"]
[null,"Pulaski County"]
[null,"2014 Annual Averages"]
[]
[]
[]
["NAICS Sectors/Ownership",null,"Number of Reporting Units","Average Number of Workers","Total Annual Wages","Average Annual Wages"]
["Private Ownership Only",null,"not rounded","rounded to tens","rounded to hundreds","rounded to hundreds"]
[null,"AGRICULTURE, FORESTRY, FISHING AND HUNTI",22,370,12239400,33100]
[null,"MINING, QUARRYING, AND OIL AND GAS EXTRA","Confidential","Confidential","Confidential","Confidential"]
[null,"UTILITIES",0,"0",0,0]
[null,"CONSTRUCTION",30,130,4435900,34100]
[null,"MANUFACTURING",21,1320,62046900,47000]
[null,"WHOLESALE TRADE",25,240,10893800,45400]
[null,"RETAIL TRADE",56,440,9976800,22700]
[null,"TRANSPORTATION AND WAREHOUSING",24,110,4565600,41500]
[null,"INFORMATION","Confidential","Confidential","Confidential","Confidential"]
[null,"FINANCE AND INSURANCE",19,150,6709000,44700]
[null,"REAL ESTATE AND RENTAL AND LEASING",7,10,110100,11000]
[null,"PROFESSIONAL AND TECHNICAL SERVICES",22,70,2223900,31800]
[null,"MANAGEMENT OF COMPANIES AND ENTERPRISES","Confidential","Confidential","Confidential","Confidential"]
[null,"ADMINISTRATIVE AND WASTE SERVICES",4,20,455100,22800]
[null,"EDUCATIONAL SERVICES","Confidential","Confidential","Confidential","Confidential"]
[null,"HEALTH CARE AND SOCIAL ASSISTANCE",21,330,9416200,28500]
[null,"ARTS, ENTERTAINMENT, AND RECREATION",5,20,118300,5900]
[null,"ACCOMMODATION AND FOOD SERVICES",21,160,1509700,9400]
[null,"OTHER SERVICES, EXCEPT PUBLIC ADMIN",26,90,2328900,25900]
[null,"UNCLASSIFIED","Data included in Total UI Covered"]
[]
["Local Government"]
[null,"LOCAL GOVERNMENT",11,910,30449400,33500]
[null,"EDUCATIONAL SERVICES",2,410,11548100,28200]
[null,"HEALTH CARE AND SOCIAL ASSISTANCE",1,240,12592200,52500]
[]
["State Government"]
[null,"STATE GOVERNMENT",10,90,3257400,36200]
[null,"EDUCATIONAL SERVICES",0,"0",0,0]
[null,"HEALTH CARE AND SOCIAL ASSISTANCE",0,"0",0,0]
[]
["Total UI Covered"]
[null,"TOTAL UI COVERED",330,4500,163561800,36300]
[]
["Federal Government"]
[null,"FEDERAL GOVERNMENT",8,40,1659800,41500]
[]
[]
["*Less than 5 employees unrounded"]
[]
[]
[]
[]
[]
[]
[]
[]
[]
[]
[]
[]
[]
[]
[]
[]
[]
[]
[]
[]
[]
[]
[]
[]
[]
[]
[]
["Telephone:  800-784-0360",null,null,null,"Released ","2015-09-17T12:51:13.980"]

{"sheet":"Putnam (133)","index":70,"n_rows":75,"n_cols":6,"rows_kept":75,"cut":false,"hidden":false,"merged":[[27,2,27,5],[0,1,0,5],[1,1,1,5],[2,1,2,5]]}
[null,"UI COVERED EMPLOYMENT"]
[null,"Putnam County"]
[null,"2014 Annual Averages"]
[]
[]
[]
["NAICS Sectors/Ownership",null,"Number of Reporting Units","Average Number of Workers","Total Annual Wages","Average Annual Wages"]
["Private Ownership Only",null,"not rounded","rounded to tens","rounded to hundreds","rounded to hundreds"]
[null,"AGRICULTURE, FORESTRY, FISHING AND HUNTI",16,80,2120200,26500]
[null,"MINING, QUARRYING, AND OIL AND GAS EXTRA",7,60,3409000,56800]
[null,"UTILITIES",5,30,2132400,71100]
[null,"CONSTRUCTION",83,330,12095300,36700]
[null,"MANUFACTURING",25,2450,108195000,44200]
[null,"WHOLESALE TRADE",23,160,7679700,48000]
[null,"RETAIL TRADE",91,1130,25209700,22300]
[null,"TRANSPORTATION AND WAREHOUSING",31,910,38294000,42100]
[null,"INFORMATION",9,150,7259200,48400]
[null,"FINANCE AND INSURANCE",40,250,10769800,43100]
[null,"REAL ESTATE AND RENTAL AND LEASING",22,80,1496700,18700]
[null,"PROFESSIONAL AND TECHNICAL SERVICES",42,150,5735000,38200]
[null,"MANAGEMENT OF COMPANIES AND ENTERPRISES","Confidential","Confidential","Confidential","Confidential"]
[null,"ADMINISTRATIVE AND WASTE SERVICES",30,690,18001200,26100]
[null,"EDUCATIONAL SERVICES","Confidential","Confidential","Confidential","Confidential"]
[null,"HEALTH CARE AND SOCIAL ASSISTANCE",46,1220,29589100,24300]
[null,"ARTS, ENTERTAINMENT, AND RECREATION",9,40,746500,18700]
[null,"ACCOMMODATION AND FOOD SERVICES",69,1050,13384400,12700]
[null,"OTHER SERVICES, EXCEPT PUBLIC ADMIN",60,270,6155500,22800]
[null,"UNCLASSIFIED","Data included in Total UI Covered"]
[]
["Local Government"]
[null,"LOCAL GOVERNMENT",33,1730,50948400,29400]
[null,"EDUCATIONAL SERVICES",10,950,27907500,29400]
[null,"HEALTH CARE AND SOCIAL ASSISTANCE",1,320,10723300,33500]
[]
["State Government"]
[null,"STATE GOVERNMENT",19,640,22508200,35200]
[null,"EDUCATIONAL SERVICES",0,"0",0,0]
[null,"HEALTH CARE AND SOCIAL ASSISTANCE",0,"0",0,0]
[]
["Total UI Covered"]
[null,"TOTAL UI COVERED",668,12260,405102100,33000]
[]
["Federal Government"]
[null,"FEDERAL GOVERNMENT",11,80,3666100,45800]
[]
[]
["*Less than 5 employees unrounded"]
[]
[]
[]
[]
[]
[]
[]
[]
[]
[]
[]
[]
[]
[]
[]
[]
[]
[]
[]
[]
[]
[]
[]
[]
[]
[]
[]
["Telephone:  800-784-0360",null,null,null,"Released ","2015-09-17T12:52:40.570"]

{"sheet":"Randolph (135)","index":71,"n_rows":75,"n_cols":6,"rows_kept":75,"cut":false,"hidden":false,"merged":[[27,2,27,5],[0,1,0,5],[1,1,1,5],[2,1,2,5]]}
[null,"UI COVERED EMPLOYMENT"]
[null,"Randolph County"]
[null,"2014 Annual Averages"]
[null,null,null,null,null,"                     "]
[]
[]
["NAICS Sectors/Ownership",null,"Number of Reporting Units","Average Number of Workers","Total Annual Wages","Average Annual Wages"]
["Private Ownership Only",null,"not rounded","rounded to tens","rounded to hundreds","rounded to hundreds"]
[null,"AGRICULTURE, FORESTRY, FISHING AND HUNTI",17,200,6407400,32000]
[null,"MINING, QUARRYING, AND OIL AND GAS EXTRA","Confidential","Confidential","Confidential","Confidential"]
[null,"UTILITIES","Confidential","Confidential","Confidential","Confidential"]
[null,"CONSTRUCTION",42,380,17314000,45600]
[null,"MANUFACTURING",44,2070,93416000,45100]
[null,"WHOLESALE TRADE",27,270,10263400,38000]
[null,"RETAIL TRADE",69,530,10357000,19500]
[null,"TRANSPORTATION AND WAREHOUSING",34,180,7057700,39200]
[null,"INFORMATION",3,50,1102100,22000]
[null,"FINANCE AND INSURANCE",25,150,4894400,32600]
[null,"REAL ESTATE AND RENTAL AND LEASING",5,10,263500,26400]
[null,"PROFESSIONAL AND TECHNICAL SERVICES",34,120,5209600,43400]
[null,"MANAGEMENT OF COMPANIES AND ENTERPRISES",0,"0",0,0]
[null,"ADMINISTRATIVE AND WASTE SERVICES",20,660,23535700,35700]
[null,"EDUCATIONAL SERVICES","Confidential","Confidential","Confidential","Confidential"]
[null,"HEALTH CARE AND SOCIAL ASSISTANCE",31,630,18590500,29500]
[null,"ARTS, ENTERTAINMENT, AND RECREATION",12,160,3252400,20300]
[null,"ACCOMMODATION AND FOOD SERVICES",36,470,5357800,11400]
[null,"OTHER SERVICES, EXCEPT PUBLIC ADMIN",39,150,2750900,18300]
[null,"UNCLASSIFIED","Data included in Total UI Covered"]
[]
["Local Government"]
[null,"LOCAL GOVERNMENT",34,1110,30731500,27700]
[null,"EDUCATIONAL SERVICES",10,740,21994300,29700]
[null,"HEALTH CARE AND SOCIAL ASSISTANCE",0,"0",0,0]
[]
["State Government"]
[null,"STATE GOVERNMENT",8,80,2575300,32200]
[null,"EDUCATIONAL SERVICES",0,"0",0,0]
[null,"HEALTH CARE AND SOCIAL ASSISTANCE",0,"0",0,0]
[]
["Total UI Covered"]
[null,"TOTAL UI COVERED",489,7310,247636000,33900]
[]
["Federal Government"]
[null,"FEDERAL GOVERNMENT",11,60,2609500,43500]
[]
[]
["*Less than 5 employees unrounded"]
[]
[]
[]
[]
[]
[]
[]
[]
[]
[]
[]
[]
[]
[]
[]
[]
[]
[]
[]
[]
[]
[]
[]
[]
[]
[]
[]
["Telephone:  800-784-0360",null,null,null,"Released ","2015-09-17T12:53:03.630"]

{"sheet":"Ripley (137)","index":72,"n_rows":75,"n_cols":6,"rows_kept":75,"cut":false,"hidden":false,"merged":[[27,2,27,5],[0,1,0,5],[1,1,1,5],[2,1,2,5]]}
[null,"UI COVERED EMPLOYMENT"]
[null,"Ripley County"]
[null,"2014 Annual Averages"]
[]
[]
[]
["NAICS Sectors/Ownership",null,"Number of Reporting Units","Average Number of Workers","Total Annual Wages","Average Annual Wages"]
["Private Ownership Only",null,"not rounded","rounded to tens","rounded to hundreds","rounded to hundreds"]
[null,"AGRICULTURE, FORESTRY, FISHING AND HUNTI",18,140,3631300,25900]
[null,"MINING, QUARRYING, AND OIL AND GAS EXTRA",3,30,1204200,40100]
[null,"UTILITIES",6,100,5950600,59500]
[null,"CONSTRUCTION",81,440,16621300,37800]
[null,"MANUFACTURING",49,2010,95195500,47400]
[null,"WHOLESALE TRADE",27,130,6051900,46600]
[null,"RETAIL TRADE",104,850,20863400,24500]
[null,"TRANSPORTATION AND WAREHOUSING",33,770,36420100,47300]
[null,"INFORMATION",8,130,6461800,49700]
[null,"FINANCE AND INSURANCE",46,500,35444600,70900]
[null,"REAL ESTATE AND RENTAL AND LEASING",17,30,683900,22800]
[null,"PROFESSIONAL AND TECHNICAL SERVICES",39,290,15379500,53000]
[null,"MANAGEMENT OF COMPANIES AND ENTERPRISES",11,1410,121961500,86500]
[null,"ADMINISTRATIVE AND WASTE SERVICES","Confidential","Confidential","Confidential","Confidential"]
[null,"EDUCATIONAL SERVICES","Confidential","Confidential","Confidential","Confidential"]
[null,"HEALTH CARE AND SOCIAL ASSISTANCE",62,1390,52419900,37700]
[null,"ARTS, ENTERTAINMENT, AND RECREATION",7,100,1492600,14900]
[null,"ACCOMMODATION AND FOOD SERVICES",53,800,9428000,11800]
[null,"OTHER SERVICES, EXCEPT PUBLIC ADMIN",69,330,6897600,20900]
[null,"UNCLASSIFIED","Data included in Total UI Covered"]
[]
["Local Government"]
[null,"LOCAL GOVERNMENT",30,1160,34832200,30000]
[null,"EDUCATIONAL SERVICES",8,750,24191200,32300]
[null,"HEALTH CARE AND SOCIAL ASSISTANCE",2,"*",289000,"*"]
[]
["State Government"]
[null,"STATE GOVERNMENT",14,120,4572600,38100]
[null,"EDUCATIONAL SERVICES",0,"0",0,0]
[null,"HEALTH CARE AND SOCIAL ASSISTANCE",0,"0",0,0]
[]
["Total UI Covered"]
[null,"TOTAL UI COVERED",698,11750,505258200,43000]
[]
["Federal Government"]
[null,"FEDERAL GOVERNMENT",14,70,3364200,48100]
[]
[]
["*Less than 5 employees unrounded"]
[]
[]
[]
[]
[]
[]
[]
[]
[]
[]
[]
[]
[]
[]
[]
[]
[]
[]
[]
[]
[]
[]
[]
[]
[]
[]
[]
["Telephone:  800-784-0360",null,null,null,"Released ","2015-09-17T12:53:28.050"]

{"sheet":"Rush (139)","index":73,"n_rows":75,"n_cols":6,"rows_kept":75,"cut":false,"hidden":false,"merged":[[27,2,27,5],[0,1,0,5],[1,1,1,5],[2,1,2,5]]}
[null,"UI COVERED EMPLOYMENT"]
[null,"Rush County"]
[null,"2014 Annual Averages"]
[]
[]
[]
["NAICS Sectors/Ownership",null,"Number of Reporting Units","Average Number of Workers","Total Annual Wages","Average Annual Wages"]
["Private Ownership Only",null,"not rounded","rounded to tens","rounded to hundreds","rounded to hundreds"]
[null,"AGRICULTURE, FORESTRY, FISHING AND HUNTI",13,150,5607600,37400]
[null,"MINING, QUARRYING, AND OIL AND GAS EXTRA","Confidential","Confidential","Confidential","Confidential"]
[null,"UTILITIES","Confidential","Confidential","Confidential","Confidential"]
[null,"CONSTRUCTION",38,210,7160800,34100]
[null,"MANUFACTURING",28,1040,53049500,51000]
[null,"WHOLESALE TRADE",24,190,6961200,36600]
[null,"RETAIL TRADE",53,520,12900300,24800]
[null,"TRANSPORTATION AND WAREHOUSING",23,320,13881400,43400]
[null,"INFORMATION",4,60,2037800,34000]
[null,"FINANCE AND INSURANCE",19,110,4816900,43800]
[null,"REAL ESTATE AND RENTAL AND LEASING",11,20,521200,26100]
[null,"PROFESSIONAL AND TECHNICAL SERVICES",33,110,3291000,29900]
[null,"MANAGEMENT OF COMPANIES AND ENTERPRISES","Confidential","Confidential","Confidential","Confidential"]
[null,"ADMINISTRATIVE AND WASTE SERVICES",11,110,3149600,28600]
[null,"EDUCATIONAL SERVICES",0,"0",0,0]
[null,"HEALTH CARE AND SOCIAL ASSISTANCE",27,260,8301100,31900]
[null,"ARTS, ENTERTAINMENT, AND RECREATION",3,20,373400,18700]
[null,"ACCOMMODATION AND FOOD SERVICES",23,310,3778100,12200]
[null,"OTHER SERVICES, EXCEPT PUBLIC ADMIN",31,130,2621800,20200]
[null,"UNCLASSIFIED","Data included in Total UI Covered"]
[]
["Local Government"]
[null,"LOCAL GOVERNMENT",23,970,31870600,32900]
[null,"EDUCATIONAL SERVICES",11,410,12502600,30500]
[null,"HEALTH CARE AND SOCIAL ASSISTANCE",1,310,12579100,40600]
[]
["State Government"]
[null,"STATE GOVERNMENT",13,90,3780600,42000]
[null,"EDUCATIONAL SERVICES",0,"0",0,0]
[null,"HEALTH CARE AND SOCIAL ASSISTANCE",0,"0",0,0]
[]
["Total UI Covered"]
[null,"TOTAL UI COVERED",381,4720,168937600,35800]
[]
["Federal Government"]
[null,"FEDERAL GOVERNMENT",7,40,1864200,46600]
[]
[]
["*Less than 5 employees unrounded"]
[]
[]
[]
[]
[]
[]
[]
[]
[]
[]
[]
[]
[]
[]
[]
[]
[]
[]
[]
[]
[]
[]
[]
[]
[]
[]
[]
["Telephone:  800-784-0360",null,null,null,"Released ","2015-09-17T12:53:48.010"]

{"sheet":"St. Joseph (141)","index":74,"n_rows":75,"n_cols":6,"rows_kept":75,"cut":false,"hidden":false,"merged":[[27,2,27,5],[0,1,0,5],[1,1,1,5],[2,1,2,5]]}
[null,"UI COVERED EMPLOYMENT"]
[null,"St. Joseph County"]
[null,"2014 Annual Averages"]
[]
[]
[]
["NAICS Sectors/Ownership",null,"Number of Reporting Units","Average Number of Workers","Total Annual Wages","Average Annual Wages"]
["Private Ownership Only",null,"not rounded","rounded to tens","rounded to hundreds","rounded to hundreds"]
[null,"AGRICULTURE, FORESTRY, FISHING AND HUNTI",28,170,5512300,32400]
[null,"MINING, QUARRYING, AND OIL AND GAS EXTRA",4,10,541700,54200]
[null,"UTILITIES",5,320,25415700,79400]
[null,"CONSTRUCTION",448,3950,202216300,51200]
[null,"MANUFACTURING",369,14830,783386800,52800]
[null,"WHOLESALE TRADE",427,5430,293095300,54000]
[null,"RETAIL TRADE",861,14010,334063700,23800]
[null,"TRANSPORTATION AND WAREHOUSING",161,2840,119533900,42100]
[null,"INFORMATION",84,1690,85627600,50700]
[null,"FINANCE AND INSURANCE",334,3360,220116100,65500]
[null,"REAL ESTATE AND RENTAL AND LEASING",212,1530,59192000,38700]
[null,"PROFESSIONAL AND TECHNICAL SERVICES",539,4040,215848900,53400]
[null,"MANAGEMENT OF COMPANIES AND ENTERPRISES",43,2030,182713400,90000]
[null,"ADMINISTRATIVE AND WASTE SERVICES",309,5370,128132500,23900]
[null,"EDUCATIONAL SERVICES",66,10450,520872500,49800]
[null,"HEALTH CARE AND SOCIAL ASSISTANCE",520,19120,812200400,42500]
[null,"ARTS, ENTERTAINMENT, AND RECREATION",75,1050,18984900,18100]
[null,"ACCOMMODATION AND FOOD SERVICES",553,10790,152855500,14200]
[null,"OTHER SERVICES, EXCEPT PUBLIC ADMIN",594,3700,110167300,29800]
[null,"UNCLASSIFIED","Data included in Total UI Covered"]
[]
["Local Government"]
[null,"LOCAL GOVERNMENT",45,9700,354282200,36500]
[null,"EDUCATIONAL SERVICES",11,5580,192777100,34500]
[null,"HEALTH CARE AND SOCIAL ASSISTANCE",0,"0",0,0]
[]
["State Government"]
[null,"STATE GOVERNMENT",21,2020,67612400,33500]
[null,"EDUCATIONAL SERVICES",2,1550,49390400,31900]
[null,"HEALTH CARE AND SOCIAL ASSISTANCE",0,"0",0,0]
[]
["Total UI Covered"]
[null,"TOTAL UI COVERED",5697,116410,4692383500,40300]
[]
["Federal Government"]
[null,"FEDERAL GOVERNMENT",36,880,59325700,67400]
[]
[]
["*Less than 5 employees unrounded"]
[]
[]
[]
[]
[]
[]
[]
[]
[]
[]
[]
[]
[]
[]
[]
[]
[]
[]
[]
[]
[]
[]
[]
[]
[]
[]
[]
["Telephone:  800-784-0360",null,null,null,"Released ","2015-09-17T12:54:09.840"]

{"sheet":"Scott (143)","index":75,"n_rows":75,"n_cols":6,"rows_kept":75,"cut":false,"hidden":false,"merged":[[27,2,27,5],[0,1,0,5],[1,1,1,5],[2,1,2,5]]}
[null,"UI COVERED EMPLOYMENT"]
[null,"Scott County"]
[null,"2014 Annual Averages"]
[]
[]
[]
["NAICS Sectors/Ownership",null,"Number of Reporting Units","Average Number of Workers","Total Annual Wages","Average Annual Wages"]
["Private Ownership Only",null,"not rounded","rounded to tens","rounded to hundreds","rounded to hundreds"]
[null,"AGRICULTURE, FORESTRY, FISHING AND HUNTI",3,10,323900,32400]
[null,"MINING, QUARRYING, AND OIL AND GAS EXTRA",3,10,835100,83500]
[null,"UTILITIES","Confidential","Confidential","Confidential","Confidential"]
[null,"CONSTRUCTION",26,130,4213600,32400]
[null,"MANUFACTURING",26,1830,87821600,48000]
[null,"WHOLESALE TRADE",17,130,6265300,48200]
[null,"RETAIL TRADE",79,990,21888600,22100]
[null,"TRANSPORTATION AND WAREHOUSING",11,90,3752200,41700]
[null,"INFORMATION",5,30,789800,26300]
[null,"FINANCE AND INSURANCE",22,120,5580600,46500]
[null,"REAL ESTATE AND RENTAL AND LEASING",21,70,1762900,25200]
[null,"PROFESSIONAL AND TECHNICAL SERVICES",26,120,5253800,43800]
[null,"MANAGEMENT OF COMPANIES AND ENTERPRISES",0,"0",0,0]
[null,"ADMINISTRATIVE AND WASTE SERVICES",20,640,14775900,23100]
[null,"EDUCATIONAL SERVICES","Confidential","Confidential","Confidential","Confidential"]
[null,"HEALTH CARE AND SOCIAL ASSISTANCE",45,1050,30047800,28600]
[null,"ARTS, ENTERTAINMENT, AND RECREATION",3,20,211200,10600]
[null,"ACCOMMODATION AND FOOD SERVICES",38,780,10173400,13000]
[null,"OTHER SERVICES, EXCEPT PUBLIC ADMIN",24,140,2736100,19500]
[null,"UNCLASSIFIED","Data included in Total UI Covered"]
[]
["Local Government"]
[null,"LOCAL GOVERNMENT",14,950,30609800,32200]
[null,"EDUCATIONAL SERVICES",2,630,20487900,32500]
[null,"HEALTH CARE AND SOCIAL ASSISTANCE",1,"*",284500,"*"]
[]
["State Government"]
[null,"STATE GOVERNMENT",11,100,3443200,34400]
[null,"EDUCATIONAL SERVICES",0,"0",0,0]
[null,"HEALTH CARE AND SOCIAL ASSISTANCE",0,"0",0,0]
[]
["Total UI Covered"]
[null,"TOTAL UI COVERED",397,7270,232330100,32000]
[]
["Federal Government"]
[null,"FEDERAL GOVERNMENT",8,70,4351500,62200]
[]
[]
["*Less than 5 employees unrounded"]
[]
[]
[]
[]
[]
[]
[]
[]
[]
[]
[]
[]
[]
[]
[]
[]
[]
[]
[]
[]
[]
[]
[]
[]
[]
[]
[]
["Telephone:  800-784-0360",null,null,null,"Released ","2015-09-17T12:54:42.180"]

{"sheet":"Shelby (145)","index":76,"n_rows":75,"n_cols":6,"rows_kept":75,"cut":false,"hidden":false,"merged":[[27,2,27,5],[0,1,0,5],[1,1,1,5],[2,1,2,5]]}
[null,"UI COVERED EMPLOYMENT"]
[null,"Shelby County"]
[null,"2014 Annual Averages"]
[]
[]
[]
["NAICS Sectors/Ownership",null,"Number of Reporting Units","Average Number of Workers","Total Annual Wages","Average Annual Wages"]
["Private Ownership Only",null,"not rounded","rounded to tens","rounded to hundreds","rounded to hundreds"]
[null,"AGRICULTURE, FORESTRY, FISHING AND HUNTI",22,170,5248400,30900]
[null,"MINING, QUARRYING, AND OIL AND GAS EXTRA",6,60,3128400,52100]
[null,"UTILITIES",4,40,2934400,73400]
[null,"CONSTRUCTION",104,770,34881900,45300]
[null,"MANUFACTURING",75,4900,252852200,51600]
[null,"WHOLESALE TRADE",51,560,27838000,49700]
[null,"RETAIL TRADE",128,1500,38628900,25800]
[null,"TRANSPORTATION AND WAREHOUSING",45,1310,55417200,42300]
[null,"INFORMATION",11,100,2901100,29000]
[null,"FINANCE AND INSURANCE",48,190,8381600,44100]
[null,"REAL ESTATE AND RENTAL AND LEASING",43,160,4813600,30100]
[null,"PROFESSIONAL AND TECHNICAL SERVICES",66,200,9987100,49900]
[null,"MANAGEMENT OF COMPANIES AND ENTERPRISES",3,20,599400,30000]
[null,"ADMINISTRATIVE AND WASTE SERVICES",51,1200,28525300,23800]
[null,"EDUCATIONAL SERVICES","Confidential","Confidential","Confidential","Confidential"]
[null,"HEALTH CARE AND SOCIAL ASSISTANCE",77,1280,55071600,43000]
[null,"ARTS, ENTERTAINMENT, AND RECREATION","Confidential","Confidential","Confidential","Confidential"]
[null,"ACCOMMODATION AND FOOD SERVICES",69,1280,15748000,12300]
[null,"OTHER SERVICES, EXCEPT PUBLIC ADMIN",64,350,8963600,25600]
[null,"UNCLASSIFIED","Data included in Total UI Covered"]
[]
["Local Government"]
[null,"LOCAL GOVERNMENT",22,2230,82735600,37100]
[null,"EDUCATIONAL SERVICES",9,1010,32027000,31700]
[null,"HEALTH CARE AND SOCIAL ASSISTANCE",1,670,32245000,48100]
[]
["State Government"]
[null,"STATE GOVERNMENT",16,100,4197500,42000]
[null,"EDUCATIONAL SERVICES",0,"0",0,0]
[null,"HEALTH CARE AND SOCIAL ASSISTANCE",0,"0",0,0]
[]
["Total UI Covered"]
[null,"TOTAL UI COVERED",917,17440,669601700,38400]
[]
["Federal Government"]
[null,"FEDERAL GOVERNMENT",9,130,7383700,56800]
[]
[]
["*Less than 5 employees unrounded"]
[]
[]
[]
[]
[]
[]
[]
[]
[]
[]
[]
[]
[]
[]
[]
[]
[]
[]
[]
[]
[]
[]
[]
[]
[]
[]
[]
["Telephone:  800-784-0360",null,null,null,"Released ","2015-09-17T12:55:19.690"]

{"sheet":"Spencer (147)","index":77,"n_rows":75,"n_cols":6,"rows_kept":75,"cut":false,"hidden":false,"merged":[[27,2,27,5],[0,1,0,5],[1,1,1,5],[2,1,2,5]]}
[null,"UI COVERED EMPLOYMENT"]
[null,"Spencer County"]
[null,"2014 Annual Averages"]
[]
[]
[]
["NAICS Sectors/Ownership",null,"Number of Reporting Units","Average Number of Workers","Total Annual Wages","Average Annual Wages"]
["Private Ownership Only",null,"not rounded","rounded to tens","rounded to hundreds","rounded to hundreds"]
[null,"AGRICULTURE, FORESTRY, FISHING AND HUNTI",22,100,3476400,34800]
[null,"MINING, QUARRYING, AND OIL AND GAS EXTRA",3,10,190700,19100]
[null,"UTILITIES","Confidential","Confidential","Confidential","Confidential"]
[null,"CONSTRUCTION",48,240,8959000,37300]
[null,"MANUFACTURING",20,1150,58813100,51100]
[null,"WHOLESALE TRADE",33,380,15510500,40800]
[null,"RETAIL TRADE",52,420,10186800,24300]
[null,"TRANSPORTATION AND WAREHOUSING",34,270,10773100,39900]
[null,"INFORMATION",4,90,4928900,54800]
[null,"FINANCE AND INSURANCE",26,150,4719400,31500]
[null,"REAL ESTATE AND RENTAL AND LEASING",7,10,138200,13800]
[null,"PROFESSIONAL AND TECHNICAL SERVICES",23,90,2488600,27700]
[null,"MANAGEMENT OF COMPANIES AND ENTERPRISES","Confidential","Confidential","Confidential","Confidential"]
[null,"ADMINISTRATIVE AND WASTE SERVICES",22,380,9953400,26200]
[null,"EDUCATIONAL SERVICES",7,310,10117200,32600]
[null,"HEALTH CARE AND SOCIAL ASSISTANCE",27,390,11407200,29200]
[null,"ARTS, ENTERTAINMENT, AND RECREATION","Confidential","Confidential","Confidential","Confidential"]
[null,"ACCOMMODATION AND FOOD SERVICES",27,370,4657000,12600]
[null,"OTHER SERVICES, EXCEPT PUBLIC ADMIN",37,290,14822400,51100]
[null,"UNCLASSIFIED","Data included in Total UI Covered"]
[]
["Local Government"]
[null,"LOCAL GOVERNMENT",28,870,23716100,27300]
[null,"EDUCATIONAL SERVICES",13,490,16014300,32700]
[null,"HEALTH CARE AND SOCIAL ASSISTANCE",0,"0",0,0]
[]
["State Government"]
[null,"STATE GOVERNMENT",9,70,2741700,39200]
[null,"EDUCATIONAL SERVICES",0,"0",0,0]
[null,"HEALTH CARE AND SOCIAL ASSISTANCE",0,"0",0,0]
[]
["Total UI Covered"]
[null,"TOTAL UI COVERED",442,6820,239929000,35200]
[]
["Federal Government"]
[null,"FEDERAL GOVERNMENT",15,70,2736100,39100]
[]
[]
["*Less than 5 employees unrounded"]
[]
[]
[]
[]
[]
[]
[]
[]
[]
[]
[]
[]
[]
[]
[]
[]
[]
[]
[]
[]
[]
[]
[]
[]
[]
[]
[]
["Telephone:  800-784-0360",null,null,null,"Released ","2015-09-17T12:56:13.250"]

{"sheet":"Starke (149)","index":78,"n_rows":75,"n_cols":6,"rows_kept":75,"cut":false,"hidden":false,"merged":[[27,2,27,5],[0,1,0,5],[1,1,1,5],[2,1,2,5]]}
[null,"UI COVERED EMPLOYMENT"]
[null,"Starke County"]
[null,"2014 Annual Averages"]
[]
[]
[]
["NAICS Sectors/Ownership",null,"Number of Reporting Units","Average Number of Workers","Total Annual Wages","Average Annual Wages"]
["Private Ownership Only",null,"not rounded","rounded to tens","rounded to hundreds","rounded to hundreds"]
[null,"AGRICULTURE, FORESTRY, FISHING AND HUNTI",18,100,2385200,23900]
[null,"MINING, QUARRYING, AND OIL AND GAS EXTRA",0,"0",0,0]
[null,"UTILITIES",0,"0",0,0]
[null,"CONSTRUCTION",26,70,1858900,26600]
[null,"MANUFACTURING",21,870,32296800,37100]
[null,"WHOLESALE TRADE",18,140,7153300,51100]
[null,"RETAIL TRADE",54,600,13798100,23000]
[null,"TRANSPORTATION AND WAREHOUSING",15,40,1365400,34100]
[null,"INFORMATION",6,40,1405100,35100]
[null,"FINANCE AND INSURANCE",15,70,2105100,30100]
[null,"REAL ESTATE AND RENTAL AND LEASING",15,30,388100,12900]
[null,"PROFESSIONAL AND TECHNICAL SERVICES",17,60,1542000,25700]
[null,"MANAGEMENT OF COMPANIES AND ENTERPRISES",0,"0",0,0]
[null,"ADMINISTRATIVE AND WASTE SERVICES",9,210,4881400,23200]
[null,"EDUCATIONAL SERVICES","Confidential","Confidential","Confidential","Confidential"]
[null,"HEALTH CARE AND SOCIAL ASSISTANCE",23,450,13953000,31000]
[null,"ARTS, ENTERTAINMENT, AND RECREATION",5,30,389500,13000]
[null,"ACCOMMODATION AND FOOD SERVICES",25,530,5937700,11200]
[null,"OTHER SERVICES, EXCEPT PUBLIC ADMIN",25,70,1908900,27300]
[null,"UNCLASSIFIED","Data included in Total UI Covered"]
[]
["Local Government"]
[null,"LOCAL GOVERNMENT",13,950,27892600,29400]
[null,"EDUCATIONAL SERVICES",3,660,20347100,30800]
[null,"HEALTH CARE AND SOCIAL ASSISTANCE",0,"0",0,0]
[]
["State Government"]
[null,"STATE GOVERNMENT",7,50,1735700,34700]
[null,"EDUCATIONAL SERVICES",0,"0",0,0]
[null,"HEALTH CARE AND SOCIAL ASSISTANCE",0,"0",0,0]
[]
["Total UI Covered"]
[null,"TOTAL UI COVERED",310,4280,121023000,28300]
[]
["Federal Government"]
[null,"FEDERAL GOVERNMENT",7,40,2009900,50200]
[]
[]
["*Less than 5 employees unrounded"]
[]
[]
[]
[]
[]
[]
[]
[]
[]
[]
[]
[]
[]
[]
[]
[]
[]
[]
[]
[]
[]
[]
[]
[]
[]
[]
[]
["Telephone:  800-784-0360",null,null,null,"Released ","2015-09-17T12:56:38.600"]

{"sheet":"Steuben (151)","index":79,"n_rows":75,"n_cols":6,"rows_kept":75,"cut":false,"hidden":false,"merged":[[27,2,27,5],[0,1,0,5],[1,1,1,5],[2,1,2,5]]}
[null,"UI COVERED EMPLOYMENT"]
[null,"Steuben County"]
[null,"2014 Annual Averages"]
[]
[]
[]
["NAICS Sectors/Ownership",null,"Number of Reporting Units","Average Number of Workers","Total Annual Wages","Average Annual Wages"]
["Private Ownership Only",null,"not rounded","rounded to tens","rounded to hundreds","rounded to hundreds"]
[null,"AGRICULTURE, FORESTRY, FISHING AND HUNTI",15,90,2734400,30400]
[null,"MINING, QUARRYING, AND OIL AND GAS EXTRA",5,10,245500,24600]
[null,"UTILITIES",3,60,5007300,83500]
[null,"CONSTRUCTION",92,450,18353300,40800]
[null,"MANUFACTURING",95,5130,206366600,40200]
[null,"WHOLESALE TRADE",41,250,10653200,42600]
[null,"RETAIL TRADE",160,2030,40945700,20200]
[null,"TRANSPORTATION AND WAREHOUSING",42,570,28907100,50700]
[null,"INFORMATION",7,80,4443500,55500]
[null,"FINANCE AND INSURANCE",37,160,6065500,37900]
[null,"REAL ESTATE AND RENTAL AND LEASING",36,100,2520100,25200]
[null,"PROFESSIONAL AND TECHNICAL SERVICES",60,180,6847200,38000]
[null,"MANAGEMENT OF COMPANIES AND ENTERPRISES",3,10,810800,81100]
[null,"ADMINISTRATIVE AND WASTE SERVICES",43,1030,27253100,26500]
[null,"EDUCATIONAL SERVICES","Confidential","Confidential","Confidential","Confidential"]
[null,"HEALTH CARE AND SOCIAL ASSISTANCE",49,1260,35281500,28000]
[null,"ARTS, ENTERTAINMENT, AND RECREATION",23,80,1366200,17100]
[null,"ACCOMMODATION AND FOOD SERVICES",93,1540,18837000,12200]
[null,"OTHER SERVICES, EXCEPT PUBLIC ADMIN",78,390,9092600,23300]
[null,"UNCLASSIFIED","Data included in Total UI Covered"]
[]
["Local Government"]
[null,"LOCAL GOVERNMENT",35,1220,36752400,30100]
[null,"EDUCATIONAL SERVICES",14,630,20967100,33300]
[null,"HEALTH CARE AND SOCIAL ASSISTANCE",0,"0",0,0]
[]
["State Government"]
[null,"STATE GOVERNMENT",9,250,5868100,23500]
[null,"EDUCATIONAL SERVICES",0,"0",0,0]
[null,"HEALTH CARE AND SOCIAL ASSISTANCE",0,"0",0,0]
[]
["Total UI Covered"]
[null,"TOTAL UI COVERED",930,15430,485024400,31400]
[]
["Federal Government"]
[null,"FEDERAL GOVERNMENT",9,60,3130700,52200]
[]
[]
["*Less than 5 employees unrounded"]
[]
[]
[]
[]
[]
[]
[]
[]
[]
[]
[]
[]
[]
[]
[]
[]
[]
[]
[]
[]
[]
[]
[]
[]
[]
[]
[]
["Telephone:  800-784-0360",null,null,null,"Released ","2015-09-17T12:57:04.920"]

{"sheet":"Sullivan (153)","index":80,"n_rows":75,"n_cols":6,"rows_kept":75,"cut":false,"hidden":false,"merged":[[27,2,27,5],[0,1,0,5],[1,1,1,5],[2,1,2,5]]}
[null,"UI COVERED EMPLOYMENT"]
[null,"Sullivan County"]
[null,"2014 Annual Averages"]
[]
[]
[]
["NAICS Sectors/Ownership",null,"Number of Reporting Units","Average Number of Workers","Total Annual Wages","Average Annual Wages"]
["Private Ownership Only",null,"not rounded","rounded to tens","rounded to hundreds","rounded to hundreds"]
[null,"AGRICULTURE, FORESTRY, FISHING AND HUNTI",13,50,1833000,36700]
[null,"MINING, QUARRYING, AND OIL AND GAS EXTRA",5,870,69272300,79600]
[null,"UTILITIES",7,240,19740400,82300]
[null,"CONSTRUCTION",31,100,3418900,34200]
[null,"MANUFACTURING",17,760,28917600,38000]
[null,"WHOLESALE TRADE",22,170,8057100,47400]
[null,"RETAIL TRADE",52,620,13429500,21700]
[null,"TRANSPORTATION AND WAREHOUSING",22,140,4732300,33800]
[null,"INFORMATION",7,140,4897200,35000]
[null,"FINANCE AND INSURANCE",17,110,4394300,39900]
[null,"REAL ESTATE AND RENTAL AND LEASING",7,20,265600,13300]
[null,"PROFESSIONAL AND TECHNICAL SERVICES",28,120,3554600,29600]
[null,"MANAGEMENT OF COMPANIES AND ENTERPRISES",0,"0",0,0]
[null,"ADMINISTRATIVE AND WASTE SERVICES",12,60,1583100,26400]
[null,"EDUCATIONAL SERVICES",5,60,1264900,21100]
[null,"HEALTH CARE AND SOCIAL ASSISTANCE",22,350,7760600,22200]
[null,"ARTS, ENTERTAINMENT, AND RECREATION","Confidential","Confidential","Confidential","Confidential"]
[null,"ACCOMMODATION AND FOOD SERVICES",30,420,4739900,11300]
[null,"OTHER SERVICES, EXCEPT PUBLIC ADMIN",25,100,1731300,17300]
[null,"UNCLASSIFIED","Data included in Total UI Covered"]
[]
["Local Government"]
[null,"LOCAL GOVERNMENT",23,1070,33190900,31000]
[null,"EDUCATIONAL SERVICES",2,390,12538600,32200]
[null,"HEALTH CARE AND SOCIAL ASSISTANCE",2,300,13183100,43900]
[]
["State Government"]
[null,"STATE GOVERNMENT",17,680,25814200,38000]
[null,"EDUCATIONAL SERVICES",0,"0",0,0]
[null,"HEALTH CARE AND SOCIAL ASSISTANCE",0,"0",0,0]
[]
["Total UI Covered"]
[null,"TOTAL UI COVERED",360,6120,238950500,39000]
[]
["Federal Government"]
[null,"FEDERAL GOVERNMENT",12,50,2118400,42400]
[]
[]
["*Less than 5 employees unrounded"]
[]
[]
[]
[]
[]
[]
[]
[]
[]
[]
[]
[]
[]
[]
[]
[]
[]
[]
[]
[]
[]
[]
[]
[]
[]
[]
[]
["Telephone:  800-784-0360",null,null,null,"Released ","2015-09-17T12:57:52.630"]

{"sheet":"Switzerland (155)","index":81,"n_rows":75,"n_cols":6,"rows_kept":75,"cut":false,"hidden":false,"merged":[[27,2,27,5],[0,1,0,5],[1,1,1,5],[2,1,2,5]]}
[null,"UI COVERED EMPLOYMENT"]
[null,"Switzerland County"]
[null,"2014 Annual Averages"]
[]
[]
[]
["NAICS Sectors/Ownership",null,"Number of Reporting Units","Average Number of Workers","Total Annual Wages","Average Annual Wages"]
["Private Ownership Only",null,"not rounded","rounded to tens","rounded to hundreds","rounded to hundreds"]
[null,"AGRICULTURE, FORESTRY, FISHING AND HUNTI","Confidential","Confidential","Confidential","Confidential"]
[null,"MINING, QUARRYING, AND OIL AND GAS EXTRA","Confidential","Confidential","Confidential","Confidential"]
[null,"UTILITIES",3,10,495800,49600]
[null,"CONSTRUCTION",13,30,1549500,51700]
[null,"MANUFACTURING",6,90,2663000,29600]
[null,"WHOLESALE TRADE","Confidential","Confidential","Confidential","Confidential"]
[null,"RETAIL TRADE",19,140,2269100,16200]
[null,"TRANSPORTATION AND WAREHOUSING","Confidential","Confidential","Confidential","Confidential"]
[null,"INFORMATION",4,10,308200,30800]
[null,"FINANCE AND INSURANCE",4,20,613400,30700]
[null,"REAL ESTATE AND RENTAL AND LEASING",0,"0",0,0]
[null,"PROFESSIONAL AND TECHNICAL SERVICES",8,10,228900,22900]
[null,"MANAGEMENT OF COMPANIES AND ENTERPRISES",0,"0",0,0]
[null,"ADMINISTRATIVE AND WASTE SERVICES","Confidential","Confidential","Confidential","Confidential"]
[null,"EDUCATIONAL SERVICES","Confidential","Confidential","Confidential","Confidential"]
[null,"HEALTH CARE AND SOCIAL ASSISTANCE",7,110,4039100,36700]
[null,"ARTS, ENTERTAINMENT, AND RECREATION","Confidential","Confidential","Confidential","Confidential"]
[null,"ACCOMMODATION AND FOOD SERVICES",18,120,2353300,19600]
[null,"OTHER SERVICES, EXCEPT PUBLIC ADMIN",11,60,1036400,17300]
[null,"UNCLASSIFIED","Data included in Total UI Covered"]
[]
["Local Government"]
[null,"LOCAL GOVERNMENT",12,410,12607800,30800]
[null,"EDUCATIONAL SERVICES",5,250,7831600,31300]
[null,"HEALTH CARE AND SOCIAL ASSISTANCE",0,"0",0,0]
[]
["State Government"]
[null,"STATE GOVERNMENT",7,30,1468600,49000]
[null,"EDUCATIONAL SERVICES",0,"0",0,0]
[null,"HEALTH CARE AND SOCIAL ASSISTANCE",0,"0",0,0]
[]
["Total UI Covered"]
[null,"TOTAL UI COVERED",122,2060,61735400,30000]
[]
["Federal Government"]
[null,"FEDERAL GOVERNMENT",6,20,949200,47500]
[]
[]
["*Less than 5 employees unrounded"]
[]
[]
[]
[]
[]
[]
[]
[]
[]
[]
[]
[]
[]
[]
[]
[]
[]
[]
[]
[]
[]
[]
[]
[]
[]
[]
[]
["Telephone:  800-784-0360",null,null,null,"Released ","2015-09-17T12:58:28.250"]

{"sheet":"Tippecanoe (157)","index":82,"n_rows":75,"n_cols":6,"rows_kept":75,"cut":false,"hidden":false,"merged":[[27,2,27,5],[0,1,0,5],[1,1,1,5],[2,1,2,5]]}
[null,"UI COVERED EMPLOYMENT"]
[null,"Tippecanoe County"]
[null,"2014 Annual Averages"]
[]
[]
[]
["NAICS Sectors/Ownership",null,"Number of Reporting Units","Average Number of Workers","Total Annual Wages","Average Annual Wages"]
["Private Ownership Only",null,"not rounded","rounded to tens","rounded to hundreds","rounded to hundreds"]
[null,"AGRICULTURE, FORESTRY, FISHING AND HUNTI",35,280,10142600,36200]
[null,"MINING, QUARRYING, AND OIL AND GAS EXTRA","Confidential","Confidential","Confidential","Confidential"]
[null,"UTILITIES",5,90,6678500,74200]
[null,"CONSTRUCTION",289,2700,117656100,43600]
[null,"MANUFACTURING",118,14280,931344300,65200]
[null,"WHOLESALE TRADE",151,1650,90880000,55100]
[null,"RETAIL TRADE",498,9250,214036800,23100]
[null,"TRANSPORTATION AND WAREHOUSING",93,1780,71786600,40300]
[null,"INFORMATION",40,830,30762400,37100]
[null,"FINANCE AND INSURANCE",215,1910,102780400,53800]
[null,"REAL ESTATE AND RENTAL AND LEASING",178,1120,39286600,35100]
[null,"PROFESSIONAL AND TECHNICAL SERVICES",341,2420,145715500,60200]
[null,"MANAGEMENT OF COMPANIES AND ENTERPRISES",17,200,16782300,83900]
[null,"ADMINISTRATIVE AND WASTE SERVICES",160,4890,117144000,24000]
[null,"EDUCATIONAL SERVICES",33,300,5850500,19500]
[null,"HEALTH CARE AND SOCIAL ASSISTANCE",284,10270,430231600,41900]
[null,"ARTS, ENTERTAINMENT, AND RECREATION",56,510,6224700,12200]
[null,"ACCOMMODATION AND FOOD SERVICES",383,8130,116891100,14400]
[null,"OTHER SERVICES, EXCEPT PUBLIC ADMIN",295,2030,61055600,30100]
[null,"UNCLASSIFIED","Data included in Total UI Covered"]
[]
["Local Government"]
[null,"LOCAL GOVERNMENT",28,5320,194179700,36500]
[null,"EDUCATIONAL SERVICES",7,3320,116784600,35200]
[null,"HEALTH CARE AND SOCIAL ASSISTANCE",1,10,151400,15100]
[]
["State Government"]
[null,"STATE GOVERNMENT",22,12010,687225500,57200]
[null,"EDUCATIONAL SERVICES",3,11450,667557300,58300]
[null,"HEALTH CARE AND SOCIAL ASSISTANCE",1,250,8217500,32900]
[]
["Total UI Covered"]
[null,"TOTAL UI COVERED",3242,79990,3398459900,42500]
[]
["Federal Government"]
[null,"FEDERAL GOVERNMENT",25,460,28618400,62200]
[]
[]
["*Less than 5 employees unrounded"]
[]
[]
[]
[]
[]
[]
[]
[]
[]
[]
[]
[]
[]
[]
[]
[]
[]
[]
[]
[]
[]
[]
[]
[]
[]
[]
[]
["Telephone:  800-784-0360",null,null,null,"Released ","2015-09-17T12:59:02.520"]

{"sheet":"Tipton (159)","index":83,"n_rows":75,"n_cols":6,"rows_kept":75,"cut":false,"hidden":false,"merged":[[27,2,27,5],[0,1,0,5],[1,1,1,5],[2,1,2,5]]}
[null,"UI COVERED EMPLOYMENT"]
[null,"Tipton County"]
[null,"2014 Annual Averages"]
[null,"2014 Annual Averages"]
[]
[]
["NAICS Sectors/Ownership",null,"Number of Reporting Units","Average Number of Workers","Total Annual Wages","Average Annual Wages"]
["Private Ownership Only",null,"not rounded","rounded to tens","rounded to hundreds","rounded to hundreds"]
[null,"AGRICULTURE, FORESTRY, FISHING AND HUNTI",26,390,18610500,47700]
[null,"MINING, QUARRYING, AND OIL AND GAS EXTRA","Confidential","Confidential","Confidential","Confidential"]
[null,"UTILITIES",0,"0",0,0]
[null,"CONSTRUCTION",46,340,14391600,42300]
[null,"MANUFACTURING",22,950,45953500,48400]
[null,"WHOLESALE TRADE",19,150,7021000,46800]
[null,"RETAIL TRADE",39,410,12340300,30100]
[null,"TRANSPORTATION AND WAREHOUSING",10,20,780000,39000]
[null,"INFORMATION",6,20,768700,38400]
[null,"FINANCE AND INSURANCE",15,100,4600200,46000]
[null,"REAL ESTATE AND RENTAL AND LEASING",4,10,171400,17100]
[null,"PROFESSIONAL AND TECHNICAL SERVICES",25,140,7543200,53900]
[null,"MANAGEMENT OF COMPANIES AND ENTERPRISES",3,40,2397300,59900]
[null,"ADMINISTRATIVE AND WASTE SERVICES",9,40,972800,24300]
[null,"EDUCATIONAL SERVICES","Confidential","Confidential","Confidential","Confidential"]
[null,"HEALTH CARE AND SOCIAL ASSISTANCE",16,470,18243800,38800]
[null,"ARTS, ENTERTAINMENT, AND RECREATION","Confidential","Confidential","Confidential","Confidential"]
[null,"ACCOMMODATION AND FOOD SERVICES",21,310,3137500,10100]
[null,"OTHER SERVICES, EXCEPT PUBLIC ADMIN",21,90,2140200,23800]
[null,"UNCLASSIFIED","Data included in Total UI Covered"]
[]
["Local Government"]
[null,"LOCAL GOVERNMENT",15,720,20493800,28500]
[null,"EDUCATIONAL SERVICES",6,390,12239800,31400]
[null,"HEALTH CARE AND SOCIAL ASSISTANCE",0,"0",0,0]
[]
["State Government"]
[null,"STATE GOVERNMENT",7,40,1575200,39400]
[null,"EDUCATIONAL SERVICES",0,"0",0,0]
[null,"HEALTH CARE AND SOCIAL ASSISTANCE",0,"0",0,0]
[]
["Total UI Covered"]
[null,"TOTAL UI COVERED",305,4220,161237200,38200]
[]
["Federal Government"]
[null,"FEDERAL GOVERNMENT",6,40,1554100,38900]
[]
[]
["*Less than 5 employees unrounded"]
[]
[]
[]
[]
[]
[]
[]
[]
[]
[]
[]
[]
[]
[]
[]
[]
[]
[]
[]
[]
[]
[]
[]
[]
[]
[]
[]
["Telephone:  800-784-0360",null,null,null,"Released ","2015-09-17T12:59:50.340"]

{"sheet":"Union (161)","index":84,"n_rows":75,"n_cols":6,"rows_kept":75,"cut":false,"hidden":false,"merged":[[27,2,27,5],[0,1,0,5],[1,1,1,5],[2,1,2,5]]}
[null,"UI COVERED EMPLOYMENT"]
[null,"Union County"]
[null,"2014 Annual Averages"]
[]
[]
[]
["NAICS Sectors/Ownership",null,"Number of Reporting Units","Average Number of Workers","Total Annual Wages","Average Annual Wages"]
["Private Ownership Only",null,"not rounded","rounded to tens","rounded to hundreds","rounded to hundreds"]
[null,"AGRICULTURE, FORESTRY, FISHING AND HUNTI",4,20,432400,21600]
[null,"MINING, QUARRYING, AND OIL AND GAS EXTRA",0,"0",0,0]
[null,"UTILITIES","Confidential","Confidential","Confidential","Confidential"]
[null,"CONSTRUCTION",11,40,1568600,39200]
[null,"MANUFACTURING",7,220,9706400,44100]
[null,"WHOLESALE TRADE",6,60,2103000,35100]
[null,"RETAIL TRADE",25,170,2938400,17300]
[null,"TRANSPORTATION AND WAREHOUSING",8,30,1192500,39800]
[null,"INFORMATION",0,"0",0,0]
[null,"FINANCE AND INSURANCE",5,30,701700,23400]
[null,"REAL ESTATE AND RENTAL AND LEASING","Confidential","Confidential","Confidential","Confidential"]
[null,"PROFESSIONAL AND TECHNICAL SERVICES",7,20,436400,21800]
[null,"MANAGEMENT OF COMPANIES AND ENTERPRISES",0,"0",0,0]
[null,"ADMINISTRATIVE AND WASTE SERVICES",4,10,209900,21000]
[null,"EDUCATIONAL SERVICES","Confidential","Confidential","Confidential","Confidential"]
[null,"HEALTH CARE AND SOCIAL ASSISTANCE",7,100,2526600,25300]
[null,"ARTS, ENTERTAINMENT, AND RECREATION","Confidential","Confidential","Confidential","Confidential"]
[null,"ACCOMMODATION AND FOOD SERVICES",9,120,1630900,13600]
[null,"OTHER SERVICES, EXCEPT PUBLIC ADMIN",15,30,884700,29500]
[null,"UNCLASSIFIED","Data included in Total UI Covered"]
[]
["Local Government"]
[null,"LOCAL GOVERNMENT",9,390,10882400,27900]
[null,"EDUCATIONAL SERVICES",1,260,8181200,31500]
[null,"HEALTH CARE AND SOCIAL ASSISTANCE",0,"0",0,0]
[]
["State Government"]
[null,"STATE GOVERNMENT",7,40,1423500,35600]
[null,"EDUCATIONAL SERVICES",0,"0",0,0]
[null,"HEALTH CARE AND SOCIAL ASSISTANCE",0,"0",0,0]
[]
["Total UI Covered"]
[null,"TOTAL UI COVERED",129,1310,38513800,29400]
[]
["Federal Government"]
[null,"FEDERAL GOVERNMENT",2,20,658800,32900]
[]
[]
["*Less than 5 employees unrounded"]
[]
[]
[]
[]
[]
[]
[]
[]
[]
[]
[]
[]
[]
[]
[]
[]
[]
[]
[]
[]
[]
[]
[]
[]
[]
[]
[]
["Telephone:  800-784-0360",null,null,null,"Released ","2015-09-17T13:00:12.660"]

{"sheet":"Vanderburgh (163)","index":85,"n_rows":75,"n_cols":6,"rows_kept":75,"cut":false,"hidden":false,"merged":[[27,2,27,5],[0,1,0,5],[1,1,1,5],[2,1,2,5]]}
[null,"UI COVERED EMPLOYMENT"]
[null,"Vanderburgh County"]
[null,"2014 Annual Averages"]
[]
[]
[]
["NAICS Sectors/Ownership",null,"Number of Reporting Units","Average Number of Workers","Total Annual Wages","Average Annual Wages"]
["Private Ownership Only",null,"not rounded","rounded to tens","rounded to hundreds","rounded to hundreds"]
[null,"AGRICULTURE, FORESTRY, FISHING AND HUNTI",22,130,5228100,40200]
[null,"MINING, QUARRYING, AND OIL AND GAS EXTRA",23,170,12176000,71600]
[null,"UTILITIES",8,780,58552800,75100]
[null,"CONSTRUCTION",426,7000,401183100,57300]
[null,"MANUFACTURING",241,12430,734762600,59100]
[null,"WHOLESALE TRADE",301,4140,213069000,51500]
[null,"RETAIL TRADE",731,12320,308798200,25100]
[null,"TRANSPORTATION AND WAREHOUSING",112,4100,158539600,38700]
[null,"INFORMATION",59,1470,69760200,47500]
[null,"FINANCE AND INSURANCE",263,1990,111387500,56000]
[null,"REAL ESTATE AND RENTAL AND LEASING",187,1300,40051600,30800]
[null,"PROFESSIONAL AND TECHNICAL SERVICES",445,3550,207937400,58600]
[null,"MANAGEMENT OF COMPANIES AND ENTERPRISES",52,3120,254992800,81700]
[null,"ADMINISTRATIVE AND WASTE SERVICES",252,7400,197587200,26700]
[null,"EDUCATIONAL SERVICES",65,2000,59983200,30000]
[null,"HEALTH CARE AND SOCIAL ASSISTANCE",531,17860,813227400,45500]
[null,"ARTS, ENTERTAINMENT, AND RECREATION",64,2130,42209700,19800]
[null,"ACCOMMODATION AND FOOD SERVICES",431,9990,139576000,14000]
[null,"OTHER SERVICES, EXCEPT PUBLIC ADMIN",421,3810,108499100,28500]
[null,"UNCLASSIFIED","Data included in Total UI Covered"]
[]
["Local Government"]
[null,"LOCAL GOVERNMENT",22,6100,239231200,39200]
[null,"EDUCATIONAL SERVICES",1,3430,125938700,36700]
[null,"HEALTH CARE AND SOCIAL ASSISTANCE",0,"0",0,0]
[]
["State Government"]
[null,"STATE GOVERNMENT",25,2420,95973300,39700]
[null,"EDUCATIONAL SERVICES",2,1670,65696200,39300]
[null,"HEALTH CARE AND SOCIAL ASSISTANCE",2,390,15601000,40000]
[]
["Total UI Covered"]
[null,"TOTAL UI COVERED",4676,104230,4272809500,41000]
[]
["Federal Government"]
[null,"FEDERAL GOVERNMENT",30,950,62273900,65600]
[]
[]
["*Less than 5 employees unrounded"]
[]
[]
[]
[]
[]
[]
[]
[]
[]
[]
[]
[]
[]
[]
[]
[]
[]
[]
[]
[]
[]
[]
[]
[]
[]
[]
[]
["Telephone:  800-784-0360",null,null,null,"Released ","2015-09-17T13:00:37.760"]

{"sheet":"Vermillion (165)","index":86,"n_rows":75,"n_cols":6,"rows_kept":75,"cut":false,"hidden":false,"merged":[[27,2,27,5],[0,1,0,5],[1,1,1,5],[2,1,2,5]]}
[null,"UI COVERED EMPLOYMENT"]
[null,"Vermillion County"]
[null,"2014 Annual Averages"]
[]
[]
[]
["NAICS Sectors/Ownership",null,"Number of Reporting Units","Average Number of Workers","Total Annual Wages","Average Annual Wages"]
["Private Ownership Only",null,"not rounded","rounded to tens","rounded to hundreds","rounded to hundreds"]
[null,"AGRICULTURE, FORESTRY, FISHING AND HUNTI",12,80,2822300,35300]
[null,"MINING, QUARRYING, AND OIL AND GAS EXTRA","Confidential","Confidential","Confidential","Confidential"]
[null,"UTILITIES",8,160,15056900,94100]
[null,"CONSTRUCTION",33,670,38177300,57000]
[null,"MANUFACTURING",10,680,53385600,78500]
[null,"WHOLESALE TRADE",10,40,4393300,109800]
[null,"RETAIL TRADE",51,560,13364200,23900]
[null,"TRANSPORTATION AND WAREHOUSING",15,90,3861400,42900]
[null,"INFORMATION",3,30,897800,29900]
[null,"FINANCE AND INSURANCE",18,80,2777600,34700]
[null,"REAL ESTATE AND RENTAL AND LEASING","Confidential","Confidential","Confidential","Confidential"]
[null,"PROFESSIONAL AND TECHNICAL SERVICES",16,80,5092200,63700]
[null,"MANAGEMENT OF COMPANIES AND ENTERPRISES","Confidential","Confidential","Confidential","Confidential"]
[null,"ADMINISTRATIVE AND WASTE SERVICES",9,40,830800,20800]
[null,"EDUCATIONAL SERVICES",0,"0",0,0]
[null,"HEALTH CARE AND SOCIAL ASSISTANCE",17,520,19517300,37500]
[null,"ARTS, ENTERTAINMENT, AND RECREATION",3,20,185700,9300]
[null,"ACCOMMODATION AND FOOD SERVICES",29,420,5630100,13400]
[null,"OTHER SERVICES, EXCEPT PUBLIC ADMIN",28,80,3176800,39700]
[null,"UNCLASSIFIED","Data included in Total UI Covered"]
[]
["Local Government"]
[null,"LOCAL GOVERNMENT",18,640,18356300,28700]
[null,"EDUCATIONAL SERVICES",2,450,13549500,30100]
[null,"HEALTH CARE AND SOCIAL ASSISTANCE",0,"0",0,0]
[]
["State Government"]
[null,"STATE GOVERNMENT",10,40,1563300,39100]
[null,"EDUCATIONAL SERVICES",0,"0",0,0]
[null,"HEALTH CARE AND SOCIAL ASSISTANCE",0,"0",0,0]
[]
["Total UI Covered"]
[null,"TOTAL UI COVERED",295,4280,191763000,44800]
[]
["Federal Government"]
[null,"FEDERAL GOVERNMENT",9,30,1261200,42000]
[]
[]
["*Less than 5 employees unrounded"]
[]
[]
[]
[]
[]
[]
[]
[]
[]
[]
[]
[]
[]
[]
[]
[]
[]
[]
[]
[]
[]
[]
[]
[]
[]
[]
[]
["Telephone:  800-784-0360",null,null,null,"Released ","2015-09-17T13:01:28.650"]

{"sheet":"Vigo (167)","index":87,"n_rows":75,"n_cols":6,"rows_kept":75,"cut":false,"hidden":false,"merged":[[27,2,27,5],[0,1,0,5],[1,1,1,5],[2,1,2,5]]}
[null,"UI COVERED EMPLOYMENT"]
[null,"Vigo County"]
[null,"2014 Annual Averages"]
[]
[]
[]
["NAICS Sectors/Ownership",null,"Number of Reporting Units","Average Number of Workers","Total Annual Wages","Average Annual Wages"]
["Private Ownership Only",null,"not rounded","rounded to tens","rounded to hundreds","rounded to hundreds"]
[null,"AGRICULTURE, FORESTRY, FISHING AND HUNTI",17,80,2476600,31000]
[null,"MINING, QUARRYING, AND OIL AND GAS EXTRA",6,70,4988700,71300]
[null,"UTILITIES",10,230,21504100,93500]
[null,"CONSTRUCTION",181,1910,94285400,49400]
[null,"MANUFACTURING",113,6940,348123300,50200]
[null,"WHOLESALE TRADE",101,1180,54291000,46000]
[null,"RETAIL TRADE",375,6400,142134800,22200]
[null,"TRANSPORTATION AND WAREHOUSING",67,1200,45341900,37800]
[null,"INFORMATION",20,440,16870500,38300]
[null,"FINANCE AND INSURANCE",157,1500,69920000,46600]
[null,"REAL ESTATE AND RENTAL AND LEASING",86,570,22250700,39000]
[null,"PROFESSIONAL AND TECHNICAL SERVICES",179,920,41415900,45000]
[null,"MANAGEMENT OF COMPANIES AND ENTERPRISES",14,320,15731600,49200]
[null,"ADMINISTRATIVE AND WASTE SERVICES",129,3760,77263200,20500]
[null,"EDUCATIONAL SERVICES",23,1320,59359100,45000]
[null,"HEALTH CARE AND SOCIAL ASSISTANCE",323,7720,348724200,45200]
[null,"ARTS, ENTERTAINMENT, AND RECREATION",36,350,5209300,14900]
[null,"ACCOMMODATION AND FOOD SERVICES",253,5180,70377300,13600]
[null,"OTHER SERVICES, EXCEPT PUBLIC ADMIN",234,1360,38554400,28300]
[null,"UNCLASSIFIED","Data included in Total UI Covered"]
[]
["Local Government"]
[null,"LOCAL GOVERNMENT",48,3710,135522300,36500]
[null,"EDUCATIONAL SERVICES",29,1850,71707000,38800]
[null,"HEALTH CARE AND SOCIAL ASSISTANCE",0,"0",0,0]
[]
["State Government"]
[null,"STATE GOVERNMENT",20,2580,116413700,45100]
[null,"EDUCATIONAL SERVICES",2,2310,105249200,45600]
[null,"HEALTH CARE AND SOCIAL ASSISTANCE",0,"0",0,0]
[]
["Total UI Covered"]
[null,"TOTAL UI COVERED",2390,47750,1730757900,36200]
[]
["Federal Government"]
[null,"FEDERAL GOVERNMENT",26,1090,74533400,68400]
[]
[]
["*Less than 5 employees unrounded"]
[]
[]
[]
[]
[]
[]
[]
[]
[]
[]
[]
[]
[]
[]
[]
[]
[]
[]
[]
[]
[]
[]
[]
[]
[]
[]
[]
["Telephone:  800-784-0360",null,null,null,"Released ","2015-09-17T13:01:47.380"]

{"sheet":"Wabash (169)","index":88,"n_rows":75,"n_cols":6,"rows_kept":75,"cut":false,"hidden":false,"merged":[[27,2,27,5],[0,1,0,5],[1,1,1,5],[2,1,2,5]]}
[null,"UI COVERED EMPLOYMENT"]
[null,"Wabash County"]
[null,"2014 Annual Averages"]
[]
[]
[]
["NAICS Sectors/Ownership",null,"Number of Reporting Units","Average Number of Workers","Total Annual Wages","Average Annual Wages"]
["Private Ownership Only",null,"not rounded","rounded to tens","rounded to hundreds","rounded to hundreds"]
[null,"AGRICULTURE, FORESTRY, FISHING AND HUNTI",41,500,16698900,33400]
[null,"MINING, QUARRYING, AND OIL AND GAS EXTRA","Confidential","Confidential","Confidential","Confidential"]
[null,"UTILITIES",3,40,3078600,77000]
[null,"CONSTRUCTION",76,460,19156400,41600]
[null,"MANUFACTURING",65,3030,142929800,47200]
[null,"WHOLESALE TRADE",34,390,20101500,51500]
[null,"RETAIL TRADE",119,1340,32644600,24400]
[null,"TRANSPORTATION AND WAREHOUSING",24,70,2579500,36900]
[null,"INFORMATION",9,80,2407800,30100]
[null,"FINANCE AND INSURANCE",42,300,14067100,46900]
[null,"REAL ESTATE AND RENTAL AND LEASING",23,100,2425600,24300]
[null,"PROFESSIONAL AND TECHNICAL SERVICES",44,190,7959200,41900]
[null,"MANAGEMENT OF COMPANIES AND ENTERPRISES",3,120,2082500,17400]
[null,"ADMINISTRATIVE AND WASTE SERVICES",23,200,7007900,35000]
[null,"EDUCATIONAL SERVICES","Confidential","Confidential","Confidential","Confidential"]
[null,"HEALTH CARE AND SOCIAL ASSISTANCE",60,1620,43052900,26600]
[null,"ARTS, ENTERTAINMENT, AND RECREATION",10,240,3406100,14200]
[null,"ACCOMMODATION AND FOOD SERVICES",61,1090,13321000,12200]
[null,"OTHER SERVICES, EXCEPT PUBLIC ADMIN",66,260,5117200,19700]
[null,"UNCLASSIFIED","Data included in Total UI Covered"]
[]
["Local Government"]
[null,"LOCAL GOVERNMENT",25,1760,58413400,33200]
[null,"EDUCATIONAL SERVICES",12,1000,29782300,29800]
[null,"HEALTH CARE AND SOCIAL ASSISTANCE",2,310,16270400,52500]
[]
["State Government"]
[null,"STATE GOVERNMENT",13,100,3943700,39400]
[null,"EDUCATIONAL SERVICES",0,"0",0,0]
[null,"HEALTH CARE AND SOCIAL ASSISTANCE",0,"0",0,0]
[]
["Total UI Covered"]
[null,"TOTAL UI COVERED",743,12470,415890400,33400]
[]
["Federal Government"]
[null,"FEDERAL GOVERNMENT",12,70,3502300,50000]
[]
[]
["*Less than 5 employees unrounded"]
[]
[]
[]
[]
[]
[]
[]
[]
[]
[]
[]
[]
[]
[]
[]
[]
[]
[]
[]
[]
[]
[]
[]
[]
[]
[]
[]
["Telephone:  800-784-0360",null,null,null,"Released ","2015-09-17T13:02:15.570"]

{"sheet":"Warren (171)","index":89,"n_rows":75,"n_cols":6,"rows_kept":75,"cut":false,"hidden":false,"merged":[[27,2,27,5],[0,1,0,5],[1,1,1,5],[2,1,2,5]]}
[null,"UI COVERED EMPLOYMENT"]
[null,"Warren County"]
[null,"2014 Annual Averages"]
[]
[]
[]
["NAICS Sectors/Ownership",null,"Number of Reporting Units","Average Number of Workers","Total Annual Wages","Average Annual Wages"]
["Private Ownership Only",null,"not rounded","rounded to tens","rounded to hundreds","rounded to hundreds"]
[null,"AGRICULTURE, FORESTRY, FISHING AND HUNTI",12,140,5737200,41000]
[null,"MINING, QUARRYING, AND OIL AND GAS EXTRA","Confidential","Confidential","Confidential","Confidential"]
[null,"UTILITIES","Confidential","Confidential","Confidential","Confidential"]
[null,"CONSTRUCTION",18,90,3181700,35400]
[null,"MANUFACTURING",10,480,17210800,35900]
[null,"WHOLESALE TRADE",12,140,7289200,52100]
[null,"RETAIL TRADE",15,170,4643700,27300]
[null,"TRANSPORTATION AND WAREHOUSING",6,70,3436400,49100]
[null,"INFORMATION","Confidential","Confidential","Confidential","Confidential"]
[null,"FINANCE AND INSURANCE",7,30,1113500,37100]
[null,"REAL ESTATE AND RENTAL AND LEASING","Confidential","Confidential","Confidential","Confidential"]
[null,"PROFESSIONAL AND TECHNICAL SERVICES",7,30,538000,17900]
[null,"MANAGEMENT OF COMPANIES AND ENTERPRISES",0,"0",0,0]
[null,"ADMINISTRATIVE AND WASTE SERVICES","Confidential","Confidential","Confidential","Confidential"]
[null,"EDUCATIONAL SERVICES",0,"0",0,0]
[null,"HEALTH CARE AND SOCIAL ASSISTANCE",7,260,10511600,40400]
[null,"ARTS, ENTERTAINMENT, AND RECREATION",0,"0",0,0]
[null,"ACCOMMODATION AND FOOD SERVICES",5,30,301100,10000]
[null,"OTHER SERVICES, EXCEPT PUBLIC ADMIN",5,10,310600,31100]
[null,"UNCLASSIFIED","Data included in Total UI Covered"]
[]
["Local Government"]
[null,"LOCAL GOVERNMENT",11,320,9552900,29900]
[null,"EDUCATIONAL SERVICES",5,190,6212300,32700]
[null,"HEALTH CARE AND SOCIAL ASSISTANCE",0,"0",0,0]
[]
["State Government"]
[null,"STATE GOVERNMENT",8,20,1010800,50500]
[null,"EDUCATIONAL SERVICES",0,"0",0,0]
[null,"HEALTH CARE AND SOCIAL ASSISTANCE",0,"0",0,0]
[]
["Total UI Covered"]
[null,"TOTAL UI COVERED",133,1850,67327100,36400]
[]
["Federal Government"]
[null,"FEDERAL GOVERNMENT",6,20,590500,29500]
[]
[]
["*Less than 5 employees unrounded"]
[]
[]
[]
[]
[]
[]
[]
[]
[]
[]
[]
[]
[]
[]
[]
[]
[]
[]
[]
[]
[]
[]
[]
[]
[]
[]
[]
["Telephone:  800-784-0360",null,null,null,"Released ","2015-09-17T13:02:38.520"]

{"sheet":"Warrick (173)","index":90,"n_rows":75,"n_cols":6,"rows_kept":75,"cut":false,"hidden":false,"merged":[[27,2,27,5],[0,1,0,5],[1,1,1,5],[2,1,2,5]]}
[null,"UI COVERED EMPLOYMENT"]
[null,"Warrick County"]
[null,"2014 Annual Averages"]
[]
[]
[]
["NAICS Sectors/Ownership",null,"Number of Reporting Units","Average Number of Workers","Total Annual Wages","Average Annual Wages"]
["Private Ownership Only",null,"not rounded","rounded to tens","rounded to hundreds","rounded to hundreds"]
[null,"AGRICULTURE, FORESTRY, FISHING AND HUNTI",10,50,1663100,33300]
[null,"MINING, QUARRYING, AND OIL AND GAS EXTRA",12,400,34692800,86700]
[null,"UTILITIES",6,270,22991200,85200]
[null,"CONSTRUCTION",178,1080,46761500,43300]
[null,"MANUFACTURING",44,2650,181287400,68400]
[null,"WHOLESALE TRADE",73,310,16641200,53700]
[null,"RETAIL TRADE",130,1620,37607900,23200]
[null,"TRANSPORTATION AND WAREHOUSING",46,380,13585900,35800]
[null,"INFORMATION",9,60,1715500,28600]
[null,"FINANCE AND INSURANCE",63,510,23014400,45100]
[null,"REAL ESTATE AND RENTAL AND LEASING",28,170,4570400,26900]
[null,"PROFESSIONAL AND TECHNICAL SERVICES",115,620,34055300,54900]
[null,"MANAGEMENT OF COMPANIES AND ENTERPRISES",4,10,488200,48800]
[null,"ADMINISTRATIVE AND WASTE SERVICES",60,330,7518300,22800]
[null,"EDUCATIONAL SERVICES",8,110,2213200,20100]
[null,"HEALTH CARE AND SOCIAL ASSISTANCE",112,3110,130792100,42100]
[null,"ARTS, ENTERTAINMENT, AND RECREATION",16,250,5152700,20600]
[null,"ACCOMMODATION AND FOOD SERVICES",65,1050,13390200,12800]
[null,"OTHER SERVICES, EXCEPT PUBLIC ADMIN",98,430,10751300,25000]
[null,"UNCLASSIFIED","Data included in Total UI Covered"]
[]
["Local Government"]
[null,"LOCAL GOVERNMENT",19,2050,66430000,32400]
[null,"EDUCATIONAL SERVICES",1,1450,49691500,34300]
[null,"HEALTH CARE AND SOCIAL ASSISTANCE",0,"0",0,0]
[]
["State Government"]
[null,"STATE GOVERNMENT",12,70,2961800,42300]
[null,"EDUCATIONAL SERVICES",0,"0",0,0]
[null,"HEALTH CARE AND SOCIAL ASSISTANCE",0,"0",0,0]
[]
["Total UI Covered"]
[null,"TOTAL UI COVERED",1107,15510,658287700,42400]
[]
["Federal Government"]
[null,"FEDERAL GOVERNMENT",9,100,5336900,53400]
[]
[]
["*Less than 5 employees unrounded"]
[]
[]
[]
[]
[]
[]
[]
[]
[]
[]
[]
[]
[]
[]
[]
[]
[]
[]
[]
[]
[]
[]
[]
[]
[]
[]
[]
["Telephone:  800-784-0360",null,null,null,"Released ","2015-09-17T13:03:08.350"]

{"sheet":"Washington (175)","index":91,"n_rows":75,"n_cols":6,"rows_kept":75,"cut":false,"hidden":false,"merged":[[27,2,27,5],[0,1,0,5],[1,1,1,5],[2,1,2,5]]}
[null,"UI COVERED EMPLOYMENT"]
[null,"Washington County"]
[null,"2014 Annual Averages"]
[]
[]
[]
["NAICS Sectors/Ownership",null,"Number of Reporting Units","Average Number of Workers","Total Annual Wages","Average Annual Wages"]
["Private Ownership Only",null,"not rounded","rounded to tens","rounded to hundreds","rounded to hundreds"]
[null,"AGRICULTURE, FORESTRY, FISHING AND HUNTI",12,70,2167900,31000]
[null,"MINING, QUARRYING, AND OIL AND GAS EXTRA","Confidential","Confidential","Confidential","Confidential"]
[null,"UTILITIES",4,10,766600,76700]
[null,"CONSTRUCTION",61,270,8648700,32000]
[null,"MANUFACTURING",33,1550,64669900,41700]
[null,"WHOLESALE TRADE",25,110,3854100,35000]
[null,"RETAIL TRADE",70,800,19597700,24500]
[null,"TRANSPORTATION AND WAREHOUSING",21,60,1670700,27800]
[null,"INFORMATION",7,90,2770600,30800]
[null,"FINANCE AND INSURANCE",31,150,6642100,44300]
[null,"REAL ESTATE AND RENTAL AND LEASING",11,40,643900,16100]
[null,"PROFESSIONAL AND TECHNICAL SERVICES",30,110,3161000,28700]
[null,"MANAGEMENT OF COMPANIES AND ENTERPRISES","Confidential","Confidential","Confidential","Confidential"]
[null,"ADMINISTRATIVE AND WASTE SERVICES",11,60,1194200,19900]
[null,"EDUCATIONAL SERVICES",0,"0",0,0]
[null,"HEALTH CARE AND SOCIAL ASSISTANCE",38,670,21759200,32500]
[null,"ARTS, ENTERTAINMENT, AND RECREATION",4,30,324600,10800]
[null,"ACCOMMODATION AND FOOD SERVICES",29,450,5283900,11700]
[null,"OTHER SERVICES, EXCEPT PUBLIC ADMIN",33,170,2550100,15000]
[null,"UNCLASSIFIED","Data included in Total UI Covered"]
[]
["Local Government"]
[null,"LOCAL GOVERNMENT",19,1080,34558300,32000]
[null,"EDUCATIONAL SERVICES",6,790,25438000,32200]
[null,"HEALTH CARE AND SOCIAL ASSISTANCE",1,10,824300,82400]
[]
["State Government"]
[null,"STATE GOVERNMENT",13,50,1862500,37300]
[null,"EDUCATIONAL SERVICES",0,"0",0,0]
[null,"HEALTH CARE AND SOCIAL ASSISTANCE",0,"0",0,0]
[]
["Total UI Covered"]
[null,"TOTAL UI COVERED",451,5760,182748700,31700]
[]
["Federal Government"]
[null,"FEDERAL GOVERNMENT",5,60,2673200,44600]
[]
[]
["*Less than 5 employees unrounded"]
[]
[]
[]
[]
[]
[]
[]
[]
[]
[]
[]
[]
[]
[]
[]
[]
[]
[]
[]
[]
[]
[]
[]
[]
[]
[]
[]
["Telephone:  800-784-0360",null,null,null,"Released ","2015-09-17T13:03:32.070"]

{"sheet":"Wayne (177)","index":92,"n_rows":75,"n_cols":6,"rows_kept":75,"cut":false,"hidden":false,"merged":[[27,2,27,5],[0,1,0,5],[1,1,1,5],[2,1,2,5]]}
[null,"UI COVERED EMPLOYMENT"]
[null,"Wayne County"]
[null,"2014 Annual Averages"]
[]
[]
[]
["NAICS Sectors/Ownership",null,"Number of Reporting Units","Average Number of Workers","Total Annual Wages","Average Annual Wages"]
["Private Ownership Only",null,"not rounded","rounded to tens","rounded to hundreds","rounded to hundreds"]
[null,"AGRICULTURE, FORESTRY, FISHING AND HUNTI",12,200,5739400,28700]
[null,"MINING, QUARRYING, AND OIL AND GAS EXTRA",3,20,721200,36100]
[null,"UTILITIES",4,50,3670600,73400]
[null,"CONSTRUCTION",114,640,24516000,38300]
[null,"MANUFACTURING",113,5510,255868200,46400]
[null,"WHOLESALE TRADE",75,880,40479900,46000]
[null,"RETAIL TRADE",244,4160,97934200,23500]
[null,"TRANSPORTATION AND WAREHOUSING",44,760,34347600,45200]
[null,"INFORMATION",13,240,8017500,33400]
[null,"FINANCE AND INSURANCE",95,880,37394500,42500]
[null,"REAL ESTATE AND RENTAL AND LEASING",49,160,4420200,27600]
[null,"PROFESSIONAL AND TECHNICAL SERVICES",109,490,20179600,41200]
[null,"MANAGEMENT OF COMPANIES AND ENTERPRISES","Confidential","Confidential","Confidential","Confidential"]
[null,"ADMINISTRATIVE AND WASTE SERVICES",65,1670,45038600,27000]
[null,"EDUCATIONAL SERVICES","Confidential","Confidential","Confidential","Confidential"]
[null,"HEALTH CARE AND SOCIAL ASSISTANCE",152,5160,221702300,43000]
[null,"ARTS, ENTERTAINMENT, AND RECREATION",22,170,3056500,18000]
[null,"ACCOMMODATION AND FOOD SERVICES",146,3020,41692200,13800]
[null,"OTHER SERVICES, EXCEPT PUBLIC ADMIN",127,640,14322900,22400]
[null,"UNCLASSIFIED","Data included in Total UI Covered"]
[]
["Local Government"]
[null,"LOCAL GOVERNMENT",28,2810,92817800,33000]
[null,"EDUCATIONAL SERVICES",6,1700,52292400,30800]
[null,"HEALTH CARE AND SOCIAL ASSISTANCE",0,"0",0,0]
[]
["State Government"]
[null,"STATE GOVERNMENT",15,1440,46201900,32100]
[null,"EDUCATIONAL SERVICES",2,880,23924400,27200]
[null,"HEALTH CARE AND SOCIAL ASSISTANCE",1,430,17314100,40300]
[]
["Total UI Covered"]
[null,"TOTAL UI COVERED",1449,29730,1040617200,35000]
[]
["Federal Government"]
[null,"FEDERAL GOVERNMENT",19,160,9100700,56900]
[]
[]
["*Less than 5 employees unrounded"]
[]
[]
[]
[]
[]
[]
[]
[]
[]
[]
[]
[]
[]
[]
[]
[]
[]
[]
[]
[]
[]
[]
[]
[]
[]
[]
[]
["Telephone:  800-784-0360",null,null,null,"Released ","2015-09-17T13:03:53.310"]

{"sheet":"Wells (179)","index":93,"n_rows":75,"n_cols":6,"rows_kept":75,"cut":false,"hidden":false,"merged":[[27,2,27,5],[0,1,0,5],[1,1,1,5],[2,1,2,5]]}
[null,"UI COVERED EMPLOYMENT"]
[null,"Wells County"]
[null,"2014 Annual Averages"]
[]
[]
[]
["NAICS Sectors/Ownership",null,"Number of Reporting Units","Average Number of Workers","Total Annual Wages","Average Annual Wages"]
["Private Ownership Only",null,"not rounded","rounded to tens","rounded to hundreds","rounded to hundreds"]
[null,"AGRICULTURE, FORESTRY, FISHING AND HUNTI",23,160,4618000,28900]
[null,"MINING, QUARRYING, AND OIL AND GAS EXTRA","Confidential","Confidential","Confidential","Confidential"]
[null,"UTILITIES","Confidential","Confidential","Confidential","Confidential"]
[null,"CONSTRUCTION",71,360,13512100,37500]
[null,"MANUFACTURING",54,2530,109323700,43200]
[null,"WHOLESALE TRADE",49,470,27245000,58000]
[null,"RETAIL TRADE",80,1020,22308700,21900]
[null,"TRANSPORTATION AND WAREHOUSING",26,1420,49476300,34800]
[null,"INFORMATION",5,60,1938400,32300]
[null,"FINANCE AND INSURANCE",39,180,7698900,42800]
[null,"REAL ESTATE AND RENTAL AND LEASING",22,190,36013800,189500]
[null,"PROFESSIONAL AND TECHNICAL SERVICES",34,170,6698300,39400]
[null,"MANAGEMENT OF COMPANIES AND ENTERPRISES","Confidential","Confidential","Confidential","Confidential"]
[null,"ADMINISTRATIVE AND WASTE SERVICES",28,370,6599000,17800]
[null,"EDUCATIONAL SERVICES",4,10,265200,26500]
[null,"HEALTH CARE AND SOCIAL ASSISTANCE",45,1610,54739500,34000]
[null,"ARTS, ENTERTAINMENT, AND RECREATION",5,40,350300,8800]
[null,"ACCOMMODATION AND FOOD SERVICES",37,540,5523000,10200]
[null,"OTHER SERVICES, EXCEPT PUBLIC ADMIN",59,270,6190000,22900]
[null,"UNCLASSIFIED","Data included in Total UI Covered"]
[]
["Local Government"]
[null,"LOCAL GOVERNMENT",11,1090,34714500,31800]
[null,"EDUCATIONAL SERVICES",6,730,24212600,33200]
[null,"HEALTH CARE AND SOCIAL ASSISTANCE",0,"0",0,0]
[]
["State Government"]
[null,"STATE GOVERNMENT",12,90,3322900,36900]
[null,"EDUCATIONAL SERVICES",0,"0",0,0]
[null,"HEALTH CARE AND SOCIAL ASSISTANCE",0,"0",0,0]
[]
["Total UI Covered"]
[null,"TOTAL UI COVERED",606,10850,428854000,39500]
[]
["Federal Government"]
[null,"FEDERAL GOVERNMENT",12,60,2584900,43100]
[]
[]
["*Less than 5 employees unrounded"]
[]
[]
[]
[]
[]
[]
[]
[]
[]
[]
[]
[]
[]
[]
[]
[]
[]
[]
[]
[]
[]
[]
[]
[]
[]
[]
[]
["Telephone:  800-784-0360",null,null,null,"Released ","2015-09-17T13:04:22.730"]

{"sheet":"White (181)","index":94,"n_rows":75,"n_cols":6,"rows_kept":75,"cut":false,"hidden":false,"merged":[[27,2,27,5],[0,1,0,5],[1,1,1,5],[2,1,2,5]]}
[null,"UI COVERED EMPLOYMENT"]
[null,"White County"]
[null,"2014 Annual Averages"]
[]
[]
[]
["NAICS Sectors/Ownership",null,"Number of Reporting Units","Average Number of Workers","Total Annual Wages","Average Annual Wages"]
["Private Ownership Only",null,"not rounded","rounded to tens","rounded to hundreds","rounded to hundreds"]
[null,"AGRICULTURE, FORESTRY, FISHING AND HUNTI",31,280,12587600,45000]
[null,"MINING, QUARRYING, AND OIL AND GAS EXTRA","Confidential","Confidential","Confidential","Confidential"]
[null,"UTILITIES",3,100,9039000,90400]
[null,"CONSTRUCTION",75,550,30282600,55100]
[null,"MANUFACTURING",48,2540,107318600,42300]
[null,"WHOLESALE TRADE",42,390,16379200,42000]
[null,"RETAIL TRADE",86,1120,32436000,29000]
[null,"TRANSPORTATION AND WAREHOUSING",54,260,9521200,36600]
[null,"INFORMATION",11,60,2579700,43000]
[null,"FINANCE AND INSURANCE",39,200,8094200,40500]
[null,"REAL ESTATE AND RENTAL AND LEASING",20,40,779100,19500]
[null,"PROFESSIONAL AND TECHNICAL SERVICES",36,110,4812200,43700]
[null,"MANAGEMENT OF COMPANIES AND ENTERPRISES","Confidential","Confidential","Confidential","Confidential"]
[null,"ADMINISTRATIVE AND WASTE SERVICES",29,350,8610000,24600]
[null,"EDUCATIONAL SERVICES","Confidential","Confidential","Confidential","Confidential"]
[null,"HEALTH CARE AND SOCIAL ASSISTANCE",37,800,23157700,28900]
[null,"ARTS, ENTERTAINMENT, AND RECREATION","Confidential","Confidential","Confidential","Confidential"]
[null,"ACCOMMODATION AND FOOD SERVICES",57,600,6473300,10800]
[null,"OTHER SERVICES, EXCEPT PUBLIC ADMIN",41,140,3024100,21600]
[null,"UNCLASSIFIED","Data included in Total UI Covered"]
[]
["Local Government"]
[null,"LOCAL GOVERNMENT",25,1320,35324200,26800]
[null,"EDUCATIONAL SERVICES",8,840,23801000,28300]
[null,"HEALTH CARE AND SOCIAL ASSISTANCE",0,"0",0,0]
[]
["State Government"]
[null,"STATE GOVERNMENT",13,50,1775600,35500]
[null,"EDUCATIONAL SERVICES",0,"0",0,0]
[null,"HEALTH CARE AND SOCIAL ASSISTANCE",0,"0",0,0]
[]
["Total UI Covered"]
[null,"TOTAL UI COVERED",658,9230,320734500,34700]
[]
["Federal Government"]
[null,"FEDERAL GOVERNMENT",11,60,2388100,39800]
[]
[]
["*Less than 5 employees unrounded"]
[]
[]
[]
[]
[]
[]
[]
[]
[]
[]
[]
[]
[]
[]
[]
[]
[]
[]
[]
[]
[]
[]
[]
[]
[]
[]
[]
["Telephone:  800-784-0360",null,null,null,"Released ","2015-09-17T13:04:49.540"]

{"sheet":"Whitley (183)","index":95,"n_rows":75,"n_cols":6,"rows_kept":75,"cut":false,"hidden":false,"merged":[[27,2,27,5],[0,1,0,5],[1,1,1,5],[2,1,2,5]]}
[null,"UI COVERED EMPLOYMENT"]
[null,"Whitley County"]
[null,"2014 Annual Averages"]
[]
[]
[]
["NAICS Sectors/Ownership",null,"Number of Reporting Units","Average Number of Workers","Total Annual Wages","Average Annual Wages"]
["Private Ownership Only",null,"not rounded","rounded to tens","rounded to hundreds","rounded to hundreds"]
[null,"AGRICULTURE, FORESTRY, FISHING AND HUNTI",11,70,1659700,23700]
[null,"MINING, QUARRYING, AND OIL AND GAS EXTRA",0,"0",0,0]
[null,"UTILITIES","Confidential","Confidential","Confidential","Confidential"]
[null,"CONSTRUCTION",76,540,23215400,43000]
[null,"MANUFACTURING",66,4600,226936100,49300]
[null,"WHOLESALE TRADE",46,450,22006800,48900]
[null,"RETAIL TRADE",94,1070,26868800,25100]
[null,"TRANSPORTATION AND WAREHOUSING",24,200,8191400,41000]
[null,"INFORMATION",10,100,3344000,33400]
[null,"FINANCE AND INSURANCE",44,180,7922500,44000]
[null,"REAL ESTATE AND RENTAL AND LEASING",19,70,2824100,40300]
[null,"PROFESSIONAL AND TECHNICAL SERVICES",45,160,5977000,37400]
[null,"MANAGEMENT OF COMPANIES AND ENTERPRISES",3,80,4042100,50500]
[null,"ADMINISTRATIVE AND WASTE SERVICES",39,330,7727200,23400]
[null,"EDUCATIONAL SERVICES",4,10,195000,19500]
[null,"HEALTH CARE AND SOCIAL ASSISTANCE",47,1000,30488900,30500]
[null,"ARTS, ENTERTAINMENT, AND RECREATION",12,90,1070700,11900]
[null,"ACCOMMODATION AND FOOD SERVICES",53,860,9430700,11000]
[null,"OTHER SERVICES, EXCEPT PUBLIC ADMIN",73,470,10958200,23300]
[null,"UNCLASSIFIED","Data included in Total UI Covered"]
[]
["Local Government"]
[null,"LOCAL GOVERNMENT",17,1300,41384100,31800]
[null,"EDUCATIONAL SERVICES",5,870,28069500,32300]
[null,"HEALTH CARE AND SOCIAL ASSISTANCE",0,"0",0,0]
[]
["State Government"]
[null,"STATE GOVERNMENT",12,70,2635200,37600]
[null,"EDUCATIONAL SERVICES",0,"0",0,0]
[null,"HEALTH CARE AND SOCIAL ASSISTANCE",0,"0",0,0]
[]
["Total UI Covered"]
[null,"TOTAL UI COVERED",695,11700,442130100,37800]
[]
["Federal Government"]
[null,"FEDERAL GOVERNMENT",7,70,3506100,50100]
[]
[]
["*Less than 5 employees unrounded"]
[]
[]
[]
[]
[]
[]
[]
[]
[]
[]
[]
[]
[]
[]
[]
[]
[]
[]
[]
[]
[]
[]
[]
[]
[]
[]
[]
["Telephone:  800-784-0360",null,null,null,"Released ","2015-09-17T13:05:20.010"]

{"sheet":"Not classified (999)","index":96,"n_rows":75,"n_cols":6,"rows_kept":75,"cut":false,"hidden":false,"merged":[[27,2,27,5],[0,1,0,5],[1,1,1,5],[2,1,2,5]]}
[null,"UI COVERED EMPLOYMENT"]
[null,"Not Classified"]
[null,"2014 Annual Averages"]
[]
[]
[]
["NAICS Sectors/Ownership",null,"Number of Reporting Units","Average Number of Workers","Total Annual Wages","Average Annual Wages"]
["Private Ownership Only",null,"not rounded","rounded to tens","rounded to hundreds","rounded to hundreds"]
[null,"AGRICULTURE, FORESTRY, FISHING AND HUNTI",19,110,6907300,62800]
[null,"MINING, QUARRYING, AND OIL AND GAS EXTRA",18,50,3383500,67700]
[null,"UTILITIES",13,20,2400500,120000]
[null,"CONSTRUCTION",890,4570,311342500,68100]
[null,"MANUFACTURING",72,440,23855500,54200]
[null,"WHOLESALE TRADE",3745,11210,1038867500,92700]
[null,"RETAIL TRADE",234,2500,106965400,42800]
[null,"TRANSPORTATION AND WAREHOUSING",354,1850,89671200,48500]
[null,"INFORMATION",361,1170,99612700,85100]
[null,"FINANCE AND INSURANCE",660,2860,263725500,92200]
[null,"REAL ESTATE AND RENTAL AND LEASING",167,600,27142400,45200]
[null,"PROFESSIONAL AND TECHNICAL SERVICES",3070,10310,648392400,62900]
[null,"MANAGEMENT OF COMPANIES AND ENTERPRISES",202,1300,99340600,76400]
[null,"ADMINISTRATIVE AND WASTE SERVICES",1420,12430,391643400,31500]
[null,"EDUCATIONAL SERVICES",214,860,40315500,46900]
[null,"HEALTH CARE AND SOCIAL ASSISTANCE",324,9520,355207500,37300]
[null,"ARTS, ENTERTAINMENT, AND RECREATION",118,270,12621900,46700]
[null,"ACCOMMODATION AND FOOD SERVICES",100,1730,36773600,21300]
[null,"OTHER SERVICES, EXCEPT PUBLIC ADMIN",385,1470,65089200,44300]
[null,"Unclassified","Data included in Total UI Covered"]
[]
["Local Government"]
[null,"LOCAL GOVERNMENT",1,"*",202400,"*"]
[null,"EDUCATIONAL SERVICES",1,"*",202400,"*"]
[null,"HEALTH CARE AND SOCIAL ASSISTANCE",0,"0",0,0]
[]
["State Government"]
[null,"STATE GOVERNMENT",10,160,10269600,64200]
[null,"EDUCATIONAL SERVICES",5,10,188000,18800]
[null,"HEALTH CARE AND SOCIAL ASSISTANCE",0,"0",0,0]
[]
["Total UI Covered"]
[null,"TOTAL UI COVERED",13764,63380,3633869300,57300]
[]
["Federal Government"]
[null,"FEDERAL GOVERNMENT",25,250,17711600,70800]
[]
[]
["*Less than 5 employees unrounded"]
[]
[]
[]
[]
[]
[]
[]
[]
[]
[]
[]
[]
[]
[]
[]
[]
[]
[]
[]
[]
[]
[]
[]
[]
[]
[]
[]
["Telephone:  800-784-0360",null,null,null,"Released ","2015-09-17T13:05:39.710"]